BEGIN:VCALENDAR
VERSION:2.0
PRODID:-//Ayuntamiento de Mieres - ECPv5.16.1.1//NONSGML v1.0//EN
CALSCALE:GREGORIAN
METHOD:PUBLISH
X-WR-CALNAME:Ayuntamiento de Mieres
X-ORIGINAL-URL:https://www.mieres.es
X-WR-CALDESC:Eventos para Ayuntamiento de Mieres
BEGIN:VTIMEZONE
TZID:Europe/Madrid
BEGIN:DAYLIGHT
TZOFFSETFROM:+0100
TZOFFSETTO:+0200
TZNAME:CEST
DTSTART:20260329T010000
END:DAYLIGHT
BEGIN:STANDARD
TZOFFSETFROM:+0200
TZOFFSETTO:+0100
TZNAME:CET
DTSTART:20261025T010000
END:STANDARD
END:VTIMEZONE
BEGIN:VEVENT
DTSTART;TZID=Europe/Madrid:20260330T103000
DTEND;TZID=Europe/Madrid:20260330T103000
DTSTAMP:20260425T015511
CREATED:20260310T120309Z
LAST-MODIFIED:20260310T120309Z
UID:78033-1774866600-1774866600@www.mieres.es
SUMMARY:Programa "Mieres contigo". Caminando contra la soledad: Ruta Los Pioneros de Mieres
DESCRIPTION:Programa contra la soledad no deseada\nMieres contigo \n\nCaminando contra la soledad\nRuta Los Pioneros de Mieres\n\n¿En qué consiste?\nRutas semanales por Mieres para caminar juntos\, sentirse mejor y conocer a otras personas con las que compartir el camino.\n¿Qué tengo que llevar?\nRopa cómoda\, calzado adecuado\, una botella de agua. \n  \nLunes\, 30 de marzo de 2026. De 10:30 a 12:00h. \n\n\nSalida: Estación de RENFE Mieres-Puente\nLlegada: Estación de RENFE Mieres-Puente\n \nActividad gratuita. Inscripciones a través del tfno 618.461.610 o del correo electrónico bosquemagicoeh@gmail.com
URL:https://www.mieres.es/evento/programa-mieres-contigo-caminando-contra-la-soledad-ruta-los-pioneros-de-mieres/
LOCATION:Estación RENFE
CATEGORIES:Bienestar Social,Ruta Cultural,Salud
ATTACH;FMTTYPE=image/jpeg:https://www.mieres.es/wp-content/uploads/2026/03/Cartel-Caminando-contra-la-soledad_2026.jpg
END:VEVENT
END:VCALENDAR