BEGIN:VCALENDAR
VERSION:2.0
PRODID:-//Ayuntamiento de Mieres - ECPv5.16.1.1//NONSGML v1.0//EN
CALSCALE:GREGORIAN
METHOD:PUBLISH
X-WR-CALNAME:Ayuntamiento de Mieres
X-ORIGINAL-URL:https://www.mieres.es
X-WR-CALDESC:Eventos para Ayuntamiento de Mieres
BEGIN:VTIMEZONE
TZID:Europe/Madrid
BEGIN:DAYLIGHT
TZOFFSETFROM:+0100
TZOFFSETTO:+0200
TZNAME:CEST
DTSTART:20260329T010000
END:DAYLIGHT
BEGIN:STANDARD
TZOFFSETFROM:+0200
TZOFFSETTO:+0100
TZNAME:CET
DTSTART:20261025T010000
END:STANDARD
END:VTIMEZONE
BEGIN:VEVENT
DTSTART;TZID=Europe/Madrid:20260619T090000
DTEND;TZID=Europe/Madrid:20260619T113000
DTSTAMP:20260425T201424
CREATED:20260423T113837Z
LAST-MODIFIED:20260423T124630Z
UID:78603-1781859600-1781868600@www.mieres.es
SUMMARY:Programa "Mieres contigo". Caminando contra la soledad: Ruta Subiendo a los Mártires
DESCRIPTION:Programa contra la soledad no deseada\nMieres contigo \n\nCaminando contra la soledad\nRuta Subiendo a los Mártires\nViernes\, 19 de junio de 2026. De 9:00 a 11:30h. \n\n\nSalida: Parada de tren RENFE Santuyano\n*Desde Mieres: Tren RENFE en Mieres-Puente 8:57 (5 min)\nLlegada: Parada de tren RENFE Santuyano\n*Vuelta a Mieres: Tren RENFE Parada Santuyano 11:08 (3 min) \nActividad gratuita\nInscripciones a través del tfno 618.461.610 o del correo electrónico bosquemagicoeh@gmail.com \n  \n¿En qué consiste?\nRutas semanales por Mieres para caminar juntos\, sentirse mejor y conocer a otras personas con las que compartir el camino.\n¿Qué tengo que llevar?\nRopa cómoda\, calzado adecuado y botella de agua. \n\n\n\n\n \n  \n 
URL:https://www.mieres.es/evento/programa-mieres-contigo-caminando-contra-la-soledad-ruta-vega-de-san-pedro/
LOCATION:Valle de Cuna y Cenera\, Valdecuna\, Mieres\, Asturias
CATEGORIES:Bienestar Social,Ruta Cultural,Salud
ATTACH;FMTTYPE=image/jpeg:https://www.mieres.es/wp-content/uploads/2026/04/banner-rutas-soledad-mayo-junio-2026.jpg
END:VEVENT
END:VCALENDAR