BEGIN:VCALENDAR
VERSION:2.0
PRODID:-//Ayuntamiento de Mieres - ECPv5.16.1.1//NONSGML v1.0//EN
CALSCALE:GREGORIAN
METHOD:PUBLISH
X-WR-CALNAME:Ayuntamiento de Mieres
X-ORIGINAL-URL:https://www.mieres.es
X-WR-CALDESC:Eventos para Ayuntamiento de Mieres
BEGIN:VTIMEZONE
TZID:Europe/Madrid
BEGIN:DAYLIGHT
TZOFFSETFROM:+0100
TZOFFSETTO:+0200
TZNAME:CEST
DTSTART:20250330T010000
END:DAYLIGHT
BEGIN:STANDARD
TZOFFSETFROM:+0200
TZOFFSETTO:+0100
TZNAME:CET
DTSTART:20251026T010000
END:STANDARD
END:VTIMEZONE
BEGIN:VEVENT
DTSTART;TZID=Europe/Madrid:20250411T190000
DTEND;TZID=Europe/Madrid:20250411T190000
DTSTAMP:20260421T184723
CREATED:20250403T094906Z
LAST-MODIFIED:20250403T094906Z
UID:73539-1744398000-1744398000@www.mieres.es
SUMMARY:Proyección de cortometrajes sobre Memoria Democrática
DESCRIPTION:Cine y Memoria democrática \n\nProyección de cortometrajes sobre Memoria Democrática\n\nProyección de los cortometrajes: \n\nStanbrook\, de Óscar Bernácer\nEsculpiendo la memoria\, de Rubén Seca\nLa mujer del hatillo gris\, de Luis Trapiello\nCunetas\, de Pau Teixidor\n\nPresentados por Paco España\, realizador y crítico de cine.\nColectivo Gelsomina \n\n  \nViernes\, 11 de abril\, 19:00h. \n\nAuditoriu Teodoro Cuesta\nEntrada gratuita hasta completar aforo \n\n\n\n\n  \n 
URL:https://www.mieres.es/evento/proyeccion-de-cortometrajes-sobre-memoria-democratica/
LOCATION:Casa de Cultura Teodoro Cuesta\, Calle Manuel Llaneza\, 8\, Mieres\, Asturias\, 33600\, España
CATEGORIES:Cine,Memoria Democrática
ATTACH;FMTTYPE=image/jpeg:https://www.mieres.es/wp-content/uploads/2025/04/Cartel-web-documentales-MEMORIA-DEMOCRATICA-2025.jpg
GEO:43.2502294;-5.7729571
X-APPLE-STRUCTURED-LOCATION;VALUE=URI;X-ADDRESS=Casa de Cultura Teodoro Cuesta Calle Manuel Llaneza 8 Mieres Asturias 33600 España;X-APPLE-RADIUS=500;X-TITLE=Calle Manuel Llaneza\, 8:geo:-5.7729571,43.2502294
END:VEVENT
END:VCALENDAR