BEGIN:VCALENDAR
VERSION:2.0
PRODID:-//Ayuntamiento de Mieres - ECPv5.16.1.1//NONSGML v1.0//EN
CALSCALE:GREGORIAN
METHOD:PUBLISH
X-WR-CALNAME:Ayuntamiento de Mieres
X-ORIGINAL-URL:https://www.mieres.es
X-WR-CALDESC:Eventos para Ayuntamiento de Mieres
BEGIN:VTIMEZONE
TZID:Europe/Madrid
BEGIN:DAYLIGHT
TZOFFSETFROM:+0100
TZOFFSETTO:+0200
TZNAME:CEST
DTSTART:20250330T010000
END:DAYLIGHT
BEGIN:STANDARD
TZOFFSETFROM:+0200
TZOFFSETTO:+0100
TZNAME:CET
DTSTART:20251026T010000
END:STANDARD
END:VTIMEZONE
BEGIN:VEVENT
DTSTART;TZID=Europe/Madrid:20250912T193000
DTEND;TZID=Europe/Madrid:20250912T193000
DTSTAMP:20260421T081952
CREATED:20250910T120143Z
LAST-MODIFIED:20250910T120143Z
UID:75510-1757705400-1757705400@www.mieres.es
SUMMARY:Proyección de la película "Golpe a golpe"\, de Emilio Ruiz Barrachina
DESCRIPTION:Proyección de la película documental: \n\n“Golpe a golpe”\nde Emilio Ruiz Barrachina\n\nEn el marco de la exposición 600 AÑOS: UNA HISTORIA COMPARTIDA  \nViernes\, 12 de septiembre\, 19:30h. \n\nAuditoriu Teodoro Cuesta\nEntrada libre hasta completar aforo \n\n\n\n\n  \nGolpe a golpe\nAño: 2024\nDuración: 89 min.\nPaís: España España \nDirección: Emilio Ruiz Barrachina\nGuion: Emilio Ruiz Barrachina\nMúsica: Francisco Luque\, Javier Santos Ocampo\nFotografía: Benito Sierra \nDocumental | Boxeo \nReparto\nSara Montoya Vidal\, Miguelo García\, Rebecca Arrosse\, Graciela Mier\, Yolanda Pardo\, Ruby García Fernández \nSinopsis\nSara Montoya va cada día a buscar a su hermano menor al gimnasio. Un buen día decide entrar en el ring y probar a ponerse los guantes. Desde entonces tiene una vida dedicada al deporte\, un deporte eminentemente masculino\, en el que debe luchar\, además de con el rival\, con su familia\, con la sociedad y consigo misma. Mujer\, gitana y boxeadora\, son cualidades que la llenan de orgullo pero que no han facilitado su vida. \n  \nEn el marco de la EXPOSICIÓN 600 AÑOS: UNA HISTORIA COMPARTIDA  \nCon motivo de la celebración de los 600 años de la llegada del Pueblo Gitano a la Península y la declaración del año 2025 como Año del Pueblo Gitano\, se quiere mostrar esta exposición como conmemoración y muestra no solo de los acontecimientos históricos más relevantes sino también aquellos elementos culturales característicos del pueblo gitano.   \nDe esta manera no solo se da a conocer aspectos propios sino muchas de las aportaciones culturales que la comunidad gitana ha aportado a la construcción de la historia y cultura española general.  
URL:https://www.mieres.es/evento/proyeccion-de-la-pelicula-golpe-a-golpe-de-emilio-ruiz-barrachina/
LOCATION:Casa de Cultura Teodoro Cuesta\, Calle Manuel Llaneza\, 8\, Mieres\, Asturias\, 33600\, España
CATEGORIES:Cine
ATTACH;FMTTYPE=image/jpeg:https://www.mieres.es/wp-content/uploads/2025/09/CARTELpeli-golpe-golpe.jpg
GEO:43.2502294;-5.7729571
X-APPLE-STRUCTURED-LOCATION;VALUE=URI;X-ADDRESS=Casa de Cultura Teodoro Cuesta Calle Manuel Llaneza 8 Mieres Asturias 33600 España;X-APPLE-RADIUS=500;X-TITLE=Calle Manuel Llaneza\, 8:geo:-5.7729571,43.2502294
END:VEVENT
END:VCALENDAR