BEGIN:VCALENDAR
VERSION:2.0
PRODID:-//Ayuntamiento de Mieres - ECPv5.16.1.1//NONSGML v1.0//EN
CALSCALE:GREGORIAN
METHOD:PUBLISH
X-WR-CALNAME:Ayuntamiento de Mieres
X-ORIGINAL-URL:https://www.mieres.es
X-WR-CALDESC:Eventos para Ayuntamiento de Mieres
BEGIN:VTIMEZONE
TZID:Europe/Madrid
BEGIN:DAYLIGHT
TZOFFSETFROM:+0100
TZOFFSETTO:+0200
TZNAME:CEST
DTSTART:20250330T010000
END:DAYLIGHT
BEGIN:STANDARD
TZOFFSETFROM:+0200
TZOFFSETTO:+0100
TZNAME:CET
DTSTART:20251026T010000
END:STANDARD
END:VTIMEZONE
BEGIN:VEVENT
DTSTART;TZID=Europe/Madrid:20250220T190000
DTEND;TZID=Europe/Madrid:20250220T190000
DTSTAMP:20260421T120515
CREATED:20250210T094215Z
LAST-MODIFIED:20250210T095433Z
UID:72738-1740078000-1740078000@www.mieres.es
SUMMARY:Proyección del documental "Socialicido"\, de Daniel Lovi. Coloquio con su director.
DESCRIPTION:Proyección de la película documental: \n\nSocialicido.\nEl suicidio en las Cuencas Mineras asturianas\nde Daniel Lovi\n\nCharla-coloquio con la participación de su director\, Daniel Lovi \n  \nJueves\, 20 de febrero\, 19:00h. \n\nSalón de actos de la Casa de Cultura Teodoro Cuesta\nEntrada libre hasta completar aforo \n\n\n\n\n  \nSocialicidio es un largo documental que\, junto con la parte fotográfica La Muerte Silenciada\, ahonda y profundiza en la problemática del suicidio en los territorios de las cuencas mineras asturianas. A través de la vivencia de 4 personas protagonistas supervivientes por suicidio y sobrevivientes\, y múltiples personas expertas en diferentes áreas\, se plantea un análisis del porqué esta situación lleva ocurriendo décadas y no hay un cambio o mejoría\, así como reflexiones de qué sería necesario para revertir esta situación. \nLos testimonios desgarradores que\, en primera persona\, ofrecen varios asturianos que han salido del pozo o luchan aún por sobrevivir a sus intentos de suicidio se complementan con los puntos de vista\, entre otros\, de profesionales médicos\, psicólogos\, psiquiatras\, policías\, filósofos\, profesores y representantes de asociaciones como Hierbabuena\, Afesa Caudal o Abrazos Verdes. \nSus principales protagonistas son el mierense Jesús Rodríguez\, la allerana María Rosa Martínez y los lenenses Alfonso García y José Ramón García. No son actores\, ni actrices\, ni han tenido que aprenderse un guion\, porque cuentan su historia de vida y los motivos que les llevó a intentar acabar con su sufrimiento. \n 
URL:https://www.mieres.es/evento/proyeccion-del-documental-socialicido-de-daniel-lovi-coloquio-con-su-director/
LOCATION:Casa de Cultura Teodoro Cuesta\, Calle Manuel Llaneza\, 8\, Mieres\, Asturias\, 33600\, España
CATEGORIES:Cine,Salud
ATTACH;FMTTYPE=image/jpeg:https://www.mieres.es/wp-content/uploads/2025/02/SOCIALICIDIO-BANNER-presentacion-mieres-scaled.jpg
GEO:43.2502294;-5.7729571
X-APPLE-STRUCTURED-LOCATION;VALUE=URI;X-ADDRESS=Casa de Cultura Teodoro Cuesta Calle Manuel Llaneza 8 Mieres Asturias 33600 España;X-APPLE-RADIUS=500;X-TITLE=Calle Manuel Llaneza\, 8:geo:-5.7729571,43.2502294
END:VEVENT
END:VCALENDAR