BEGIN:VCALENDAR
VERSION:2.0
PRODID:-//Ayuntamiento de Mieres - ECPv5.16.1.1//NONSGML v1.0//EN
CALSCALE:GREGORIAN
METHOD:PUBLISH
X-WR-CALNAME:Ayuntamiento de Mieres
X-ORIGINAL-URL:https://www.mieres.es
X-WR-CALDESC:Eventos para Ayuntamiento de Mieres
BEGIN:VTIMEZONE
TZID:Europe/Madrid
BEGIN:DAYLIGHT
TZOFFSETFROM:+0100
TZOFFSETTO:+0200
TZNAME:CEST
DTSTART:20240331T010000
END:DAYLIGHT
BEGIN:STANDARD
TZOFFSETFROM:+0200
TZOFFSETTO:+0100
TZNAME:CET
DTSTART:20241027T010000
END:STANDARD
END:VTIMEZONE
BEGIN:VEVENT
DTSTART;TZID=Europe/Madrid:20241129T200000
DTEND;TZID=Europe/Madrid:20241129T200000
DTSTAMP:20260421T013003
CREATED:20241023T104840Z
LAST-MODIFIED:20241126T094455Z
UID:71345-1732910400-1732910400@www.mieres.es
SUMMARY:"Quiero ser artista"\, de Cía. Teatro Santa Bárbara
DESCRIPTION:Teatro \nQuiero ser artista\nde Cía. Teatro Santa Bárbara\n \n  \nViernes\, 29 de noviembre\, 20:00h. \nAuditoriu Teodoro Cuesta \nEntrada 5€ \n\n  \nGÉNERO: Comedia\nAUTOR: Carmen Campo\nDIRECCIÓN: Carmen Campo\nELENCO: Susana Blanco\, Sara Palacio\, Carmen Campo\, Diana Suárez\, Luis Barrera\, Javier Valle\, Inés Avello\, Álvaro Vázquez\, Bruno Pérez\, Cristina Busto\, Isabel Ojeda y Jose Antonio Valle.\nDURACIÓN APROXIMADA: 90 min \n  \nSINOPSIS: \nNo hai nada como perseguir suaños e illusiones y eso mesmo fizo Nela\, llanzose a la aventura\, dexolo too atrás y tiró pa Madriz\, llevando con ella la so hermana Delia. ¡La moza\, quier ser artista! Fácil non va ser… Pero una Obra que tien un paralelísmu y ye mui semeyable a les sos vides\, ponles n’el camín esperau. Ante elles desfilen los personaxes más variopintos que faen que s’aficionen entovía más al artisteo… ¿Llograranlo? Ya lo dixo Calderón…  Que los suaños\, suaños son. \n \n  \n  \n 
URL:https://www.mieres.es/evento/quiero-ser-artista-de-cia-teatro-santa-barbara/
LOCATION:Casa de Cultura Teodoro Cuesta\, Calle Manuel Llaneza\, 8\, Mieres\, Asturias\, 33600\, España
CATEGORIES:Teatro
ATTACH;FMTTYPE=image/jpeg:https://www.mieres.es/wp-content/uploads/2024/10/quiero-sr-artista-teatro-sta-barbara.jpg
GEO:43.2502294;-5.7729571
X-APPLE-STRUCTURED-LOCATION;VALUE=URI;X-ADDRESS=Casa de Cultura Teodoro Cuesta Calle Manuel Llaneza 8 Mieres Asturias 33600 España;X-APPLE-RADIUS=500;X-TITLE=Calle Manuel Llaneza\, 8:geo:-5.7729571,43.2502294
END:VEVENT
END:VCALENDAR