BEGIN:VCALENDAR
VERSION:2.0
PRODID:-//Ayuntamiento de Mieres - ECPv5.16.1.1//NONSGML v1.0//EN
CALSCALE:GREGORIAN
METHOD:PUBLISH
X-WR-CALNAME:Ayuntamiento de Mieres
X-ORIGINAL-URL:https://www.mieres.es
X-WR-CALDESC:Eventos para Ayuntamiento de Mieres
BEGIN:VTIMEZONE
TZID:Europe/Madrid
BEGIN:DAYLIGHT
TZOFFSETFROM:+0100
TZOFFSETTO:+0200
TZNAME:CEST
DTSTART:20250330T010000
END:DAYLIGHT
BEGIN:STANDARD
TZOFFSETFROM:+0200
TZOFFSETTO:+0100
TZNAME:CET
DTSTART:20251026T010000
END:STANDARD
END:VTIMEZONE
BEGIN:VEVENT
DTSTART;TZID=Europe/Madrid:20250831T100000
DTEND;TZID=Europe/Madrid:20250831T100000
DTSTAMP:20260421T064621
CREATED:20250702T122806Z
LAST-MODIFIED:20250702T122806Z
UID:74983-1756634400-1756634400@www.mieres.es
SUMMARY:Rutas Turísticas 2025: "Ruta de senderismo guiada por la Senda Verde del Valle de Turón" (31AGO)
DESCRIPTION:RUTAS TURÍSTICAS GRATUITAS 2025\nEste verano DISFRUTA MIERES\n  \nRUTA DE SENDERISMO GUIADA POR LA SENDA VERDE DEL VALE DE TURÓN\nRuta de senderismo guiada\, que parte desde el Alto de la Col.ladiel.la\, en pleno corazón del Paisaje Protegido de las Cuencas Mineras\, que te adentrará en plena naturaleza y te permitirá disfrutar de maravillosas panorámicas\, a la vez que descubrirás parte del pasado minero de la zona a través de los elementos de patrimonio industrial presentes en este tramo de la senda verde del Valle de Turón. \n  \nDETALLES DE LA ACTIVIDAD \n\nFecha: sábado 26 de julio y domingo 31 de agosto.\nHora: 10:00 h\nPunto de encuentro: Pozu Santa Bárbara (La Rebaldana\, Turón).\nEnlace Google maps: https://maps.app.goo.gl/t651ti6S2gNd8NXMA\nDuración aproximada: 4 h 30 min\nEdad mínima de los participantes: 10 años\nItinerario: Alto de la Col.ladiel.la – El Mosquil – La Molinera – Puente de Arnizo – Pozu Fortuna – Villandio – Santandrés – Pozu Santa Bárbara\nDistancia del recorrido: 15\,8 km\nDesnivel positivo: 0 m\nDesnivel negativo: 507 m\nDificultad: moderada\nServicios incluidos: guía de montaña en español. Traslado en autobús desde el Pozu Santa Bárbara hasta el Alto de la Col.ladiel.la (punto de inicio de la ruta).\nServicios no incluidos: traslados al punto de encuentro.\nAccesibilidad: esta ruta no es accesible para personas con movilidad reducida.\nMaterial necesario: ropa y calzado de montaña (obligatorio); agua.\nMaterial recomendable: chubasquero o cortavientos\, gorra\, gafas de sol y protección solar.\nCuándo reservar: puedes hacerlo hasta 48 horas antes de la actividad\, siempre y cuando haya plazas disponibles.\nMascotas: no permitidas.\nEsta actividad necesita un mínimo de 5 participantes. En caso de no alcanzar ese número\, nos pondremos en contacto contigo para comunicártelo.\n\n  \nRESERVAS \nPlazas limitadas. Imprescindible formalizar reserva previa con 48 horas de antelación a la actividad. \nLa reserva se realizará a través del formulario online disponible en esta misma web\, más abajo. Unos días antes de la actividad le enviaremos un mensaje de confirmación para informarle de todos los detalles de la ruta. \n  \nCANCELACIONES \nPara cancelar la reserva realizada será necesario contactar con la Oficina de Turismo de Mieres a través de cualquiera de los siguientes medios: \n\nTfno.: 985 45 05 33\nE-mail: turismo@ayto-mieres.es\nWhastApp: https://wa.me/message/7WTB3WTX46UYE1\n\nLas plazas son limitadas y se habilitan listas de espera para suplir posibles cancelaciones\, motivo por el cual\, en el caso de que no puedan asistir a la ruta\, rogamos nos lo comuniquen con antelación para poder asignar las plazas a las personas que se encuentran en lista de espera. \nMás información: Oficina de Turismo de Mieres\, C/Manuel Llaneza\, 8. Tfno. 985450533. E-mail turismo@ayto-mieres.es \n\n  \nRutas Turísticas 2025 \nLa Concejalía de Turismo del Ayuntamiento de Mieres pone en marcha una nueva edición del programa “Este verano\, DISFRUTA MIERES”\, una iniciativa que el pasado año obtuvo una gran respuesta por parte de la ciudadanía\, con más de 500 personas participantes –la gran mayoría de otras comunidades autónomas y también visitantes internacionales y de Asturias– en las citas organizadas\, y que este año llega con novedades: más visitas y rutas guiadas\, una ruta de la Revolución de Octubre del 34 y una visita monográfica al Santuario de los Mártires\, además de ampliar las salidas del bus turístico\, que hará su recorrido todos los domingos de julio y agosto.\nGeorrutas\, rutas etnográficas\, cicloturistas\, senderistas\, visitas guiadas… De todo y para todos los gustos y públicos en una programación que se alargará durante todo el verano.\nTodas las actividades son gratuitas y para participar\, puesto que las plazas son limitadas\, será necesario formalizar reserva previa en los formularios online ofrecidos en cada una de las citas de nuestra agenda. \nConsulta y descarga el programa completo aquí \n  \n\n  \n \nCargando… 
URL:https://www.mieres.es/evento/rutas-turisticas-2025-ruta-de-senderismo-guiada-por-la-senda-verde-del-valle-de-turon-31ago/
LOCATION:Pozu Santa Bárbara\, La Rebaldana AS-337\, 19
CATEGORIES:Ruta Turística,Turismo
ATTACH;FMTTYPE=image/jpeg:https://www.mieres.es/wp-content/uploads/2025/07/CARTEL_rutasTuristicasMieres25.jpg
ORGANIZER;CN="Concejal%C3%ADa%20de%20Turismo":MAILTO:turismo@ayto-mieres.es
END:VEVENT
END:VCALENDAR