BEGIN:VCALENDAR
VERSION:2.0
PRODID:-//Ayuntamiento de Mieres - ECPv5.16.1.1//NONSGML v1.0//EN
CALSCALE:GREGORIAN
METHOD:PUBLISH
X-WR-CALNAME:Ayuntamiento de Mieres
X-ORIGINAL-URL:https://www.mieres.es
X-WR-CALDESC:Eventos para Ayuntamiento de Mieres
BEGIN:VTIMEZONE
TZID:Europe/Madrid
BEGIN:DAYLIGHT
TZOFFSETFROM:+0100
TZOFFSETTO:+0200
TZNAME:CEST
DTSTART:20220327T010000
END:DAYLIGHT
BEGIN:STANDARD
TZOFFSETFROM:+0200
TZOFFSETTO:+0100
TZNAME:CET
DTSTART:20221030T010000
END:STANDARD
END:VTIMEZONE
BEGIN:VEVENT
DTSTART;TZID=Europe/Madrid:20220807T103000
DTEND;TZID=Europe/Madrid:20220807T130000
DTSTAMP:20260424T051038
CREATED:20220628T061827Z
LAST-MODIFIED:20220628T061827Z
UID:58077-1659868200-1659877200@www.mieres.es
SUMMARY:Rutes Turístiques 2022: "Antigua trinchera del Pozu Peñón"\, con Tomás Argüelles
DESCRIPTION:RUTES TURÍSTIQUES 2022\n\nAntigua trinchera del Pozu Peñón\ncon Tomás Argüelles\nItinerario: Plaza de San Xuan – Bocamina La Isabela – Baltasara – Returbiu \nDomingo 7 de agosto \n  \nDuración aproximada: 3 horas\nDistancia aproximada: 7.000m\nDificultad: baja\nSalida: 10:30h\, frente a la iglesia de San Xuan\, Mieres.\nRegreso: 13:30h\, frente a la iglesia de San Xuan\, Mieres.\nAforo: 25 personas \nSe recomienda llevar ropa y calzado cómodo. \nInscripciones gratuitas a través del formulario online disponible a partir del martes 28 de junio en esta misma web\, más abajo. Facilitamos también el acceso directo al formulario: https://forms.gle/t1F6voCJeCKkuN418 \nEn caso de duda\, pueden dirigirse a la Oficina de Turismo de Mieres/Casa de Cultura de Mieres\, en la calle Manuel Llaneza\, 8. Tfno. 985450533 \n\n  \nSiguiendo el paseo que se extiende a lo largo de la antigua trinchera del Pozu Peñón\, camino por el que el ferrocarril transportaba el carbón desde la mina Baltasara hasta Mieres del Camín\, nos pararemos a observar diversos hitos como la Virgen de la Cuarentena o la escultura de dedicada a la montaña\, que forman parte del trabajo que el mierense Tomás Argüelles dedicó para revitalizar la senda. \n  \n\n \n  \n\nRutes Turístiques 2022\nUn año más\, desde el Ayuntamiento de Mieres ofrecemos a toda la ciudadanía un conjunto de rutas que\, durante el verano\, amplían las visitas guiadas a nuestros equipamientos turísticos. A través de itinerarios de muy diversa índole queremos dar a conocer nuestra historia\, patrimonio\, fiestas\, gastronomía o naturaleza. Y lo que es más importante\, con la participación no solamente de profesionales\, sino también del tejido asociativo y empresarial del concejo; una forma\, sin duda\, de hacer comunidad. Porque “Mieres va prestate”. \n\n  \n \nCargando…
URL:https://www.mieres.es/evento/rutes-turistiques-2022-antigua-trinchera-del-pozu-penon-con-tomas-arguelles/
LOCATION:Plaza de La Pasera\, Plaza Pasera\, Mieres\, 33600
CATEGORIES:Patrimonio,Ruta Cultural,Ruta Turística,Turismo
ATTACH;FMTTYPE=image/jpeg:https://www.mieres.es/wp-content/uploads/2022/06/banner-rutes-turistiques-2022-1200.jpg
ORGANIZER;CN="Concejal%C3%ADa%20de%20Turismo":MAILTO:turismo@ayto-mieres.es
END:VEVENT
END:VCALENDAR