BEGIN:VCALENDAR
VERSION:2.0
PRODID:-//Ayuntamiento de Mieres - ECPv5.16.1.1//NONSGML v1.0//EN
CALSCALE:GREGORIAN
METHOD:PUBLISH
X-WR-CALNAME:Ayuntamiento de Mieres
X-ORIGINAL-URL:https://www.mieres.es
X-WR-CALDESC:Eventos para Ayuntamiento de Mieres
BEGIN:VTIMEZONE
TZID:Europe/Madrid
BEGIN:DAYLIGHT
TZOFFSETFROM:+0100
TZOFFSETTO:+0200
TZNAME:CEST
DTSTART:20250330T010000
END:DAYLIGHT
BEGIN:STANDARD
TZOFFSETFROM:+0200
TZOFFSETTO:+0100
TZNAME:CET
DTSTART:20251026T010000
END:STANDARD
END:VTIMEZONE
BEGIN:VEVENT
DTSTART;TZID=Europe/Madrid:20251030T170000
DTEND;TZID=Europe/Madrid:20251030T170000
DTSTAMP:20260421T023328
CREATED:20251017T084042Z
LAST-MODIFIED:20251017T084204Z
UID:76102-1761843600-1761843600@www.mieres.es
SUMMARY:Samaín 2025. Pasacalles\, música y cuentacuentos
DESCRIPTION:Regresa a Mieres el Samaín\, que llega con numerosas actividades para peques y adultos\, entre las que no faltarán los juegos\,  talleres\, la música\, títeres\, los disfraces y pasacalles. \nBajo el lema “Nun ye Halloween\, ye Samaín”\, esta cita pretende retomar la festividad de origen celta que conmemoraba el fin de la época de cosechas y ensalzaba la oscuridad. Una fiesta ligada con las tradiciones y los orígenes\, que en nuestro concejo comenzamos a celebrar en el año 2013 y que ya ha pasado a formar parte del calendario habitual de festejos\, siendo muy esperada por los más pequeños. \n\nXueves\, 30 d’ochobre \nPlaza Requexu \n\n17:00h.- Salida del Pasacais fantasmal dende la plaza l’Ayuntamientu.\n17:45h. Cuentacuentos\, con Andrea Lobo y la Tía Ortiga (en casu de lluvia sería na Casa de Cultura).\n18:15h. Música\, cola Charanga Élite.\n\n 
URL:https://www.mieres.es/evento/samain-2025-pasacalles-musica-y-cuentacuentos/
LOCATION:Plaza de Requexu\, Plaza de Requexu s/n\, Mieres\, Asturias\, 33600 
CATEGORIES:Festejos,Juventud e Infancia,Salud
ATTACH;FMTTYPE=image/jpeg:https://www.mieres.es/wp-content/uploads/2025/10/cartel-web-Samain-2025.jpg
ORGANIZER;CN="Concejal%C3%ADa%20de%20Infancia%20y%20Juventud":MAILTO:oij@ayto-mieres.es
GEO:43.2525203;-5.7721209
X-APPLE-STRUCTURED-LOCATION;VALUE=URI;X-ADDRESS=Plaza de Requexu Plaza de Requexu s/n Mieres Asturias 33600;X-APPLE-RADIUS=500;X-TITLE=Plaza de Requexu s/n:geo:-5.7721209,43.2525203
END:VEVENT
END:VCALENDAR