BEGIN:VCALENDAR
VERSION:2.0
PRODID:-//Ayuntamiento de Mieres - ECPv5.16.1.1//NONSGML v1.0//EN
CALSCALE:GREGORIAN
METHOD:PUBLISH
X-WR-CALNAME:Ayuntamiento de Mieres
X-ORIGINAL-URL:https://www.mieres.es
X-WR-CALDESC:Eventos para Ayuntamiento de Mieres
BEGIN:VTIMEZONE
TZID:Europe/Madrid
BEGIN:DAYLIGHT
TZOFFSETFROM:+0100
TZOFFSETTO:+0200
TZNAME:CEST
DTSTART:20240331T010000
END:DAYLIGHT
BEGIN:STANDARD
TZOFFSETFROM:+0200
TZOFFSETTO:+0100
TZNAME:CET
DTSTART:20241027T010000
END:STANDARD
END:VTIMEZONE
BEGIN:VEVENT
DTSTART;VALUE=DATE:20240620
DTEND;VALUE=DATE:20240621
DTSTAMP:20260422T103634
CREATED:20240531T083206Z
LAST-MODIFIED:20240604T075430Z
UID:69365-1718841600-1718927999@www.mieres.es
SUMMARY:San Xuan 2024. Programa\, jueves 20
DESCRIPTION:San Xuan 2024\nPrograma\nJueves 20\n\n  \n17.30 Concursu d’escanciadores\n||| Plaza Requexu \n18.00 El show de Susana\n||| Parque Xovellanos \n19.00 II Edición Concursu Fotografía San Xuan Semeyes\n(entama Asociación Fotografica Semeya)\n||| Salón d’Actos Casa de la Cultura \n20.30 Música na Cai\, Folk Taunus\n||| C/Jerónimo Ibrán \n22.00 Orquesta Tekila\n||| Parque Xovellanos \n  \n\n 
URL:https://www.mieres.es/evento/san-xuan-2024-programa-jueves-20/
LOCATION:Varios espacios\, Mieres\, Asturias\, 33600 
CATEGORIES:Festejos
ATTACH;FMTTYPE=image/jpeg:https://www.mieres.es/wp-content/uploads/2024/05/Cartel-San-Xuan-2024-scaled.jpg
GEO:43.2491037;-5.7747551
END:VEVENT
END:VCALENDAR