BEGIN:VCALENDAR
VERSION:2.0
PRODID:-//Ayuntamiento de Mieres - ECPv5.16.1.1//NONSGML v1.0//EN
CALSCALE:GREGORIAN
METHOD:PUBLISH
X-WR-CALNAME:Ayuntamiento de Mieres
X-ORIGINAL-URL:https://www.mieres.es
X-WR-CALDESC:Eventos para Ayuntamiento de Mieres
BEGIN:VTIMEZONE
TZID:Europe/Madrid
BEGIN:DAYLIGHT
TZOFFSETFROM:+0100
TZOFFSETTO:+0200
TZNAME:CEST
DTSTART:20240331T010000
END:DAYLIGHT
BEGIN:STANDARD
TZOFFSETFROM:+0200
TZOFFSETTO:+0100
TZNAME:CET
DTSTART:20241027T010000
END:STANDARD
END:VTIMEZONE
BEGIN:VEVENT
DTSTART;VALUE=DATE:20240905
DTEND;VALUE=DATE:20240906
DTSTAMP:20260421T105004
CREATED:20240905T113941Z
LAST-MODIFIED:20240905T114316Z
UID:70240-1725494400-1725580799@www.mieres.es
SUMMARY:SummerSchool Rurápolis 2024
DESCRIPTION:Formación: \n\nSummerSchool Rurápolis\nUna inmersión territorial y constructiva para reencantar el futuro frente a la despoblación rural\n  \n\nActividades del 2 al 6 de septiembre\nde 10 a 18h.\nTaller de Construcción con Studio Acte \nDía 6 de septiembre\, 19:30h\nConcierto-performance LOFÁCIL\n(Abierto al público) \n\nPozu Espinos\n \n\n  \n  \nLa SummerSchool Rurápolis es un formato innovador que combina teoría y práctica arquitectónica\, en torno a la despoblación rural\, la evolución del territorio post-industrial\, y el aprendizaje de técnicas de construccion sostenibles. \nLa SummerSchool forma parte de un proyecto de investigación más amplio llamado Rurápolis\, basado en la fuerte presencia de ruinas rurales en España\, donde miles de pueblos han quedado despoblados debido al abandono del medio rural. \nEl proceso de investigación propone la reactivaciom de pueblos\, aldeas y espacios industriales abandonados cuya ubicación en el corazón de una topografía preservada y de clima moderado\, los hacen viables de ser habitados de nuevo. Esta reactivacion se materializa mediante el uso de tecnicas constructivas ecológicas\, partiendo de la tierra. \nTras su primera edición en Navarra durante el verano de 2023\, la SummerSchool de Rurápolis\, propone una inmersión en Asturias. Se trata de un programa extramuros de la ÉNSA Versailles que cuenta con la colaboración de la Universidad de Oviedo y el Centro de Arte y Creación Industrial de la LABoral. También forma parte de NO-CITY\, un programa educativo intrauniversitario. \nEsta edición\, tendrá una duración de diez días\, y está abierta a estudiantes internacionales de arquitectura\, así como de otras disciplinas y cualquier profesional interesado en la temática. \nLa SummerSchool 2024 contará con: \n– Charlas y mesas redondas impartidas por personalidades reconocidas a nivel europeo\, que abordarán temas como el despoblamiento rural\, las condiciones peri-rurales\, la arquitectura en ruinas\, la arquitectura con tierra o la arquitectura en tiempos de crisis. \n– Dos días de exploración del territorio post-industrial\, peri-rural y natural de Asturias. \n-Un taller de construcción en Pozo Espinos centrado en el uso de la madera\, materiales reciclados y el aprendizaje de varias técnicas de construcción con tierra cruda. El objetivo es desarrollar la inteligencia constructiva para crear pequeñas arquitecturas/plataformas/mobiliarios emblemáticos de Rurápolis. \n– Una performance que inaugura los objetos arquitectónicos elaborados colectivamente\, haciendo viable y atractiva la posible reactivación de ruinas rurales abandonadas. \nLa Summerschool Rurápolis\, organizada por la Escuela Nacional Superior de Arquitectura de Versalles (ÉNSA-V) y un consorcio de universidades europeas e instituciones locales\, tendrá lugar del 29 de agosto al 7 de septiembre de 2024 en Asturias. \n\nPrograma e inscripciones
URL:https://www.mieres.es/evento/summerschool-rurapolis-2024/2024-09-05/
LOCATION:Pozu Espinos\, Caserio Preximir\, 4\, 33610 Santandrés\, Asturias\, 33610
CATEGORIES:Formación
ATTACH;FMTTYPE=image/jpeg:https://www.mieres.es/wp-content/uploads/2024/09/rurapolis-2024.jpg
END:VEVENT
END:VCALENDAR