BEGIN:VCALENDAR
VERSION:2.0
PRODID:-//Ayuntamiento de Mieres - ECPv5.16.1.1//NONSGML v1.0//EN
CALSCALE:GREGORIAN
METHOD:PUBLISH
X-WR-CALNAME:Ayuntamiento de Mieres
X-ORIGINAL-URL:https://www.mieres.es
X-WR-CALDESC:Eventos para Ayuntamiento de Mieres
BEGIN:VTIMEZONE
TZID:Europe/Madrid
BEGIN:DAYLIGHT
TZOFFSETFROM:+0100
TZOFFSETTO:+0200
TZNAME:CEST
DTSTART:20250330T010000
END:DAYLIGHT
BEGIN:STANDARD
TZOFFSETFROM:+0200
TZOFFSETTO:+0100
TZNAME:CET
DTSTART:20251026T010000
END:STANDARD
END:VTIMEZONE
BEGIN:VEVENT
DTSTART;TZID=Europe/Madrid:20250914T170000
DTEND;TZID=Europe/Madrid:20250914T190000
DTSTAMP:20260421T064440
CREATED:20250818T105712Z
LAST-MODIFIED:20250818T105712Z
UID:75256-1757869200-1757876400@www.mieres.es
SUMMARY:Taller de improvisación teatral "¡Vuelve la Impro!"
DESCRIPTION:Taller para adolescentes (entre 12 y 16 años) \nTaller de improvisación teatral\n“¡Vuelve la Impro!”\n📅 Comienza: Domingo\, 7 de septiembre de 2025\n📍 Lugar: Salón de Actos de la Casa de Cultura de Mieres\n🕔 Horario: Todos los domingos de septiembre\, de 17:00 a 19:00h.\n👥 Edad: 12 a 16 años \n☎ Inscripciones 985 46 62 62 (de 9 a 14h)\n🔢 Plazas limitadas: 15 \n\n  \n✨🎭 ¡Estrenamos Taller de IMPRO! 🎭✨ \n💡 Improvisar es jugar\, reír\, crear historias al vuelo… y descubrir que equivocarse es un regalo. \nAprende a potenciar tu creatividad y tu escucha activa con la increíble Noemi Miranda (@noemiyeimpro / Trivilorio Impro)\, una crack de la escena que te guiará para que la imaginación no tenga límites. \n🔥 Aquí TODO VALE: soltarte\, probar\, inventar y pasarlo en grande. \n  \n\n 
URL:https://www.mieres.es/evento/taller-de-improvisacion-teatral-vuelve-la-impro/2025-09-14/
LOCATION:Casa de Cultura Teodoro Cuesta\, Calle Manuel Llaneza\, 8\, Mieres\, Asturias\, 33600\, España
CATEGORIES:Juventud e Infancia
ATTACH;FMTTYPE=image/jpeg:https://www.mieres.es/wp-content/uploads/2025/08/Cartel_Impro-mieres-2025.jpg
ORGANIZER;CN="Concejal%C3%ADa%20de%20Infancia%20y%20Juventud":MAILTO:oij@ayto-mieres.es
GEO:43.2502294;-5.7729571
X-APPLE-STRUCTURED-LOCATION;VALUE=URI;X-ADDRESS=Casa de Cultura Teodoro Cuesta Calle Manuel Llaneza 8 Mieres Asturias 33600 España;X-APPLE-RADIUS=500;X-TITLE=Calle Manuel Llaneza\, 8:geo:-5.7729571,43.2502294
END:VEVENT
END:VCALENDAR