BEGIN:VCALENDAR
VERSION:2.0
PRODID:-//Ayuntamiento de Mieres - ECPv5.16.1.1//NONSGML v1.0//EN
CALSCALE:GREGORIAN
METHOD:PUBLISH
X-WR-CALNAME:Ayuntamiento de Mieres
X-ORIGINAL-URL:https://www.mieres.es
X-WR-CALDESC:Eventos para Ayuntamiento de Mieres
BEGIN:VTIMEZONE
TZID:Europe/Madrid
BEGIN:DAYLIGHT
TZOFFSETFROM:+0100
TZOFFSETTO:+0200
TZNAME:CEST
DTSTART:20250330T010000
END:DAYLIGHT
BEGIN:STANDARD
TZOFFSETFROM:+0200
TZOFFSETTO:+0100
TZNAME:CET
DTSTART:20251026T010000
END:STANDARD
END:VTIMEZONE
BEGIN:VEVENT
DTSTART;TZID=Europe/Madrid:20251218T173000
DTEND;TZID=Europe/Madrid:20251218T173000
DTSTAMP:20260421T010741
CREATED:20251128T115610Z
LAST-MODIFIED:20251128T115610Z
UID:76731-1766079000-1766079000@www.mieres.es
SUMMARY:Tardes con Leo: "El cacasaurio que se zampó la Navidad"
DESCRIPTION:Cuentacuentos\nTardes con Leo \nEl cacasaurio que se zampó la Navidad\nde Tom Fletcher\n  \nBiblioteca Pública de Mieres \n\n  \nCuentacuentos a cargo de Leo\, la mascota de las bibliotecas de nuestra Red de Bibliotecas Municipales\, basado en el libro El cacasaurio que se zampó la Navidad (Editorial Principal de los Libros)\, escrito por Tom Fletcher e ilustrado por Dougie Poynter. \nEsta Navidad\, te espera un regalo apestoso. \nLa lista de regalos de Quique es LARGUÍSIMA\, ílo quiere TODO! \nPero\, en Nochebuena\, se lleva una gran sorpresa cuando una gigantesca criatura devora la Navidad: el árbol\, los regalos íe incluso a su abuelita! \nPor suerte\, como bien sabemos\, todo lo que entra tiene que salir?. . . \n  \nPatrocinado por la Caja Rural de Asturias y realizado por Paula Huelga\, de Xitech. Plazas limitadas\, asignadas por orden de inscripción. Podéis apuntaros en la Biblioteca en horario de 09:00 a 20:30 horas o al teléfono 985456294. ¡¡¡¡Os esperamos!!!! \n  \n\n 
URL:https://www.mieres.es/evento/tardes-con-leo-el-cacasaurio-que-se-zampo-la-navidad/
LOCATION:Biblioteca Pública de Mieres\, Calle Manuel Llaneza\, 8\, Mieres\, Asturias\, 33600 \, España
CATEGORIES:Bibliotecas,Cuentacuentos
ATTACH;FMTTYPE=image/jpeg:https://www.mieres.es/wp-content/uploads/2025/11/tardes-con-leo-cacasaurio.jpg
ORGANIZER;CN="Red%20de%20Bibliotecas%20Municipales%20de%20Mieres":MAILTO:biblioteca@ayto-mieres.es
GEO:43.2502294;-5.7729571
X-APPLE-STRUCTURED-LOCATION;VALUE=URI;X-ADDRESS=Biblioteca Pública de Mieres Calle Manuel Llaneza 8 Mieres Asturias 33600  España;X-APPLE-RADIUS=500;X-TITLE=Calle Manuel Llaneza\, 8:geo:-5.7729571,43.2502294
END:VEVENT
END:VCALENDAR