BEGIN:VCALENDAR
VERSION:2.0
PRODID:-//Ayuntamiento de Mieres - ECPv5.16.1.1//NONSGML v1.0//EN
CALSCALE:GREGORIAN
METHOD:PUBLISH
X-WR-CALNAME:Ayuntamiento de Mieres
X-ORIGINAL-URL:https://www.mieres.es
X-WR-CALDESC:Eventos para Ayuntamiento de Mieres
BEGIN:VTIMEZONE
TZID:Europe/Madrid
BEGIN:DAYLIGHT
TZOFFSETFROM:+0100
TZOFFSETTO:+0200
TZNAME:CEST
DTSTART:20250330T010000
END:DAYLIGHT
BEGIN:STANDARD
TZOFFSETFROM:+0200
TZOFFSETTO:+0100
TZNAME:CET
DTSTART:20251026T010000
END:STANDARD
END:VTIMEZONE
BEGIN:VEVENT
DTSTART;TZID=Europe/Madrid:20250319T173000
DTEND;TZID=Europe/Madrid:20250319T173000
DTSTAMP:20260424T073124
CREATED:20250307T105352Z
LAST-MODIFIED:20250307T105352Z
UID:73144-1742405400-1742405400@www.mieres.es
SUMMARY:Tardes con Leo: "Familia significa familia"
DESCRIPTION:Cuentacuentos\nTardes con Leo \nFamilia significa familia\nde Melissa Marr\nBiblioteca Pública de Ujo \n\n  \nCuentacuentos a cargo de Leo\, la mascota de las bibliotecas de nuestra Red de Bibliotecas Municipales\, basado en el libro “Familia significa familia” (Ed. Serres)\, escrito por Melissa Marr e ilustrado por Marcos Almada. Un álbum tierno y divertido a partes iguales para mostrar que hay muchos tipos de familias. \nDe camino a la escuela\, Pío se da cuenta de que a sus compañeros los acompañan su mamá\, su papá o sus hermanos. Pero él tiene dos mamás. Osito le pregunta si quiere que le preste a su hermano\, y Pío le dice que no\, porque a él le gusta ser pollito único. Aunque le fascina ver que hay familias que nadan o que vuelan\, otras con dientes y otras con pico\, está contento de ser un pollito y estar con la familia que le quiere. \n  \nPatrocinado por la Fundación Caja Rural de Asturias y realizado por Didac Servicios Educativos y de Ocio. Plazas limitadas\, asignadas por orden de inscripción. Podéis apuntaros en la propia Biblioteca. ¡¡¡¡Os esperamos!!!! \n  \n\n 
URL:https://www.mieres.es/evento/tardes-con-leo-familia-significa-familia-2/
LOCATION:Biblioteca Pública de Mieres\, Calle Manuel Llaneza\, 8\, Mieres\, Asturias\, 33600 \, España
CATEGORIES:Bibliotecas,Cuentacuentos
ATTACH;FMTTYPE=image/jpeg:https://www.mieres.es/wp-content/uploads/2025/02/tardes-con-leo-perla-perrita.jpg
ORGANIZER;CN="Red%20de%20Bibliotecas%20Municipales%20de%20Mieres":MAILTO:biblioteca@ayto-mieres.es
GEO:43.2502294;-5.7729571
X-APPLE-STRUCTURED-LOCATION;VALUE=URI;X-ADDRESS=Biblioteca Pública de Mieres Calle Manuel Llaneza 8 Mieres Asturias 33600  España;X-APPLE-RADIUS=500;X-TITLE=Calle Manuel Llaneza\, 8:geo:-5.7729571,43.2502294
END:VEVENT
END:VCALENDAR