BEGIN:VCALENDAR
VERSION:2.0
PRODID:-//Ayuntamiento de Mieres - ECPv5.16.1.1//NONSGML v1.0//EN
CALSCALE:GREGORIAN
METHOD:PUBLISH
X-WR-CALNAME:Ayuntamiento de Mieres
X-ORIGINAL-URL:https://www.mieres.es
X-WR-CALDESC:Eventos para Ayuntamiento de Mieres
BEGIN:VTIMEZONE
TZID:Europe/Madrid
BEGIN:DAYLIGHT
TZOFFSETFROM:+0100
TZOFFSETTO:+0200
TZNAME:CEST
DTSTART:20230326T010000
END:DAYLIGHT
BEGIN:STANDARD
TZOFFSETFROM:+0200
TZOFFSETTO:+0100
TZNAME:CET
DTSTART:20231029T010000
END:STANDARD
END:VTIMEZONE
BEGIN:VEVENT
DTSTART;TZID=Europe/Madrid:20230117T173000
DTEND;TZID=Europe/Madrid:20230117T173000
DTSTAMP:20260423T032753
CREATED:20230111T125743Z
LAST-MODIFIED:20230111T125743Z
UID:60805-1673976600-1673976600@www.mieres.es
SUMMARY:Tardes con Leo: "¡Hay un monstruo en el bosque!”
DESCRIPTION:  \n\nCuentacuentos\nTardes con Leo \n¡Hay un monstruo en el bosque!\nBiblioteca Publica del Ateneo de Turón \n\n  \nCuentacuentos a cargo de Leo\, la mascota de las bibliotecas de nuestra Red de Bibliotecas Municipales\, basado en el libro “¡Hay un monstruo en el bosque!”  (Ed. Picarona)\, escrito por Paola Savinelli e ilustrado por Andrea Scoppetta.Un precioso relato con el que disfrutaremos viajando a un mundo de fantasía y aprenderemos que\, como dice la abuela\, para hacer desaparecer a nuestros monstruos sólo hace falta formularse algunas preguntas y atreverse a mirar un poco más allá. \n¿Qué hay que hacer para echar a un monstruo de tu habitación? ¡La abuela de Nina tiene el cuento perfecto para resolver este problema tan complejo! Nadie había sido capaz de ahuyentar al monstruo que había ocupado el bosque. De nada habían servido los consejos del más sabio entre los sabios. La dama más bella del reino lo había probado con su belleza; el bufón\, con sus juegos\, y el rey le había ofrecido todo su oro sin resultado alguno. Incluso el arquero infalible había fallado. Y cuando todos estaban temblando\, dando pequeños pasos\, llegó alguien que… \nHay un monstruo en el bosque puede leerse como una divertida historia de reyes y monstruos\, o como una valiosa lección sobre la necesidad de ser curioso y dudar de todo. \n  \nPatrocinado por la Fundación Caja Rural de Asturias y realizado por Paula Huelga de Animación La Pilarica. Plazas limitadas\, asignadas por orden de inscripción. Podéis apuntaros en la Biblioteca en su horario de apertura o al teléfono 985456294. ¡¡¡¡Os esperamos!!!! \n  \n\n 
URL:https://www.mieres.es/evento/tardes-con-leo-hay-un-monstruo-en-el-bosque-3/
LOCATION:Biblioteca Pública de Ujo\,  C/ Doctor Julio Rodríguez Vigil\, s/n\, Ujo\, Asturias\, 33640 
CATEGORIES:Bibliotecas,Cuentacuentos
ATTACH;FMTTYPE=image/jpeg:https://www.mieres.es/wp-content/uploads/2023/01/Tardes-con-Leo-Monstruo.jpg
ORGANIZER;CN="Red%20de%20Bibliotecas%20Municipales%20de%20Mieres":MAILTO:biblioteca@ayto-mieres.es
GEO:43.2032356;-5.7911073
X-APPLE-STRUCTURED-LOCATION;VALUE=URI;X-ADDRESS=Biblioteca Pública de Ujo  C/ Doctor Julio Rodríguez Vigil s/n Ujo Asturias 33640;X-APPLE-RADIUS=500;X-TITLE=C/ Doctor Julio Rodríguez Vigil\, s/n:geo:-5.7911073,43.2032356
END:VEVENT
END:VCALENDAR