BEGIN:VCALENDAR
VERSION:2.0
PRODID:-//Ayuntamiento de Mieres - ECPv5.16.1.1//NONSGML v1.0//EN
CALSCALE:GREGORIAN
METHOD:PUBLISH
X-WR-CALNAME:Ayuntamiento de Mieres
X-ORIGINAL-URL:https://www.mieres.es
X-WR-CALDESC:Eventos para Ayuntamiento de Mieres
BEGIN:VTIMEZONE
TZID:Europe/Madrid
BEGIN:DAYLIGHT
TZOFFSETFROM:+0100
TZOFFSETTO:+0200
TZNAME:CEST
DTSTART:20240331T010000
END:DAYLIGHT
BEGIN:STANDARD
TZOFFSETFROM:+0200
TZOFFSETTO:+0100
TZNAME:CET
DTSTART:20241027T010000
END:STANDARD
END:VTIMEZONE
BEGIN:VEVENT
DTSTART;TZID=Europe/Madrid:20241107T173000
DTEND;TZID=Europe/Madrid:20241107T173000
DTSTAMP:20260421T103855
CREATED:20241023T085337Z
LAST-MODIFIED:20241105T083813Z
UID:71312-1731000600-1731000600@www.mieres.es
SUMMARY:Tardes con Leo: "León tiene el pelo de fuego"
DESCRIPTION:Cuentacuentos\nTardes con Leo \nLeón tiene el pelo de fuego\nde Ricardo Cavolo\nBiblioteca Pública de Mieres \n\n  \nCuentacuentos a cargo de Leo\, la mascota de las bibliotecas de nuestra Red de Bibliotecas Municipales\, basado en el libro “León tiene el pelo de fuego” (Lunwerg Editores)\, escrito e ilustrado por Ricardo Cavolo. Una fábula maravillosa basada en hechos reales\, con un mensaje importante para les niñes y también para sus madres y padres. La historia de León muestra que cada vida es única y que nuestras diferencias son precisamente las que nos hacen especiales. \n  \nLeón tiene el pelo de fuego. Es increíble\, como tener un tesoro. El problema es que en su colegio no lo entienden muy bien y se burlan. León lo pasa tan mal\, que decide apagarse el fuego. Pero eso no cambiará mucho la cosa en el cole\, y desde ese momento simplemente le ignoran. ¿Qué hará León? \n  \nPatrocinado por la Fundación Caja Rural de Asturias y realizado por Paula Huelga de Animación La Pilarica. Plazas limitadas\, asignadas por orden de inscripción. Podéis apuntaros en la Biblioteca en horario de 09:00 a 20:30 horas o al teléfono 985456294. ¡¡¡¡Os esperamos!!!! \n  \n\n 
URL:https://www.mieres.es/evento/tardes-con-leo-leon-tiene-el-pelo-de-fuego/
LOCATION:Biblioteca Pública de Mieres\, Calle Manuel Llaneza\, 8\, Mieres\, Asturias\, 33600 \, España
CATEGORIES:Bibliotecas,Cuentacuentos
ATTACH;FMTTYPE=image/jpeg:https://www.mieres.es/wp-content/uploads/2024/10/tardes-con-leo-leon-pelo-rojo.jpg
ORGANIZER;CN="Red%20de%20Bibliotecas%20Municipales%20de%20Mieres":MAILTO:biblioteca@ayto-mieres.es
GEO:43.2502294;-5.7729571
X-APPLE-STRUCTURED-LOCATION;VALUE=URI;X-ADDRESS=Biblioteca Pública de Mieres Calle Manuel Llaneza 8 Mieres Asturias 33600  España;X-APPLE-RADIUS=500;X-TITLE=Calle Manuel Llaneza\, 8:geo:-5.7729571,43.2502294
END:VEVENT
END:VCALENDAR