BEGIN:VCALENDAR
VERSION:2.0
PRODID:-//Ayuntamiento de Mieres - ECPv5.16.1.1//NONSGML v1.0//EN
CALSCALE:GREGORIAN
METHOD:PUBLISH
X-WR-CALNAME:Ayuntamiento de Mieres
X-ORIGINAL-URL:https://www.mieres.es
X-WR-CALDESC:Eventos para Ayuntamiento de Mieres
BEGIN:VTIMEZONE
TZID:Europe/Madrid
BEGIN:DAYLIGHT
TZOFFSETFROM:+0100
TZOFFSETTO:+0200
TZNAME:CEST
DTSTART:20230326T010000
END:DAYLIGHT
BEGIN:STANDARD
TZOFFSETFROM:+0200
TZOFFSETTO:+0100
TZNAME:CET
DTSTART:20231029T010000
END:STANDARD
END:VTIMEZONE
BEGIN:VEVENT
DTSTART;TZID=Europe/Madrid:20230112T173000
DTEND;TZID=Europe/Madrid:20230112T173000
DTSTAMP:20260422T160549
CREATED:20230110T104955Z
LAST-MODIFIED:20230110T104955Z
UID:60749-1673544600-1673544600@www.mieres.es
SUMMARY:Tardes con Leo: "Pincho”
DESCRIPTION:  \n\nCuentacuentos\nTardes con Leo \nPincho\nBiblioteca Publica de Mieres \n\n  \nCuentacuentos a cargo de Leo\, la mascota de las bibliotecas de nuestra Red de Bibliotecas Municipales\, basado en el libro “Pincho” (Ed. Zendera Zariquiey)\, escrito e ilustrado por Ragnihild Scamell. \nNilo\, el erizo\, acaba de hacer su pequeño nido justo a tiempo para el invierno. De pronto\, una jugosa manzana roja cae del árbol y se queda atrapada entre las púas de su espalda. Pobre Nilo\, no puede entrar en su nido y está perdido\, ¿cómo pasará el invierno?. \n  \nPatrocinado por la Fundación Caja Rural de Asturias y realizado por Paula Huelga de Animación La Pilarica. Plazas limitadas\, asignadas por orden de inscripción. Podéis apuntaros en la Biblioteca en su horario de apertura o al teléfono 985456294. ¡¡¡¡Os esperamos!!!! \n  \n\n 
URL:https://www.mieres.es/evento/tardes-con-leo-pincho/
LOCATION:Biblioteca Pública de Mieres\, Calle Manuel Llaneza\, 8\, Mieres\, Asturias\, 33600 \, España
CATEGORIES:Bibliotecas,Cuentacuentos
ATTACH;FMTTYPE=image/jpeg:https://www.mieres.es/wp-content/uploads/2023/01/pincho-tardes-con-leo.jpg
ORGANIZER;CN="Red%20de%20Bibliotecas%20Municipales%20de%20Mieres":MAILTO:biblioteca@ayto-mieres.es
GEO:43.2502294;-5.7729571
X-APPLE-STRUCTURED-LOCATION;VALUE=URI;X-ADDRESS=Biblioteca Pública de Mieres Calle Manuel Llaneza 8 Mieres Asturias 33600  España;X-APPLE-RADIUS=500;X-TITLE=Calle Manuel Llaneza\, 8:geo:-5.7729571,43.2502294
END:VEVENT
END:VCALENDAR