BEGIN:VCALENDAR
VERSION:2.0
PRODID:-//Ayuntamiento de Mieres - ECPv5.16.1.1//NONSGML v1.0//EN
CALSCALE:GREGORIAN
METHOD:PUBLISH
X-WR-CALNAME:Ayuntamiento de Mieres
X-ORIGINAL-URL:https://www.mieres.es
X-WR-CALDESC:Eventos para Ayuntamiento de Mieres
BEGIN:VTIMEZONE
TZID:Europe/Madrid
BEGIN:DAYLIGHT
TZOFFSETFROM:+0100
TZOFFSETTO:+0200
TZNAME:CEST
DTSTART:20220327T010000
END:DAYLIGHT
BEGIN:STANDARD
TZOFFSETFROM:+0200
TZOFFSETTO:+0100
TZNAME:CET
DTSTART:20221030T010000
END:STANDARD
END:VTIMEZONE
BEGIN:VEVENT
DTSTART;TZID=Europe/Madrid:20220210T173000
DTEND;TZID=Europe/Madrid:20220210T173000
DTSTAMP:20260421T184722
CREATED:20220118T091830Z
LAST-MODIFIED:20220118T091830Z
UID:51824-1644514200-1644514200@www.mieres.es
SUMMARY:Tardes con Leo: "Una espinita de celos para Marcelo"
DESCRIPTION:  \nCuentacuentos a cargo de Leo\, la mascota de las bibliotecas de nuestra Red de Bibliotecas Municipales\, basado en el libro “Una espinita de celos para Marcelo” (Editorial Picarona)\, escrito por K. Kochka e ilustrado por Sophie Bouxom. Un relato con el que los niños aprenderán algunas cosas sobre los celos a partir de la historia del pequeño Marcelo\, que se siente desplazado tras el nacimiento de su hermanita pequeña. \n  \nTanto niños como adultos\, todos tenemos el corazón lleno de emociones. Si no aprendemos a gestionarlas correctamente\, pueden sobrepasarnos y tener consecuencias negativas en nuestra vida. La autora de libros infantiles Kochka\, en colaboración con la psicóloga Louison Nielman y diversas ilustradoras de gran talento\, nos ofrece una serie de libros con los que ayudar a los más pequeños a comprender\, gestionar y poner en palabras cómo se sienten. \n  \n  \n  \n\nActividad patrocinada por Fundación Caja Rural.
URL:https://www.mieres.es/evento/tardes-con-leo-una-espinita-de-celos-para-marcelo/
LOCATION:Biblioteca Pública de Mieres\, Calle Manuel Llaneza\, 8\, Mieres\, Asturias\, 33600 \, España
CATEGORIES:Bibliotecas,Cuentacuentos
ATTACH;FMTTYPE=image/jpeg:https://www.mieres.es/wp-content/uploads/2022/01/Una_espinita_de_celos_para_Marcelo-tardes-con-leo.jpg
ORGANIZER;CN="Red%20de%20Bibliotecas%20Municipales%20de%20Mieres":MAILTO:biblioteca@ayto-mieres.es
GEO:43.2502294;-5.7729571
X-APPLE-STRUCTURED-LOCATION;VALUE=URI;X-ADDRESS=Biblioteca Pública de Mieres Calle Manuel Llaneza 8 Mieres Asturias 33600  España;X-APPLE-RADIUS=500;X-TITLE=Calle Manuel Llaneza\, 8:geo:-5.7729571,43.2502294
END:VEVENT
END:VCALENDAR