BEGIN:VCALENDAR
VERSION:2.0
PRODID:-//Ayuntamiento de Mieres - ECPv5.16.1.1//NONSGML v1.0//EN
CALSCALE:GREGORIAN
METHOD:PUBLISH
X-WR-CALNAME:Ayuntamiento de Mieres
X-ORIGINAL-URL:https://www.mieres.es
X-WR-CALDESC:Eventos para Ayuntamiento de Mieres
BEGIN:VTIMEZONE
TZID:Europe/Madrid
BEGIN:DAYLIGHT
TZOFFSETFROM:+0100
TZOFFSETTO:+0200
TZNAME:CEST
DTSTART:20230326T010000
END:DAYLIGHT
BEGIN:STANDARD
TZOFFSETFROM:+0200
TZOFFSETTO:+0100
TZNAME:CET
DTSTART:20231029T010000
END:STANDARD
END:VTIMEZONE
BEGIN:VEVENT
DTSTART;TZID=Europe/Madrid:20230121T190000
DTEND;TZID=Europe/Madrid:20230121T190000
DTSTAMP:20260423T105126
CREATED:20230112T113944Z
LAST-MODIFIED:20230112T113944Z
UID:60814-1674327600-1674327600@www.mieres.es
SUMMARY:Teatro-Cuentacuentos: "Brujas. Los cuentos escondidos"\, por David Acera
DESCRIPTION:  \nTeatro. Cuentacuentos\n \nBrujas. Los cuentos escondidos\npor David Acera\n  \nAuditoriu Teodoro Cuesta \nEntrada libre hasta completar aforo. \n\n  \nUn viajero llega a una abarrotada plaza de un pueblo y comparte con los vecinos y vecinas su experiencia de vida\, una vida marcada por las brujas desde que abandonó el pueblo tras un mal sueño. A lo largo del espectáculo el público ira respondiendo a enigmas claves sobre brujas ¿Cómo les gustan más los niños con sal y pimiento o con una salsa al queso roquefort? ¿Son malvadas? ¿A qué dedican el tiempo libre? \n  \nBrujas al detalle: \n\nAutoría y adaptación de historias: David Acera\nDirección: Olga Churchich y David Acera\nNarrador/actor: David Acera\nPúblico: Familiar (de 6 a 106 años)\nMúsica Original y Espacio Sonoro: David Fernández\nDiseño de Luz: Proyectos de Narración Oral de David Acera\nTécnico en Gira: David Fernández\nVestuario: Azucena Rico\nEscenografía: Cartón-in y Olga Churchich\n\n  \n\n 
URL:https://www.mieres.es/evento/teatro-cuentacuentos-brujas-los-cuentos-escondidos-por-david-acera/
LOCATION:Casa de Cultura Teodoro Cuesta\, Calle Manuel Llaneza\, 8\, Mieres\, Asturias\, 33600\, España
CATEGORIES:Cuentacuentos,Teatro
ATTACH;FMTTYPE=image/jpeg:https://www.mieres.es/wp-content/uploads/2023/01/cartel-brujas-acera-mieres.jpeg
GEO:43.2502294;-5.7729571
X-APPLE-STRUCTURED-LOCATION;VALUE=URI;X-ADDRESS=Casa de Cultura Teodoro Cuesta Calle Manuel Llaneza 8 Mieres Asturias 33600 España;X-APPLE-RADIUS=500;X-TITLE=Calle Manuel Llaneza\, 8:geo:-5.7729571,43.2502294
END:VEVENT
END:VCALENDAR