BEGIN:VCALENDAR
VERSION:2.0
PRODID:-//Ayuntamiento de Mieres - ECPv5.16.1.1//NONSGML v1.0//EN
CALSCALE:GREGORIAN
METHOD:PUBLISH
X-WR-CALNAME:Ayuntamiento de Mieres
X-ORIGINAL-URL:https://www.mieres.es
X-WR-CALDESC:Eventos para Ayuntamiento de Mieres
BEGIN:VTIMEZONE
TZID:Europe/Madrid
BEGIN:DAYLIGHT
TZOFFSETFROM:+0100
TZOFFSETTO:+0200
TZNAME:CEST
DTSTART:20240331T010000
END:DAYLIGHT
BEGIN:STANDARD
TZOFFSETFROM:+0200
TZOFFSETTO:+0100
TZNAME:CET
DTSTART:20241027T010000
END:STANDARD
END:VTIMEZONE
BEGIN:VEVENT
DTSTART;VALUE=DATE:20240529
DTEND;VALUE=DATE:20240530
DTSTAMP:20260422T042526
CREATED:20240527T072046Z
LAST-MODIFIED:20240527T075440Z
UID:69244-1716940800-1717027199@www.mieres.es
SUMMARY:Torneo Alevín de Fútbol 8 Caudal Deportivo 2024 (28/31MAY)
DESCRIPTION:Fútbol  \nTorneo Alevín de Fútbol 8\nCaudal Deportivo\nCampo de Fútbol Eliseo Gutiérrez\ndel 28 al 31 de mayo \n\n 
URL:https://www.mieres.es/evento/torneo-alevin-de-futbol-8-caudal-deportivo-2024-28-31may/2024-05-29/
LOCATION:Campo Eliseo Gutiérrez (Antiguo Mundial’82)\, C/ Villaviciosa\, Mieres\, Asturias\, 33600\, España
CATEGORIES:Deportes
ATTACH;FMTTYPE=image/jpeg:https://www.mieres.es/wp-content/uploads/2024/05/torneo-alevin-Caudal-Dtvo-2024.jpeg
ORGANIZER;CN="Caudal%20Deportivo":MAILTO:caudal@caudaldeportivo.es
END:VEVENT
END:VCALENDAR