BEGIN:VCALENDAR
VERSION:2.0
PRODID:-//Ayuntamiento de Mieres - ECPv5.16.1.1//NONSGML v1.0//EN
CALSCALE:GREGORIAN
METHOD:PUBLISH
X-WR-CALNAME:Ayuntamiento de Mieres
X-ORIGINAL-URL:https://www.mieres.es
X-WR-CALDESC:Eventos para Ayuntamiento de Mieres
BEGIN:VTIMEZONE
TZID:Europe/Madrid
BEGIN:DAYLIGHT
TZOFFSETFROM:+0100
TZOFFSETTO:+0200
TZNAME:CEST
DTSTART:20230326T010000
END:DAYLIGHT
BEGIN:STANDARD
TZOFFSETFROM:+0200
TZOFFSETTO:+0100
TZNAME:CET
DTSTART:20231029T010000
END:STANDARD
END:VTIMEZONE
BEGIN:VEVENT
DTSTART;TZID=Europe/Madrid:20230805T110000
DTEND;TZID=Europe/Madrid:20230805T110000
DTSTAMP:20260423T114455
CREATED:20230707T100021Z
LAST-MODIFIED:20230713T080452Z
UID:63773-1691233200-1691233200@www.mieres.es
SUMMARY:Viaje a la Feria de Muestras de Gijón. Día de Mieres en la FIDMA'23
DESCRIPTION:  \nInscripciones gratuitas a partir del 10 de julio en la conserjería de la Casa de la Cultura Teodoro Cuesta -Mieres-. \nSALIDA: 11:00h. Parada de autobús frente al colegio Liceo/Aniceto Sela \nREGRESO: Salida de Gijón a las 20:00h. \n 
URL:https://www.mieres.es/evento/viaje-a-la-feria-de-muestras-de-gijon-dia-de-mieres-en-la-fidma23/
LOCATION:C/ Manuel Llaneza
CATEGORIES:Actividades,Turismo
ATTACH;FMTTYPE=image/jpeg:https://www.mieres.es/wp-content/uploads/2023/07/Cartel-viaje-feria-2023-Mieres.jpg
END:VEVENT
END:VCALENDAR