BEGIN:VCALENDAR
VERSION:2.0
PRODID:-//Ayuntamiento de Mieres - ECPv5.16.1.1//NONSGML v1.0//EN
CALSCALE:GREGORIAN
METHOD:PUBLISH
X-WR-CALNAME:Ayuntamiento de Mieres
X-ORIGINAL-URL:https://www.mieres.es
X-WR-CALDESC:Eventos para Ayuntamiento de Mieres
BEGIN:VTIMEZONE
TZID:Europe/Madrid
BEGIN:DAYLIGHT
TZOFFSETFROM:+0100
TZOFFSETTO:+0200
TZNAME:CEST
DTSTART:20260329T010000
END:DAYLIGHT
BEGIN:STANDARD
TZOFFSETFROM:+0200
TZOFFSETTO:+0100
TZNAME:CET
DTSTART:20261025T010000
END:STANDARD
END:VTIMEZONE
BEGIN:VEVENT
DTSTART;TZID=Europe/Madrid:20260424T162000
DTEND;TZID=Europe/Madrid:20260424T170000
DTSTAMP:20260424T143010
CREATED:20260424T093226Z
LAST-MODIFIED:20260424T093226Z
UID:78634-1777047600-1777050000@www.mieres.es
SUMMARY:Vuelta Ciclista a Asturias\, 2ªetapa. Paso por nuestro concejo
DESCRIPTION:Vuelta Ciclista a Asturias\nEtapa 2. Llanes-Pola de Lena\nPaso por Mieres\n\n  \nLa segunda etapa de esta Vuelta Ciclista (Llanes-Pola de Lena\, 140km.) se desarrollará por nuestro concejo este viernes 24 de mayo\, a partir de las 16:20h\, hora prevista de su entrada por el Alto de la colladiella\, con pasos por Urbiés (16:25h)\, Turón (16:37h)\, subiendo por Vegalafonte hacia el Alto de la Cueña (16:44h) para llegar al casco urbano de Mieres\, donde estará colocada una Meta Volante en la C/ Manuel Llaneza (16:51h). Posteriormente el pelotón ciclista cruzará por el Puente de Seana hacia el paseo fluvial en dirección a puente Santullano (17:08h )y Figaredo\, por donde saldrán del concejo hacia la meta en Pola de Lena. \nUn paso que recorrerá 27km de nuestras carreteras y calles en las que necesariamente habrá restricciones de tráfico debidamente señalizadas. Les ofrecemos el detalle de horarios e itinerarios: \n \n \nA su vez\, las paradas y recorridos de los autobuses municipales EMUTSA se verán afectados entre las 16:00 y las 17:00h.\, con las siguientes modificaciones: \n \n  \n  \n 
URL:https://www.mieres.es/evento/vuelta-ciclista-a-asturias-2aetapa-paso-por-nuestro-concejo/
LOCATION:Carreteras del concejo
CATEGORIES:Deportes
ATTACH;FMTTYPE=image/jpeg:https://www.mieres.es/wp-content/uploads/2026/04/cartel-vuelta-asturias-2026.jpg
END:VEVENT
END:VCALENDAR