BEGIN:VCALENDAR
VERSION:2.0
PRODID:-//Ayuntamiento de Mieres - ECPv5.16.1.1//NONSGML v1.0//EN
CALSCALE:GREGORIAN
METHOD:PUBLISH
X-WR-CALNAME:Ayuntamiento de Mieres
X-ORIGINAL-URL:https://www.mieres.es
X-WR-CALDESC:Eventos para Ayuntamiento de Mieres
BEGIN:VTIMEZONE
TZID:Europe/Madrid
BEGIN:DAYLIGHT
TZOFFSETFROM:+0100
TZOFFSETTO:+0200
TZNAME:CEST
DTSTART:20230326T010000
END:DAYLIGHT
BEGIN:STANDARD
TZOFFSETFROM:+0200
TZOFFSETTO:+0100
TZNAME:CET
DTSTART:20231029T010000
END:STANDARD
END:VTIMEZONE
BEGIN:VEVENT
DTSTART;TZID=Europe/Madrid:20230305T100000
DTEND;TZID=Europe/Madrid:20230305T100000
DTSTAMP:20260423T061833
CREATED:20230215T142012Z
LAST-MODIFIED:20230215T142012Z
UID:61373-1678010400-1678010400@www.mieres.es
SUMMARY:XXXV Xornaes de Montaña de Mieres: Curso "Aprendiendo a rapelar"
DESCRIPTION:  \nXXXV Xornaes de Montaña de Mieres \nCurso “Aprendiendo a rapelar”\n\nPolideportivo de Turón\n \nCurso gratuito. Plazas limitadas\, asignadas por riguroso orden de inscripción. \nCorreo para inscripciones: deportesmieres@ayto-mieres.es (es necesario aportar nombre\, apellidos y teléfono de contacto) \n\n  \nLa montaña y el deporte vuelve un año más a su tradicional cita en Mieres con las XXXV Jornadas de Montaña que en esta edición se celebrarán a lo largo de la primera semana de febrero con un programa completo que incluye proyecciones\, charlas y coloquios\,  junto con nuevas actividades como la raquetada en Valgrande-Pajares\, los cursos de iniciación a la escalada y de rappel\, o la salida de montaña por la zona alta del Valle de Turón\, de la amano del grupo san Bernardo. Las Jornadas de Montaña de Mieres volverán a convertirse un año más en espacio de divulgación\, conocimiento y encuentro para montañeros y montañeras profesionales\, personas aficionadas y amantes de la naturaleza y el deporte. \n 
URL:https://www.mieres.es/evento/xxxv-xornaes-de-montana-de-mieres-curso-aprendiendo-a-rapelar/
LOCATION:Polideportivo de Turón\, Plaza El Parque\, La Veguina\, Turón\, Asturias\, 33610
CATEGORIES:Deportes
ATTACH;FMTTYPE=image/jpeg:https://www.mieres.es/wp-content/uploads/2023/02/Cartel-jornadas-Montana-2023.jpg
END:VEVENT
END:VCALENDAR