BEGIN:VCALENDAR
VERSION:2.0
PRODID:-//Ayuntamiento de Mieres - ECPv5.16.1.1//NONSGML v1.0//EN
CALSCALE:GREGORIAN
METHOD:PUBLISH
X-WR-CALNAME:Ayuntamiento de Mieres
X-ORIGINAL-URL:https://www.mieres.es
X-WR-CALDESC:Eventos para Ayuntamiento de Mieres
BEGIN:VTIMEZONE
TZID:Europe/Madrid
BEGIN:DAYLIGHT
TZOFFSETFROM:+0100
TZOFFSETTO:+0200
TZNAME:CEST
DTSTART:20250330T010000
END:DAYLIGHT
BEGIN:STANDARD
TZOFFSETFROM:+0200
TZOFFSETTO:+0100
TZNAME:CET
DTSTART:20251026T010000
END:STANDARD
END:VTIMEZONE
BEGIN:VEVENT
DTSTART;TZID=Europe/Madrid:20250228T200000
DTEND;TZID=Europe/Madrid:20250228T200000
DTSTAMP:20260421T014614
CREATED:20250207T125629Z
LAST-MODIFIED:20250207T125629Z
UID:72725-1740772800-1740772800@www.mieres.es
SUMMARY:XXXVII Xornaes de Montaña de Mieres:  "Cholitas escaladoras"\, por Florinda Chura Mamani y Cecilia Llusco Alana
DESCRIPTION:XXXVII Xornaes de Montaña de Mieres \n  \n“Cholitas escaladoras”\npor Florinda Chura Mamani y Cecilia Llusco Alana\n  \nAuditorio Teodoro Cuesta \nEntrada libre hasta completar aforo \n\n  \nLas Cholitas escaladoras de Bolivia\, protagonistas del documental «CHOLITAS»\, regresan a España para participar en nuestras Jornadas de Montaña para presentar la película y compartir su inspiradora historia de liberación y empoderamiento. \nLa película documental narra la expedición de Dora\, Liita\, Lidia\, Cecilia y Elena al monte Aconcagua (6.962 metros): cinco mujeres indígenas bolivianas\, las “Cholitas escaladoras”\, que se proponen escalar la montaña más alta de América. Su imagen es sorprendente: escalan vistiendo su falda tradicional. Y son mucho más que escaladoras: son mujeres valientes que encuentran en la montaña un espacio para sentirse libres\, felices y vivas. \n«CHOLITAS» no solo es un documental sobre escalada\, sino un poderoso testimonio que nos invita a reflexionar sobre las desigualdades que enfrentan las mujeres y sobre el vínculo entre la montaña\, la naturaleza y la vida misma. Además\, nos acerca a la cosmovisión indígena y a la vasta riqueza cultural de América Latina. \n  \nLa montaña y el deporte vuelve un año más a su tradicional cita en Mieres con las XXXVII Jornadas de Montaña que\, en esta edición se celebrarán a lo largo de la última semana de febrero con un programa completo que incluye proyecciones\, charlas y coloquios\,  junto con nuevas actividades como un curso de iniciación a la escalada\, un curso de técnica MTB o un taller mecánico MTB. El ciclo se completa con una exposición que repasará la historia de estas Jornadas a través de su cartelería\, junto con fotografías y otros materiales recopilados de la etapa 1989-2006\, en la que el fallecido José Luis Santos (Lupas) era su principal impulsor. El acto de inauguración de la misma servirá para rendirle un sentido homenaje. \nLas Jornadas de Montaña de Mieres volverán a convertirse un año más en espacio de divulgación\, conocimiento y encuentro para montañeros y montañeras profesionales\, personas aficionadas y amantes de la naturaleza y el deporte. \nCorreo electrónico para inscripciones en las actividades: patronato@ayto-mieres.es \n 
URL:https://www.mieres.es/evento/xxxvii-xornaes-de-montana-de-mieres-cholitas-escaladoras-por-florinda-chura-mamani-y-cecilia-llusco-alana/
LOCATION:Casa de Cultura Teodoro Cuesta\, Calle Manuel Llaneza\, 8\, Mieres\, Asturias\, 33600\, España
CATEGORIES:Deportes
ATTACH;FMTTYPE=image/jpeg:https://www.mieres.es/wp-content/uploads/2025/02/cartel-jornadas-montana-mieres-2025.jpg
GEO:43.2502294;-5.7729571
X-APPLE-STRUCTURED-LOCATION;VALUE=URI;X-ADDRESS=Casa de Cultura Teodoro Cuesta Calle Manuel Llaneza 8 Mieres Asturias 33600 España;X-APPLE-RADIUS=500;X-TITLE=Calle Manuel Llaneza\, 8:geo:-5.7729571,43.2502294
END:VEVENT
END:VCALENDAR