BEGIN:VCALENDAR
VERSION:2.0
PRODID:-//Ayuntamiento de Mieres - ECPv5.16.1.1//NONSGML v1.0//EN
CALSCALE:GREGORIAN
METHOD:PUBLISH
X-WR-CALNAME:Ayuntamiento de Mieres
X-ORIGINAL-URL:https://www.mieres.es
X-WR-CALDESC:Eventos para Ayuntamiento de Mieres
BEGIN:VTIMEZONE
TZID:Europe/Madrid
BEGIN:DAYLIGHT
TZOFFSETFROM:+0100
TZOFFSETTO:+0200
TZNAME:CEST
DTSTART:20220327T010000
END:DAYLIGHT
BEGIN:STANDARD
TZOFFSETFROM:+0200
TZOFFSETTO:+0100
TZNAME:CET
DTSTART:20221030T010000
END:STANDARD
END:VTIMEZONE
BEGIN:VEVENT
DTSTART;TZID=Europe/Madrid:20220905T170000
DTEND;TZID=Europe/Madrid:20220905T170000
DTSTAMP:20260422T222832
CREATED:20220901T121312Z
LAST-MODIFIED:20220901T121312Z
UID:58731-1662397200-1662397200@www.mieres.es
SUMMARY:Exposición pictórica: "Mi papel de seda"\, de Agadina Cano Fidalgo (5/20SET)
DESCRIPTION:Exposición pictórica: \nMi papel de seda\nde Agadina Cano\nDestinada a contribuir a la difusión del trabajo que realizan las Asociaciones ALCER (Asociación Lucha Contra las Enfermedades Renales) y PARKINSON\, por el bienestar de los pacientes con ambas patologías. \nSala de exposiciones de la Casa de Cultura Teodoro Cuesta\nDel 5 al 20 de septiembre de 2022 \nHorario de lunes a viernes\, mañanas de 12 a 14 h.\, tardes de 17 a 21 h. \n\n  \nEl próximo lunes día 5 de Septiembre\, a las 17:00 horas en la sala de exposiciones de la Casa de Cultura Teodoro Cuesta de Mieres\, tendrá lugar la inauguración de la exposición que tiene por título “Mi papel de Seda”\, con las creaciones artísticas de Agadina Cano Fidalgo\, presidenta de Amas de Casa de Pola de Lena. Allí se podrán contemplar todas las obras creadas por ella misma\, como son cuadros\, botellas decoradas\, tejas\, pintura en papel de seda con óleo….\nLa exposición está destina a contribuir a la difusión del trabajo que realizan las Asociaciones ALCER (Asociación Lucha Contra las Enfermedades Renales) y PARKINSON\, por el bienestar de los pacientes con ambas patologías. \nSe podrá visitar gratuitamente de lunes a viernes en horario de 12 a 14 horas y de 17 a 21 horas en la Casa de la Cultura de Mieres\, desde su inauguración el lunes 5 a las 17 horas hasta el 20 de septiembre de este mismo año. \n\n\n 
URL:https://www.mieres.es/evento/exposicion-pictorica-mi-papel-de-seda-de-agadina-cano-fidalgo-5-20set/
LOCATION:Casa de Cultura Teodoro Cuesta\, Calle Manuel Llaneza\, 8\, Mieres\, Asturias\, 33600\, España
CATEGORIES:Arte,Exposiciones
ATTACH;FMTTYPE=image/jpeg:https://www.mieres.es/wp-content/uploads/2022/09/expo-papel-de-seda-agadina-mieres-2022.jpeg
GEO:43.2502294;-5.7729571
X-APPLE-STRUCTURED-LOCATION;VALUE=URI;X-ADDRESS=Casa de Cultura Teodoro Cuesta Calle Manuel Llaneza 8 Mieres Asturias 33600 España;X-APPLE-RADIUS=500;X-TITLE=Calle Manuel Llaneza\, 8:geo:-5.7729571,43.2502294
END:VEVENT
BEGIN:VEVENT
DTSTART;TZID=Europe/Madrid:20220905T213000
DTEND;TZID=Europe/Madrid:20220905T213000
DTSTAMP:20260422T222832
CREATED:20220809T120054Z
LAST-MODIFIED:20220809T120054Z
UID:58588-1662413400-1662413400@www.mieres.es
SUMMARY:Cine pel Camín: "A todo tren\, destino Asturias"
DESCRIPTION:Cine pel Camín 2022\nMieres\, Parque Xovellanos \n\nTítulo original: A todo tren\, destino Asturias \nAño: 2021 \nDuración: 88 min. \nPaís: España \nDirector: Santiago Segura \nGuión: Marta González de Vega\, Santiago Segura \nMúsica: Roque Baños \nFotografía: Ángel Iguacel \n\n  \nReparto \nSantiago Segura\, Leo Harlem\, Diego Arroba “El Cejas”\, Florentino Fernández\, Joaquín Reyes\, David Guapo\, Luna Fulgencio\, Alan Miranda\, Sirena Segura\, Eneko Otero\, Paz Vega… \n  \n\nSinopsis\n\nCuando Ricardo\, padre responsable volcado en su hijo\, decide llevarle a un campamento en Asturias en tren nocturno\, algunos padres le proponen que lleve también a varios de sus hijos Sin embargo\, no cuentan con que en el último minuto les acompañe Felipe\, abuelo de dos de los niños\, un tipo extravagante e irresponsable. Cuando el tren arranca sin Ricardo ni Felipe\, pero con los niños solos dentro\, comenzará una disparatada persecución por parte del padre y del abuelo para alcanzar al tren\, y un alocado viaje por parte de los niños\, donde harán todas las travesuras que no se atreverían nunca a hacer delante de los mayores. (FILMAFFINITY) \n  \n\n\n  \n \n 
URL:https://www.mieres.es/evento/cine-pel-camin-a-todo-tren-destino-asturias-6/
LOCATION:Parque Xovellanos\, Parque Xovellanos\, Mieres\, Asturias\, 33600 
CATEGORIES:Cine
ATTACH;FMTTYPE=image/jpeg:https://www.mieres.es/wp-content/uploads/2021/07/cine-pel-camin.jpeg
GEO:43.2517322;-5.7764018
X-APPLE-STRUCTURED-LOCATION;VALUE=URI;X-ADDRESS=Parque Xovellanos Parque Xovellanos Mieres Asturias 33600;X-APPLE-RADIUS=500;X-TITLE=Parque Xovellanos:geo:-5.7764018,43.2517322
END:VEVENT
END:VCALENDAR