BEGIN:VCALENDAR
VERSION:2.0
PRODID:-//Ayuntamiento de Mieres - ECPv5.16.1.1//NONSGML v1.0//EN
CALSCALE:GREGORIAN
METHOD:PUBLISH
X-WR-CALNAME:Ayuntamiento de Mieres
X-ORIGINAL-URL:https://www.mieres.es
X-WR-CALDESC:Eventos para Ayuntamiento de Mieres
BEGIN:VTIMEZONE
TZID:Europe/Madrid
BEGIN:DAYLIGHT
TZOFFSETFROM:+0100
TZOFFSETTO:+0200
TZNAME:CEST
DTSTART:20220327T010000
END:DAYLIGHT
BEGIN:STANDARD
TZOFFSETFROM:+0200
TZOFFSETTO:+0100
TZNAME:CET
DTSTART:20221030T010000
END:STANDARD
END:VTIMEZONE
BEGIN:VEVENT
DTSTART;TZID=Europe/Madrid:20220907T193000
DTEND;TZID=Europe/Madrid:20220907T193000
DTSTAMP:20260422T192522
CREATED:20220831T083752Z
LAST-MODIFIED:20220831T083752Z
UID:58658-1662579000-1662579000@www.mieres.es
SUMMARY:Proyección del documental: "La mina en llamas"\, de Lito García Cuesta
DESCRIPTION:Proyección del documental: \nLa mina en llamas\nde Lito García Cuesta\nPresentado por el propio director \nAuditoriu Teodoro Cuesta\nEntrada libre hasta completar aforo \n\n  \nPresentación y visionado de este documental dirigido por Lito García Cuesta que cuenta el encierro de 11 mineros de Minas Llamas de Ablaña en 1967\, una página apenas reconocida en la memoria colectiva de Asturias y la cuenca minera. Un hecho que no solo tiene su explicación en el “supuesto éxito” con el cual el Gobierno de Franco resolvió aquel problema\, valiéndose de las circunstancias trágicas vividas por uno de los encerrados\, que enfermó gravemente en el transcurso de la protesta\, condicionando afectivamente las tensas negociaciones\, sino por razones posteriores de diversa índole\, como el eclipse que supuso la mítica Güelgona del 62. \nEn febrero de 1967 una singular protesta en una mina asturiana\, el encierro de 11 mineros de Mina Llamas de Ablaña/Mieres\, de la empresa Nueva Montaña Quijano\, «marcados o señalados» por distintos avatares socio-políticos del momento\, saltaba a las páginas de varios diarios de prestigio de la prensa internacional. De nuevo\, como en la famosa Huelgona del 62\, otra noticia al mundo de mineros españoles plantando cara al régimen de Francisco Franco\, otra página de represión y de incomprensión de buena parte de una ciudadanía aún sin globalizar\, pero sensibilizada ante los totalitarismos por la situación de España que un contexto aperturista en el mundo occidental seguía gobernada bajo una dictadura dos décadas después de finalizada la Segunda Guerra Mundial. A pesar de que esto lo contó y lo siguieron cabeceras como «The New York Times» o «Le Monde»\, en España este asunto se convirtió en uno de los paradigmas de la desinformación o de lo que supone el más absoluto ejemplo de lo que supone el control férreo de todos los medios de comunicación bajo una dictadura. \n50 años después\, aquel dramático encierro a más de 300 metros de profundidad de 11 mineros de Minas Llamas -explotación que más tarde se integraría en el pozo San Nicolás (Nicolasa\, para la cultura minera\, y curiosamente\, único pozo que pervive en actividad tras la fase final de la reconversión carbonera en España)\, aún sigue siendo una página apenas reconocida en la memoria colectiva de Asturias y la Cuenca minera. Hasta ahora. O por lo menos eso intentan Lito García Cuesta «Lito Nicolasa» (clara referencia como minero que fue del pozo mierense) y Adrián Vega\, joven apasionado por la historia\, como su padre José Antonio Vega (autor de una sección de artículos históricos en el diario La Nueva España)\, con el proyecto cultural y de investigación «La mina en Llamas» que pretende rescatar no solo aquel suceso\, sus circunstancias\, sus protagonistas (9 ya han fallecido)\, lo vivido por sus familias\, sino aportar información desconocida de como operó el régimen de Franco ante aquel conflicto que sabían había devuelto cierta presión internacional sobre la situación en España. \n \n\n 
URL:https://www.mieres.es/evento/proyeccion-del-documental-la-mina-en-llamas-de-lito-garcia-cuesta/
LOCATION:Casa de Cultura Teodoro Cuesta\, Calle Manuel Llaneza\, 8\, Mieres\, Asturias\, 33600\, España
CATEGORIES:Cine,Memoria Democrática
ATTACH;FMTTYPE=image/jpeg:https://www.mieres.es/wp-content/uploads/2022/08/mina-en-llamas-septiembre.jpeg
GEO:43.2502294;-5.7729571
X-APPLE-STRUCTURED-LOCATION;VALUE=URI;X-ADDRESS=Casa de Cultura Teodoro Cuesta Calle Manuel Llaneza 8 Mieres Asturias 33600 España;X-APPLE-RADIUS=500;X-TITLE=Calle Manuel Llaneza\, 8:geo:-5.7729571,43.2502294
END:VEVENT
BEGIN:VEVENT
DTSTART;TZID=Europe/Madrid:20220907T213000
DTEND;TZID=Europe/Madrid:20220907T213000
DTSTAMP:20260422T192522
CREATED:20220809T072146Z
LAST-MODIFIED:20220809T072146Z
UID:58550-1662586200-1662586200@www.mieres.es
SUMMARY:Cine pel Camín: "Las Brujas (de Roald Dahl)"
DESCRIPTION:Cine pel Camín 2022\n\nTítulo original: The Witches \nAño: 2020 \nDuración: 100 min. \nPaís: EEUU \nDirector: Robert Zemeckis \nGuión: Robert Zemeckis\, Kenya Barris\, Guillermo del Toro. Novela: Roald Dahl. Guion original: Allan Scott \nMúsica: Alan Silvestri \nFotografía: Don Burgess \n\n  \nReparto \nAnne Hathaway\, Octavia Spencer\, Jahzir Bruno\, Stanley Tucci\, Chris Rock\, Angus Wright\, Philippe Spall\, Simon Manyonda\, Jon Prophet\, Charles Edwards\, Morgana Robinson\, Anna Devlin\, Eugenia Caruso \n  \n\nSinopsis\n\nCuenta la conmovedora historia de un pequeño huérfano (Bruno) que\, a finales de 1967\, se va a vivir con su querida abuela (Spencer) a Demopolis\, un pueblo de Alabama. El niño y su abuela tienen extraños encuentros con algunas brujas aparentemente glamurosas pero absolutamente diabólicas\, así que ella decide quitarse de en medio y llevarse al chico a un hotel de lujo en la costa. Por desgracia\, llegan exactamente al mismo tiempo que la Gran Bruja (Hathaway) que ha reunido a sus compinches de todo el planeta -que van de incógnito- para llevar a cabo sus horribles planes. Adaptación del libro “Las brujas” de Roald Dahl. (FILMAFFINITY) \n\n\n 
URL:https://www.mieres.es/evento/cine-pel-camin-las-brujas-de-roald-dahl-3/
LOCATION:Ablaña
CATEGORIES:Cine
ATTACH;FMTTYPE=image/jpeg:https://www.mieres.es/wp-content/uploads/2021/07/cine-pel-camin.jpeg
END:VEVENT
END:VCALENDAR