BEGIN:VCALENDAR
VERSION:2.0
PRODID:-//Ayuntamiento de Mieres - ECPv5.16.1.1//NONSGML v1.0//EN
CALSCALE:GREGORIAN
METHOD:PUBLISH
X-WR-CALNAME:Ayuntamiento de Mieres
X-ORIGINAL-URL:https://www.mieres.es
X-WR-CALDESC:Eventos para Ayuntamiento de Mieres
BEGIN:VTIMEZONE
TZID:Europe/Madrid
BEGIN:DAYLIGHT
TZOFFSETFROM:+0100
TZOFFSETTO:+0200
TZNAME:CEST
DTSTART:20220327T010000
END:DAYLIGHT
BEGIN:STANDARD
TZOFFSETFROM:+0200
TZOFFSETTO:+0100
TZNAME:CET
DTSTART:20221030T010000
END:STANDARD
END:VTIMEZONE
BEGIN:VEVENT
DTSTART;TZID=Europe/Madrid:20220909T213000
DTEND;TZID=Europe/Madrid:20220909T213000
DTSTAMP:20260422T163030
CREATED:20220809T115535Z
LAST-MODIFIED:20220809T115535Z
UID:58582-1662759000-1662759000@www.mieres.es
SUMMARY:Cine pel Camín: "Los Croods: Una nueva era"
DESCRIPTION:Cine pel Camín 2022\nFigareo\, patio del Colegio Público Las Vegas \n\nTítulo original: The Croods: A New Age \nAño: 2020 \nDuración: 95 min. \nPaís: EEUU \nDirector:Joel Crawford \nGuión: Kevin Hageman\, Dan Hageman\, Paul Fisher\, Bob Logan \nMúsica: Mark Mothersbaugh \nFotografía: Animación \n\n  \nReparto \n(Animación) \n\nSinopsis\n\nObligados a partir en busca de un nuevo lugar donde vivir\, la primera familia prehistórica se aventura a explorar el mundo con el objetivo de localizar un lugar más seguro al que llamar hogar. Pero cuando encuentran un idílico paraíso amurallado que cumple con todas sus necesidades\, se encuentran con que ese lugar esconde una sorpresa: hay otra familia que ya vive allí\, los Masmejor. Y es que los Masmejor\, con su elaborada casa en un árbol\, sus asombrosas invenciones y sus enormes huertos\, van un par de pasos por delante de los Croods en la escala evolutiva. Y cuando les reciben como sus primeros invitados\, no tardan en surgir tensiones entre nuestros queridos cavernícolas y sus nuevos y modernos semejantes. Cuando todo parece perdido\, una nueva amenaza embarca a las dos familias en una aventura épica más allá de la seguridad de la muralla\, que les obligará a aparcar sus diferencias\, aunar fuerzas y luchar por un futuro juntos. (FILMAFFINITY) \n\n\n  \n \n 
URL:https://www.mieres.es/evento/cine-pel-camin-los-croods-una-nueva-era-2/
LOCATION:Figareo\, 33683\, Mieres\, Asturias\, Asturias\, 33683
CATEGORIES:Cine
ATTACH;FMTTYPE=image/jpeg:https://www.mieres.es/wp-content/uploads/2021/07/cine-pel-camin.jpeg
GEO:43.2390375;-5.7352478
X-APPLE-STRUCTURED-LOCATION;VALUE=URI;X-ADDRESS=Figareo 33683 Mieres Asturias Asturias 33683;X-APPLE-RADIUS=500;X-TITLE=33683\, Mieres\, Asturias:geo:-5.7352478,43.2390375
END:VEVENT
END:VCALENDAR