BEGIN:VCALENDAR
VERSION:2.0
PRODID:-//Ayuntamiento de Mieres - ECPv5.16.1.1//NONSGML v1.0//EN
CALSCALE:GREGORIAN
METHOD:PUBLISH
X-WR-CALNAME:Ayuntamiento de Mieres
X-ORIGINAL-URL:https://www.mieres.es
X-WR-CALDESC:Eventos para Ayuntamiento de Mieres
BEGIN:VTIMEZONE
TZID:Europe/Madrid
BEGIN:DAYLIGHT
TZOFFSETFROM:+0100
TZOFFSETTO:+0200
TZNAME:CEST
DTSTART:20220327T010000
END:DAYLIGHT
BEGIN:STANDARD
TZOFFSETFROM:+0200
TZOFFSETTO:+0100
TZNAME:CET
DTSTART:20221030T010000
END:STANDARD
END:VTIMEZONE
BEGIN:VEVENT
DTSTART;TZID=Europe/Madrid:20220910T193000
DTEND;TZID=Europe/Madrid:20220910T193000
DTSTAMP:20260422T145937
CREATED:20220831T094259Z
LAST-MODIFIED:20220831T094956Z
UID:58662-1662838200-1662838200@www.mieres.es
SUMMARY:Fiestas del Cristo de Turón 2022
DESCRIPTION:  \nFIESTAS DEL CRISTO DE LA PAZ\nTURÓN 2022\n  \n\n  \nPROGRAMA\nSábado\, 10 de septiembre\n\n  \nII Marcha Nocturna Vía La Carisa (Memorial Santiago Prieto) “Titi”.\nSalida de Pendilla a las 19:30 h y final en Carabanzo. Los autobuses saldrán del parking del Campus de Mieres a las 17:30h. Habrá parada también en Figaredo. \n  \n19:30h. Festival de Masas Corales (Iglesia de San Martín de Turón)\nCon la participación de: \n\nCoral Maestro Lozano\nAgrupación Musical Solvay\nCoro Minero de Turón\nGrupo de Gaitas (Sin confirmar)\n\n  \n\n 
URL:https://www.mieres.es/evento/fiestas-del-cristo-de-turon-2022/
LOCATION:Turón\, Calle Centro\, 9\, 33610 Mieres\, Asturias\, Turón\, Asturias\, 33610\, España
CATEGORIES:Festejos
ATTACH;FMTTYPE=image/jpeg:https://www.mieres.es/wp-content/uploads/2022/08/fiestas-cristo-paz-turon-2022.jpg
GEO:43.209144;-5.7417617
X-APPLE-STRUCTURED-LOCATION;VALUE=URI;X-ADDRESS=Turón Calle Centro 9 33610 Mieres Asturias Turón Asturias 33610 España;X-APPLE-RADIUS=500;X-TITLE=Calle Centro\, 9\, 33610 Mieres\, Asturias:geo:-5.7417617,43.209144
END:VEVENT
BEGIN:VEVENT
DTSTART;TZID=Europe/Madrid:20220910T214500
DTEND;TZID=Europe/Madrid:20220910T214500
DTSTAMP:20260422T145937
CREATED:20220809T093014Z
LAST-MODIFIED:20220809T093014Z
UID:58567-1662846300-1662846300@www.mieres.es
SUMMARY:Cine pel Camín: "García y García"
DESCRIPTION:Cine pel Camín 2022\nLa Rebollá\, Pista Polideportiva. \n\nTítulo original: García y García \nAño: 2021 \nDuración: 98 min. \nPaís: España \nDirector: Ana Murugarren \nGuión: Ana Murugarren\, Ana Galán \nMúsica: Aitzol Saratxaga \nFotografía: Albert Pascual \n\n  \nReparto \nJosé Mota\, Pepe Viyuela\, Eva Ugarte\, Carlos Areces\, Martita de Graná\, Jordi Sánchez\, Ricardo Castella\, Jesús Vidal\, Naiara Arnedo\, Antonio Resines\, Mikel Losada\, Alexity\, Ramón Barea \n\nSinopsis\n\nHispavia\, una aerolínea low cost de poca monta\, se encuentra en graves dificultades. Ni sus números cuadran\, ni sus aviones vuelan. En un intento desesperado por salvar la compañía\, deciden contratar simultáneamente a un prestigioso consultor de aerolíneas y a un experto mecánico en paro. Los dos se llaman Javier García. La casualidad y la desorganización de la empresa harán que sean confundidos e intercambien sus papeles\, y mientras el mecánico es atendido por el dueño de la compañía y alojado en hoteles de lujo\, el ejecutivo acaba en el hangar\, enfundado en un mono grasiento. Perplejos y sin saber qué está sucediendo\, ambos se van enfrentando a los cometidos del otro\, hasta que los dos Javier García se encuentran y descubren el error. (FILMAFFINITY) \n\n\n  \n \n 
URL:https://www.mieres.es/evento/cine-pel-camin-garcia-y-garcia-3/
LOCATION:La Rebollá
CATEGORIES:Cine
ATTACH;FMTTYPE=image/jpeg:https://www.mieres.es/wp-content/uploads/2021/07/cine-pel-camin.jpeg
END:VEVENT
END:VCALENDAR