BEGIN:VCALENDAR
VERSION:2.0
PRODID:-//Ayuntamiento de Mieres - ECPv5.16.1.1//NONSGML v1.0//EN
CALSCALE:GREGORIAN
METHOD:PUBLISH
X-WR-CALNAME:Ayuntamiento de Mieres
X-ORIGINAL-URL:https://www.mieres.es
X-WR-CALDESC:Eventos para Ayuntamiento de Mieres
BEGIN:VTIMEZONE
TZID:Europe/Madrid
BEGIN:DAYLIGHT
TZOFFSETFROM:+0100
TZOFFSETTO:+0200
TZNAME:CEST
DTSTART:20220327T010000
END:DAYLIGHT
BEGIN:STANDARD
TZOFFSETFROM:+0200
TZOFFSETTO:+0100
TZNAME:CET
DTSTART:20221030T010000
END:STANDARD
END:VTIMEZONE
BEGIN:VEVENT
DTSTART;TZID=Europe/Madrid:20220911T110000
DTEND;TZID=Europe/Madrid:20220911T110000
DTSTAMP:20260422T133323
CREATED:20220728T114935Z
LAST-MODIFIED:20220801T074455Z
UID:58431-1662894000-1662894000@www.mieres.es
SUMMARY:Exposición "El arte por el arte"\, pinturas y esculturas de José M. Félix Magdalena (22JUN/11SEP)
DESCRIPTION:Exposición \nEl arte por el arte\nPinturas y esculturas de José M. Félix Magdalena \nSala de exposiciones Mieres Centru Cultural\nDel 22 de junio al 11 de septiembre de 2022 \nHorario: Miércoles\, jueves y viernes de 16:00 a 19:30 h. Sábados y domingos de 11:00 a 14:00 h y de 16:00 a 19:30 h \n\n  \n\nJOSÉ MANUEL FÉLIX MAGDALENA \nNació el 14 de octubre de 1941 en Brañanoveles\, Mieres\, criado en un ambiente escasamente propicio para desarrollar inquietudes artísticas. Desde muy temprana edad\, muestra facilidad para el dibujo y habilidad manual.  \nTiempos duros\, estudia en el Grupo Escolar Aniceto Sela\, en la Academia Lastra\, en la Escuela de Aprendices de la Fábrica de Mieres de donde sale con oficio\, se titula también como Ingeniero Técnico de Minas  y pasados algunos años se licencia en Historia del Arte en la Universidad de Oviedo.   \nDesde 1958\, año en que ingresa en la empresa Fábrica de Mieres como aprendiz hasta 1993 en que  tiene lugar su prejubilación en Hunosa ha completado su carrera laboral siempre ascendente   finalizando como jefe del departamento de organización y servicios generales de la empresa.  \nPudo desarrollar simultáneamente con el trabajo en la empresa su innata vocación artística primero como pintor y escultor creando en conjunto una obra plástica importante.  \nEsencialmente autodidacta\, y no profesionalizado en sentido estricto\, es disciplinado\, riguroso y se ha formado sólidamente en anatomía artística\, perspectiva y composición así como en el conocimiento de procedimientos técnicos y de materiales.  \nSus gustos preferentes\, aunque no exclusivos\, se han mantenido desde siempre dentro de una estética de base realista. Admirador de la escultura griega helenística\, se ha decantado hacia una especie de clasicismo sui generis más o menos academicista donde se encuentra muy cómodo.  \nTiene obras en lugares o centros públicos y en muy pocas ocasiones ha expuesto individualmente. \nHa publicado un libro artístico de gran formato que contiene más de ciento veinte dibujos en color originales propios. Con tales dibujos se llevó a cabo una magnífica exposición en el Real Instituto de Estudios Asturianos durante los meses de abril y mayo de 1992\, muy visitada. \n  \n\n\n 
URL:https://www.mieres.es/evento/exposicion-el-arte-por-el-arte-pinturas-y-esculturas-de-jose-m-felix-magdalena-22jun-11sep/
LOCATION:Mieres Centru Cultural\, Calle Jerónimo Ibrán\, 10\, Mieres\, Asturias\, 33600
CATEGORIES:Exposiciones
ATTACH;FMTTYPE=image/jpeg:https://www.mieres.es/wp-content/uploads/2022/07/El-arte-por-el-arte-Felix-Magdalena-scaled.jpg
END:VEVENT
END:VCALENDAR