BEGIN:VCALENDAR
VERSION:2.0
PRODID:-//Ayuntamiento de Mieres - ECPv5.16.1.1//NONSGML v1.0//EN
CALSCALE:GREGORIAN
METHOD:PUBLISH
X-WR-CALNAME:Ayuntamiento de Mieres
X-ORIGINAL-URL:https://www.mieres.es
X-WR-CALDESC:Eventos para Ayuntamiento de Mieres
BEGIN:VTIMEZONE
TZID:Europe/Madrid
BEGIN:DAYLIGHT
TZOFFSETFROM:+0100
TZOFFSETTO:+0200
TZNAME:CEST
DTSTART:20220327T010000
END:DAYLIGHT
BEGIN:STANDARD
TZOFFSETFROM:+0200
TZOFFSETTO:+0100
TZNAME:CET
DTSTART:20221030T010000
END:STANDARD
END:VTIMEZONE
BEGIN:VEVENT
DTSTART;VALUE=DATE:20220912
DTEND;VALUE=DATE:20220913
DTSTAMP:20260422T120016
CREATED:20220901T114621Z
LAST-MODIFIED:20220901T114621Z
UID:58728-1662940800-1663027199@www.mieres.es
SUMMARY:XIV Jornadas de Historia y Patrimonio. Exposición fotográfica en la calle: "Mieres. Patrimonio Industrial" (12/26SET)
DESCRIPTION:XIV Jornadas de Historia y Patrimonio. 2022\nMIERES: PATRIMONIO INDUSTRIAL \n  \nExposición fotográfica en la calle: \nMieres. Patrimonio Industrial\nInstantáneas a gran formato de 12 elementos de los más importantes del Patrimonio Industrial del Concejo \n  \nPaseo de la antigua estación del Vasco\ndel 12 al 26 de Septiembre de 2022 \n  \n\n  \nEl Concejo de Mieres se caracteriza por tener un abundante y rico Patrimonio Industrial\, principalmente minero. Mieres fue uno de los principales escenarios dentro de la revolución industrial de este país\, con un amplio elenco de compañías\, principalmente foráneas\, que se repartieron el territorio para explotar sus recursos naturales. Esta circunstancia hace que hayan llegado hasta nuestros días importantes vestigios industriales que\, a día de hoy\, pueden ser un importante recurso cultural\, lúdicoy turístico. \nTal abundancia de elementos necesita una reflexión profunda desde el punto de vista de la conservación\, preguntándonos qué mantener y para qué\, sabiendo que no se puede conservar todo y poner en valor. \nActualmente contamos con dos Bienes de Interés Cultural\, como son el pozo Santa Bárbara o el poblado de Bustiello\, en perfecto uso y con contenidos. Elementos como el pozu Espinos\, el puente de Ricastro o ejemplos de vivienda obrera\, como los cuarteles de Santa Cruz\, bien conservados y merecedores de una visita para su contemplación y conocimiento de su historia. Asimismo poseemos una importante representación de locomotoras de vapor\, como testimonio de bienes muebles industriales\, que necesitan otro ámbito de exposición que no sea la calle pura y dura. Otros elementos patrimoniales como los talleres de Renfe en Ujo o como el pozu Polio\, requieren de la reflexión que hablábamos antes\, para aportar ideas y contenidos para su uso. \nEn los últimos tiempos se ha avanzado en protección\, rehabilitación y usos para este legado patrimonial\, pero aún queda mucho por hacer. \nJosé Luis Soto García \n\n 
URL:https://www.mieres.es/evento/xiv-jornadas-de-historia-y-patrimonio-exposicion-fotografica-en-la-calle-mieres-patrimonio-industrial-12-26set/
LOCATION:Casco urbano\, Mieres del Camín\, Asturias\, 33600\, España
CATEGORIES:Exposiciones,Jornadas,Patrimonio,Visita guiada
ATTACH;FMTTYPE=image/jpeg:https://www.mieres.es/wp-content/uploads/2019/09/XIV-Jornadas-Historia-y-Patrimonio-cartel-Mieres-scaled.jpg
GEO:43.2491037;-5.7747551
END:VEVENT
BEGIN:VEVENT
DTSTART;TZID=Europe/Madrid:20220912T110000
DTEND;TZID=Europe/Madrid:20220912T110000
DTSTAMP:20260422T120016
CREATED:20220831T111324Z
LAST-MODIFIED:20220831T111818Z
UID:58686-1662980400-1662980400@www.mieres.es
SUMMARY:Exposición fotográfica: "Guajiro. Alma de Cuba"\, de Emilio Olivares Beltrán (1/30SET)
DESCRIPTION:Exposición fotográfica: \n“Guajiro. Alma de Cuba”\nde Emilio Olivares Beltrán\nVestíbulo de la Casa de Cultura Teodoro Cuesta\nDel 1 al 30 de septiembre de 2022 \nHorario de lunes a viernes\, mañanas de 12 a 14 h.\, tardes de 17 a 21 h. \n\n  \nExposición fotográfica “Guajiro. Alma de cuba”\, una serie de fotografías del autor Emilio Olivares Beltrán. La muestra permanecerá expuesta del 1 al 30 de septiembre en el Vestíbulo de la Casa de Cultura. \n  \n\n\n 
URL:https://www.mieres.es/evento/exposicion-fotografica-guajiro-alma-de-cuba-de-emilio-olivares-beltran-1-30set/
LOCATION:Casa de Cultura Teodoro Cuesta\, Calle Manuel Llaneza\, 8\, Mieres\, Asturias\, 33600\, España
CATEGORIES:Arte,Exposiciones
ATTACH;FMTTYPE=image/jpeg:https://www.mieres.es/wp-content/uploads/2022/08/exposicion-guajiro-mieres-2022.jpeg
GEO:43.2502294;-5.7729571
X-APPLE-STRUCTURED-LOCATION;VALUE=URI;X-ADDRESS=Casa de Cultura Teodoro Cuesta Calle Manuel Llaneza 8 Mieres Asturias 33600 España;X-APPLE-RADIUS=500;X-TITLE=Calle Manuel Llaneza\, 8:geo:-5.7729571,43.2502294
END:VEVENT
END:VCALENDAR