BEGIN:VCALENDAR
VERSION:2.0
PRODID:-//Ayuntamiento de Mieres - ECPv5.16.1.1//NONSGML v1.0//EN
CALSCALE:GREGORIAN
METHOD:PUBLISH
X-WR-CALNAME:Ayuntamiento de Mieres
X-ORIGINAL-URL:https://www.mieres.es
X-WR-CALDESC:Eventos para Ayuntamiento de Mieres
BEGIN:VTIMEZONE
TZID:Europe/Madrid
BEGIN:DAYLIGHT
TZOFFSETFROM:+0100
TZOFFSETTO:+0200
TZNAME:CEST
DTSTART:20220327T010000
END:DAYLIGHT
BEGIN:STANDARD
TZOFFSETFROM:+0200
TZOFFSETTO:+0100
TZNAME:CET
DTSTART:20221030T010000
END:STANDARD
END:VTIMEZONE
BEGIN:VEVENT
DTSTART;VALUE=DATE:20220916
DTEND;VALUE=DATE:20220917
DTSTAMP:20260422T060838
CREATED:20220831T101949Z
LAST-MODIFIED:20220831T101949Z
UID:58680-1663286400-1663372799@www.mieres.es
SUMMARY:Fiestas del Cristo de Turón 2022
DESCRIPTION:  \nFIESTAS DEL CRISTO DE LA PAZ\nTURÓN 2022\n  \n\n  \nPROGRAMA\nViernes\, 16 de septiembre\n\n  \n18:00h.  Final del torneo de bolos “Gabriel Mier Suárez” \n18:00h. Holly party DJ (En el parque de Turón) \n19:00h. Fiesta de la espuma (En el parque de Turón)\nPatrocina: Garaje Arsenio \n19:30 Presentación del libro “Maldad”\nde Leticia Sierra\nPresentado por Laude Martínez (Ateneo de Turón) \n20:00h. Música en la calle\nLa Felguera (artista/grupo por confirmar) \n21:00h. Música en la calle\nLa Veguina:  “La Malquerida” \n23:00h. Verbena:\nGrupo Ideas y DJ \n  \n\n 
URL:https://www.mieres.es/evento/fiestas-del-cristo-de-turon-2022-5/
LOCATION:Turón\, Calle Centro\, 9\, 33610 Mieres\, Asturias\, Turón\, Asturias\, 33610\, España
CATEGORIES:Festejos
ATTACH;FMTTYPE=image/jpeg:https://www.mieres.es/wp-content/uploads/2022/08/fiestas-cristo-paz-turon-2022.jpg
GEO:43.209144;-5.7417617
X-APPLE-STRUCTURED-LOCATION;VALUE=URI;X-ADDRESS=Turón Calle Centro 9 33610 Mieres Asturias Turón Asturias 33610 España;X-APPLE-RADIUS=500;X-TITLE=Calle Centro\, 9\, 33610 Mieres\, Asturias:geo:-5.7417617,43.209144
END:VEVENT
BEGIN:VEVENT
DTSTART;TZID=Europe/Madrid:20220916T190000
DTEND;TZID=Europe/Madrid:20220916T190000
DTSTAMP:20260422T060838
CREATED:20190917T095554Z
LAST-MODIFIED:20220901T105523Z
UID:34739-1663354800-1663354800@www.mieres.es
SUMMARY:XIV Jornadas de Historia y Patrimonio. Conferencia: "Recorrido por los castilletes de minería hullera asturiana y su clasificación"\, por David González
DESCRIPTION:XIV Jornadas de Historia y Patrimonio. 2022\nMIERES: PATRIMONIO INDUSTRIAL \n  \nConferencia/Charla: \nRecorrido por los castilletes de minería hullera asturiana y su clasificación\npor David González Palomares\nSalón de actos de la Casa de Cultura Teodoro Cuesta\nViernes\, 16 de septiembre de 2022\n19:00 h. \nEntrada libre hasta completar aforo \n\n  \nDavid González Palomares\, Premio fin de grado de Historia. Se trata de una conferencia basada en un estudio erudito y exhaustivo sobre las tipologías y características de los castilletes de la minería de hulla asturiana\, basada en su libro de igual título. \n  \n\n  \nEl Concejo de Mieres se caracteriza por tener un abundante y rico Patrimonio Industrial\, principalmente minero. Mieres fue uno de los principales escenarios dentro de la revolución industrial de este país\, con un amplio elenco de compañías\, principalmente foráneas\, que se repartieron el territorio para explotar sus recursos naturales. Esta circunstancia hace que hayan llegado hasta nuestros días importantes vestigios industriales que\, a día de hoy\, pueden ser un importante recurso cultural\, lúdicoy turístico. \nTal abundancia de elementos necesita una reflexión profunda desde el punto de vista de la conservación\, preguntándonos qué mantener y para qué\, sabiendo que no se puede conservar todo y poner en valor. \nActualmente contamos con dos Bienes de Interés Cultural\, como son el pozo Santa Bárbara o el poblado de Bustiello\, en perfecto uso y con contenidos. Elementos como el pozu Espinos\, el puente de Ricastro o ejemplos de vivienda obrera\, como los cuarteles de Santa Cruz\, bien conservados y merecedores de una visita para su contemplación y conocimiento de su historia. Asimismo poseemos una importante representación de locomotoras de vapor\, como testimonio de bienes muebles industriales\, que necesitan otro ámbito de exposición que no sea la calle pura y dura. Otros elementos patrimoniales como los talleres de Renfe en Ujo o como el pozu Polio\, requieren de la reflexión que hablábamos antes\, para aportar ideas y contenidos para su uso. \nEn los últimos tiempos se ha avanzado en protección\, rehabilitación y usos para este legado patrimonial\, pero aún queda mucho por hacer. \nJosé Luis Soto García \n\n 
URL:https://www.mieres.es/evento/xi-jornadas-de-historia-y-patrimonio-exposicion-fotografica-el-vapor-que-movio-la-cuenca-del-caudal-16-30-set/
LOCATION:Casa de Cultura Teodoro Cuesta\, Calle Manuel Llaneza\, 8\, Mieres\, Asturias\, 33600\, España
CATEGORIES:Jornadas,Patrimonio
ATTACH;FMTTYPE=image/jpeg:https://www.mieres.es/wp-content/uploads/2019/09/XIV-Jornadas-Historia-y-Patrimonio-cartel-Mieres-scaled.jpg
GEO:43.2502294;-5.7729571
X-APPLE-STRUCTURED-LOCATION;VALUE=URI;X-ADDRESS=Casa de Cultura Teodoro Cuesta Calle Manuel Llaneza 8 Mieres Asturias 33600 España;X-APPLE-RADIUS=500;X-TITLE=Calle Manuel Llaneza\, 8:geo:-5.7729571,43.2502294
END:VEVENT
END:VCALENDAR