BEGIN:VCALENDAR
VERSION:2.0
PRODID:-//Ayuntamiento de Mieres - ECPv5.16.1.1//NONSGML v1.0//EN
CALSCALE:GREGORIAN
METHOD:PUBLISH
X-WR-CALNAME:Ayuntamiento de Mieres
X-ORIGINAL-URL:https://www.mieres.es
X-WR-CALDESC:Eventos para Ayuntamiento de Mieres
BEGIN:VTIMEZONE
TZID:Europe/Madrid
BEGIN:DAYLIGHT
TZOFFSETFROM:+0100
TZOFFSETTO:+0200
TZNAME:CEST
DTSTART:20220327T010000
END:DAYLIGHT
BEGIN:STANDARD
TZOFFSETFROM:+0200
TZOFFSETTO:+0100
TZNAME:CET
DTSTART:20221030T010000
END:STANDARD
END:VTIMEZONE
BEGIN:VEVENT
DTSTART;TZID=Europe/Madrid:20220922T080000
DTEND;TZID=Europe/Madrid:20220922T150000
DTSTAMP:20260421T212611
CREATED:20220916T072303Z
LAST-MODIFIED:20220916T073318Z
UID:58900-1663833600-1663858800@www.mieres.es
SUMMARY:Día Internacional sin coche
DESCRIPTION:SEMANA EUROPEA DE LA MOVILIDAD 2022 \n  \nDÍA INTERNACIONAL SIN COCHE\nActividades de educación vial\, corte de calle Manuel Llaneza\, Autobuses gratuitos todo el día\n\nCorte de Calle Manuel Llaneza de 8:00 a 15:00h.\n– 8:45 Bicibús escolar\n– 10:30 Actividades de educación vial en la calle\n– 20:00 Mesa redonda: El papel del transporte público en la encrucijada actual\n– Autobus EMUTSA gratuito todo el día \n\n  \nLa Semana Europea de la Movilidad es la principal campaña de sensibilización de la Comisión Europea sobre movilidad urbana sostenible. Fomenta el cambio de comportamiento a favor de la movilidad activa\, el transporte público y otras soluciones de transporte limpias e inteligentes. El tema anual para este año 2022 es ‘Mejores conexiones‘ y tiene como objetivo difundir los beneficios del uso de modos de transporte sostenibles. Con más pueblos y ciudades uniéndose cada año\, la campaña continúa impulsando a Europa\, hacia la movilidad urbana sostenible. \nEn esta semana\, organizada alrededor del Día sin coches\, que se celebra el día 22 de septiembre\, se organizan diferentes actividades para fomentar el transporte público y la recuperación de espacios para peatones y ciclistas. Nuestro concejo se ha sumado a esta iniciativa con dos interesantes rutas guiadas por nuestro casco urbano\, una mesa redonda sobre el importante papel del transporte público en la actualidad\, toda una serie de actividades de educación vial y contacto con la calle vacía de coches en ese día y con la iniciativa de EMUTSA\, que permitirá el uso gratuito de todos sus autobuses a lo largo de ese día 22. \n 
URL:https://www.mieres.es/evento/dia-internacional-sin-coche/
LOCATION:Casa de Cultura Teodoro Cuesta\, Calle Manuel Llaneza\, 8\, Mieres\, Asturias\, 33600\, España
CATEGORIES:Jornadas,Medio Ambiente
ATTACH;FMTTYPE=image/jpeg:https://www.mieres.es/wp-content/uploads/2022/09/Dia-internacional-sin-coche-2022-web.jpg
GEO:43.2502294;-5.7729571
X-APPLE-STRUCTURED-LOCATION;VALUE=URI;X-ADDRESS=Casa de Cultura Teodoro Cuesta Calle Manuel Llaneza 8 Mieres Asturias 33600 España;X-APPLE-RADIUS=500;X-TITLE=Calle Manuel Llaneza\, 8:geo:-5.7729571,43.2502294
END:VEVENT
BEGIN:VEVENT
DTSTART;TZID=Europe/Madrid:20220922T200000
DTEND;TZID=Europe/Madrid:20220922T200000
DTSTAMP:20260421T212611
CREATED:20220916T073113Z
LAST-MODIFIED:20220916T073339Z
UID:58903-1663876800-1663876800@www.mieres.es
SUMMARY:Día Internacional sin coche. Mesa redonda: "El papel del transporte público en la encrucijada actual"
DESCRIPTION:SEMANA EUROPEA DE LA MOVILIDAD 2022 \nMesa redonda: \nEl papel del transporte público en la encrucijada actual\n\n\nCon motivo del Día sin coche y del contexto actual de crisis energética\, es cada día más importante incentivar el uso de medios de transporte más sostenibles que garanticen un planeta ambientalmente más equilibrado y sostenible. \nCon la participación de: \n\nAndrés Gutiérrez\, gerente de EMUTSA.\nAmador Robles\, coordinador de proyectos de innovación ferroviaria. RENFE.\nModerada por Sergio Gutiérrez\, concejal de Medio Ambiente del Ayuntamiento de Mieres.\n\n\n  \nLa Semana Europea de la Movilidad es la principal campaña de sensibilización de la Comisión Europea sobre movilidad urbana sostenible. Fomenta el cambio de comportamiento a favor de la movilidad activa\, el transporte público y otras soluciones de transporte limpias e inteligentes. El tema anual para este año 2022 es ‘Mejores conexiones‘ y tiene como objetivo difundir los beneficios del uso de modos de transporte sostenibles. Con más pueblos y ciudades uniéndose cada año\, la campaña continúa impulsando a Europa\, hacia la movilidad urbana sostenible. \nEn esta semana\, organizada alrededor del Día sin coches\, que se celebra el día 22 de septiembre\, se organizan diferentes actividades para fomentar el transporte público y la recuperación de espacios para peatones y ciclistas. Nuestro concejo se ha sumado a esta iniciativa con dos interesantes rutas guiadas por nuestro casco urbano\, una mesa redonda sobre el importante papel del transporte público en la actualidad\, toda una serie de actividades de educación vial y contacto con la calle vacía de coches en ese día y con la iniciativa de EMUTSA\, que permitirá el uso gratuito de todos sus autobuses a lo largo de ese día 22. \n 
URL:https://www.mieres.es/evento/dia-internacional-sin-coche-mesa-redonda-el-papel-del-transporte-publico-en-la-encrucijada-actual/
LOCATION:Casa de Cultura Teodoro Cuesta\, Calle Manuel Llaneza\, 8\, Mieres\, Asturias\, 33600\, España
CATEGORIES:Jornadas,Medio Ambiente
ATTACH;FMTTYPE=image/jpeg:https://www.mieres.es/wp-content/uploads/2022/09/Mesa-redonda-Dia-internacional-sin-coche-2022-web.jpg
GEO:43.2502294;-5.7729571
X-APPLE-STRUCTURED-LOCATION;VALUE=URI;X-ADDRESS=Casa de Cultura Teodoro Cuesta Calle Manuel Llaneza 8 Mieres Asturias 33600 España;X-APPLE-RADIUS=500;X-TITLE=Calle Manuel Llaneza\, 8:geo:-5.7729571,43.2502294
END:VEVENT
END:VCALENDAR