BEGIN:VCALENDAR
VERSION:2.0
PRODID:-//Ayuntamiento de Mieres - ECPv5.16.1.1//NONSGML v1.0//EN
CALSCALE:GREGORIAN
METHOD:PUBLISH
X-WR-CALNAME:Ayuntamiento de Mieres
X-ORIGINAL-URL:https://www.mieres.es
X-WR-CALDESC:Eventos para Ayuntamiento de Mieres
BEGIN:VTIMEZONE
TZID:Europe/Madrid
BEGIN:DAYLIGHT
TZOFFSETFROM:+0100
TZOFFSETTO:+0200
TZNAME:CEST
DTSTART:20240331T010000
END:DAYLIGHT
BEGIN:STANDARD
TZOFFSETFROM:+0200
TZOFFSETTO:+0100
TZNAME:CET
DTSTART:20241027T010000
END:STANDARD
END:VTIMEZONE
BEGIN:VEVENT
DTSTART;TZID=Europe/Madrid:20241016T103000
DTEND;TZID=Europe/Madrid:20241016T103000
DTSTAMP:20260421T115659
CREATED:20241014T110112Z
LAST-MODIFIED:20241014T110112Z
UID:71012-1729074600-1729074600@www.mieres.es
SUMMARY:Encuentros "En acción contra la soledad no deseada": Ejercitamos nuestra memoria
DESCRIPTION:Encuentros-Talleres \n\n“En acción contra la soledad no deseada”\nEjercitamos nuestra memoria\n\n  \nMiércoles\, 16 de octubre\, 10:30h. \nLocal de la Asamblea Local de Cruz Roja. C/ Ramón y Cajal\, 8 \n  \nInscripción gratuita y más información en el teléfono 985 464 000 o a través del mail: voluntariadoarea7@cruzroja.es \n(Organizado por el Centro de Voluntariado y Participación Social Área VII. Cruz Roja) \n\n  \nEl Centro de Voluntariado y Participación Social del Área VII nos ofrece en esta ocasión una actividad dirigida a la lucha contra la soledad no deseada que sufren tantas personas de nuestra Área. El grupo que se va formando quien decide qué tipo de labor realizan en la siguiente sesión\, en esta ocasión será dedicada a “Ejercitamos nuestra memoria”. \nEl único requisito en estas actividades es ser mayor de edad. La inscripción es gratuita y las plazas son limitadas. \n  \n\n 
URL:https://www.mieres.es/evento/encuentros-en-accion-contra-la-soledad-no-deseada-ejercitamos-nuestra-memoria/
LOCATION:Asamblea Local Cruz Roja Mieres\, Calle Ramón y Cajal 8\, Mieres\, Asturias\, 33600
CATEGORIES:Salud,Taller
ATTACH;FMTTYPE=image/png:https://www.mieres.es/wp-content/uploads/2024/10/cartel-soledad-no-deseada-octubre-2024.png
GEO:43.2481344;-5.7720056
X-APPLE-STRUCTURED-LOCATION;VALUE=URI;X-ADDRESS=Asamblea Local Cruz Roja Mieres Calle Ramón y Cajal 8 Mieres Asturias 33600;X-APPLE-RADIUS=500;X-TITLE=Calle Ramón y Cajal 8:geo:-5.7720056,43.2481344
END:VEVENT
BEGIN:VEVENT
DTSTART;TZID=Europe/Madrid:20241016T120000
DTEND;TZID=Europe/Madrid:20241016T120000
DTSTAMP:20260421T115659
CREATED:20241007T084837Z
LAST-MODIFIED:20241007T084856Z
UID:70855-1729080000-1729080000@www.mieres.es
SUMMARY:Exposición:  "¿Te acuerdas de esta…?"\, de Fundación FASAD (16/30OCT)
DESCRIPTION:Exposición : \n¿Te acuerdas de esta…?\nFundación FASAD\n\nSala de exposiciones de la Casa de Cultura Teodoro Cuesta\,\ndel 16 al 30 de octubre de 2024 \nHorario: de 12.00 a 14.00 y de 17:00 a 21:00\, de lunes a viernes \nEntrada libre \n\n  \n¿Te acuerdas de esta…?\nTodos en algún momento decimos la frase “¿Te acuerdas de esta?” al rememorar canciones de nuestro pasado.\nLa propuesta para realizar la serie era “y tú\, ¿de qué canción te acuerdas?”. Lo inesperado fue que la gran mayoría de los participantes se remontaron a canciones de su infancia. Canciones que se repiten independientemente de la edad\, lugar de nacimiento\, estrato social…\nDesde el punto de vista formal\, la muestra se compone de 17 cuadros de gran formato (120×120 cm) y técnica mixta\, a los que se incorpora un texto (la letra de la canción) que pasa a formar parte de la obra. \nÍndice\n“Cucu cantaba la rana.”\n“Estaba el señor don gato.”\n“Había una vez un barquito chiquitito.”\n“Tengo una vaca lechera.”\n“El patio de mi casa es particular.”\n“Que llueva\, que llueva la virgen de la cueva.”\n“¿Dónde están las llaves? Matarile\, rile\, rile.”\n“Un elefante de balanceaba.”\n“Susanita tiene un ratón.”\n“Debajo de un botón que tenía Martín.”\n“A mi burro le duele la cabeza.”\n“Tengo una muñeca vestida de azul.”\n“El cocherito leré.”\n“Caracol quiscol\, saca los cuernos al sol.”\n“La gallina turuleta.”\n“Los trotamúsicos.”\n“Vamos a contar mentiras\, tralará.” \n  \n 
URL:https://www.mieres.es/evento/exposicion-te-acuerdas-de-esta-de-fundacion-fasad-16-30oct/
LOCATION:Casa de Cultura Teodoro Cuesta\, Calle Manuel Llaneza\, 8\, Mieres\, Asturias\, 33600\, España
CATEGORIES:Exposiciones
ATTACH;FMTTYPE=image/jpeg:https://www.mieres.es/wp-content/uploads/2024/10/TE-ACUERDAS-DE-ESTA_Cartel-expo-mieres.jpg
GEO:43.2502294;-5.7729571
X-APPLE-STRUCTURED-LOCATION;VALUE=URI;X-ADDRESS=Casa de Cultura Teodoro Cuesta Calle Manuel Llaneza 8 Mieres Asturias 33600 España;X-APPLE-RADIUS=500;X-TITLE=Calle Manuel Llaneza\, 8:geo:-5.7729571,43.2502294
END:VEVENT
BEGIN:VEVENT
DTSTART;TZID=Europe/Madrid:20241016T200000
DTEND;TZID=Europe/Madrid:20241016T200000
DTSTAMP:20260421T115659
CREATED:20240926T115913Z
LAST-MODIFIED:20240926T120200Z
UID:70654-1729108800-1729108800@www.mieres.es
SUMMARY:IX Encuentro de Blogueros y RRSS de Montaña. José Antonio Jar López (Jar): “La Dama Blanca. Invierno en las montañas de Asturias"
DESCRIPTION:IX Encuentro de Blogueros y RRSS de Montaña \n\n“La Dama Blanca. Invierno en las montañas de Asturias”\npor José Antonio Jar López (Jar)\n  \nMiércoles 16 de octubre\, 20:00 h\nAuditorio Teodoro Cuesta\n \n  \nEntrada libre hasta completar aforo
URL:https://www.mieres.es/evento/ix-encuentro-de-blogueros-y-rrss-de-montana-jose-antonio-jar-lopez-jar-la-dama-blanca-invierno-en-las-montanas-de-asturias/
LOCATION:Casa de Cultura Teodoro Cuesta\, Calle Manuel Llaneza\, 8\, Mieres\, Asturias\, 33600\, España
CATEGORIES:Deportes
ATTACH;FMTTYPE=image/jpeg:https://www.mieres.es/wp-content/uploads/2024/09/jornadas-blogs-y-rrss-montana-2024.jpg
GEO:43.2502294;-5.7729571
X-APPLE-STRUCTURED-LOCATION;VALUE=URI;X-ADDRESS=Casa de Cultura Teodoro Cuesta Calle Manuel Llaneza 8 Mieres Asturias 33600 España;X-APPLE-RADIUS=500;X-TITLE=Calle Manuel Llaneza\, 8:geo:-5.7729571,43.2502294
END:VEVENT
END:VCALENDAR