BEGIN:VCALENDAR
VERSION:2.0
PRODID:-//Ayuntamiento de Mieres - ECPv5.16.1.1//NONSGML v1.0//EN
CALSCALE:GREGORIAN
METHOD:PUBLISH
X-WR-CALNAME:Ayuntamiento de Mieres
X-ORIGINAL-URL:https://www.mieres.es
X-WR-CALDESC:Eventos para Ayuntamiento de Mieres
BEGIN:VTIMEZONE
TZID:Europe/Madrid
BEGIN:DAYLIGHT
TZOFFSETFROM:+0100
TZOFFSETTO:+0200
TZNAME:CEST
DTSTART:20250330T010000
END:DAYLIGHT
BEGIN:STANDARD
TZOFFSETFROM:+0200
TZOFFSETTO:+0100
TZNAME:CET
DTSTART:20251026T010000
END:STANDARD
END:VTIMEZONE
BEGIN:VEVENT
DTSTART;TZID=Europe/Madrid:20250603T163000
DTEND;TZID=Europe/Madrid:20250603T163000
DTSTAMP:20260423T013814
CREATED:20250526T112745Z
LAST-MODIFIED:20250526T113004Z
UID:74305-1748968200-1748968200@www.mieres.es
SUMMARY:Taller: "Aplicaciones medicinales de la flora asturiana". Día Mundial del Medio Ambiente 2025
DESCRIPTION:Día mundial del Medio Ambiente 2025 \nTaller\n“Aplicaciones medicinales de la flora asturiana”\nImpartido por Andrés F. Morales \nDel 3 al 13 de junio\, de 16:30 a 19:30h. Casa de las Mujeres. \nInscripciones gratuitas online\, a través del formulario ofrecido en esta misma página \n\n  \nFORMULARIO DE INSCRIPCIÓN\nCargando…
URL:https://www.mieres.es/evento/taller-aplicaciones-medicinales-de-la-flora-asturiana-dia-mundial-del-medio-ambiente-2025/
LOCATION:Casa de las Mujeres\, C/ Jerónimo Ibrán 19\, Mieres\, Asturias\, 33600\, España
CATEGORIES:Medio Ambiente
ATTACH;FMTTYPE=image/jpeg:https://www.mieres.es/wp-content/uploads/2025/05/Cartel-web-taller-medicinales-flora-2025.jpg
GEO:43.2512334;-5.7731606
X-APPLE-STRUCTURED-LOCATION;VALUE=URI;X-ADDRESS=Casa de las Mujeres C/ Jerónimo Ibrán 19 Mieres Asturias 33600 España;X-APPLE-RADIUS=500;X-TITLE=C/ Jerónimo Ibrán 19:geo:-5.7731606,43.2512334
END:VEVENT
BEGIN:VEVENT
DTSTART;TZID=Europe/Madrid:20250603T173000
DTEND;TZID=Europe/Madrid:20250603T173000
DTSTAMP:20260423T013814
CREATED:20250521T115840Z
LAST-MODIFIED:20250526T110818Z
UID:74227-1748971800-1748971800@www.mieres.es
SUMMARY:Ca mes un cuentu. Cuentacuentos n'asturianu\, con Andrea Lobo
DESCRIPTION:Ca mes un cuentu \nCuentacuentos n’asturianu\npor Andrea Lobo\nBiblioteca Pública de Mieres \nInscripción previa na Biblioteca. Aforo llindáu. \n\n  \nChirimbín\, chirimbaina! Vuelve la Bruxa Lloba a la biblioteca de Mieres. ¡Chirimbín\, chirimbón! ¿Qué Fechizocuentos saldrán güei? Chirimbín\, Chirimberes! El cestu máxicu ta enllenu de nuevos cuentos\, música y marionetes a la gueta los güeyos y oreyes. \nPa neños/es a partir de 3 años.\nEspectáculo de narración oral con títeres\, obxetos y música en direuto. \n✍️Podéis apuntavos na Biblioteca de Mieres\, n’horariu de 9:00 a 20:30 hores o al☎️ teléfonu 985456294 en Mieres.¡¡¡¡Esperámosvos!!!! \n 
URL:https://www.mieres.es/evento/ca-mes-un-cuentu-cuentacuentos-nasturianu-con-andrea-lobo/
LOCATION:Casa de Cultura Teodoro Cuesta\, Calle Manuel Llaneza\, 8\, Mieres\, Asturias\, 33600\, España
CATEGORIES:Bibliotecas,Letras,Llingua,Teatro
ATTACH;FMTTYPE=image/jpeg:https://www.mieres.es/wp-content/uploads/2025/05/andrea-lobo-cuentacuentos-junio-2025.jpeg
GEO:43.2502294;-5.7729571
X-APPLE-STRUCTURED-LOCATION;VALUE=URI;X-ADDRESS=Casa de Cultura Teodoro Cuesta Calle Manuel Llaneza 8 Mieres Asturias 33600 España;X-APPLE-RADIUS=500;X-TITLE=Calle Manuel Llaneza\, 8:geo:-5.7729571,43.2502294
END:VEVENT
BEGIN:VEVENT
DTSTART;TZID=Europe/Madrid:20250603T173000
DTEND;TZID=Europe/Madrid:20250603T173000
DTSTAMP:20260423T013814
CREATED:20250523T083254Z
LAST-MODIFIED:20250523T083430Z
UID:74262-1748971800-1748971800@www.mieres.es
SUMMARY:Tardes con Leo: "Woolly"
DESCRIPTION:  \n\nCuentacuentos\nTardes con Leo \nWoolly\nde Sam Childs\nBiblioteca Pública de Santa Cruz de Mieres \n\n  \nCuentacuentos a cargo de Leo\, la mascota de las bibliotecas de nuestra Red de Bibliotecas Municipales\, basado en el libro “Wolly” (Ediciones Jaguar)\, escrito e ilustrado por Sam Childs. \nUn bebé mamut acaba de nacer pero\, aunque la llaman Woolly\, que significa lanuda\, ¡no tiene ni pizca de lana! ¡Y además es rosa!\nPor supuesto\, Woolly tiene mucho frío. ¿Qué será lo que ideará Mamá Mamut para mantenerla calentita? ¿Podrá jugar y hacer amigos con su nueva ropa? \n  \nPatrocinado por la Fundación Caja Rural de Asturias y realizado por Didac Servicios Educativos y de Ocio. Plazas limitadas\, asignadas por orden de inscripción. Podéis apuntaros en la Biblioteca en horario de 09:00 a 20:30 horas o al teléfono 985456294. ¡¡¡¡Os esperamos!!!! \n  \n\n 
URL:https://www.mieres.es/evento/tardes-con-leo-woolly/
LOCATION:Biblioteca Pública de Santa Cruz\,  Polideportivo Santa Cruz\, 1ª planta. 33612 Mieres (Asturias)\, Santa Cruz\, Asturias\, 33612
CATEGORIES:Bibliotecas,Cuentacuentos
ATTACH;FMTTYPE=image/jpeg:https://www.mieres.es/wp-content/uploads/2025/05/woolly-tardes-con-leo.jpg
ORGANIZER;CN="Red%20de%20Bibliotecas%20Municipales%20de%20Mieres":MAILTO:biblioteca@ayto-mieres.es
GEO:43.189207;-5.7668515
X-APPLE-STRUCTURED-LOCATION;VALUE=URI;X-ADDRESS=Biblioteca Pública de Santa Cruz  Polideportivo Santa Cruz 1ª planta. 33612 Mieres (Asturias) Santa Cruz Asturias 33612;X-APPLE-RADIUS=500;X-TITLE=Polideportivo Santa Cruz\, 1ª planta. 33612 Mieres (Asturias):geo:-5.7668515,43.189207
END:VEVENT
BEGIN:VEVENT
DTSTART;TZID=Europe/Madrid:20250603T190000
DTEND;TZID=Europe/Madrid:20250603T190000
DTSTAMP:20260423T013814
CREATED:20250522T080559Z
LAST-MODIFIED:20250522T080559Z
UID:74236-1748977200-1748977200@www.mieres.es
SUMMARY:Mesa redonda: "La Salud comunitaria al alcance de todos"
DESCRIPTION:Mesa redonda: \n“La Salud comunitaria al alcance de todos”\n\nCon la participación de: \n\nMónica Iglesias Inguanzo. Trabajadora social Asociación Nomades\nSara Padrino Ojea. Enfermera especialista en Enfermería Familiar y Comunitaria de Asturias\nJosé Luis Meana Fonseca. Médico de familia jubilado\nEdurne Mezquita Yarza. Enfermera SEAPA (Sociedad de Enfermería Familiar y Comunitaria de Asturias)\nMarta Fernández Fernández. Enfermera especialista en Salud Familiar y Comunitaria. Matrona y Sexóloga\nJuan González Ponte. Director General Agenda 2030 Asturias\n\nOrganizada por la Plataforma en Defensa de la Salud y la Sanidad Pública-Caudal \n  \nMartes\, 3 de junio de 2025\, 19:00h. \nSalón de actos de la Casa de Cultura Teodoro Cuesta \nEntrada libre hasta completar aforo \n\n 
URL:https://www.mieres.es/evento/mesa-redonda-la-salud-comunitaria-al-alcance-de-todos/
LOCATION:Casa de Cultura Teodoro Cuesta\, Calle Manuel Llaneza\, 8\, Mieres\, Asturias\, 33600\, España
CATEGORIES:Charlas-coloquio,Salud
ATTACH;FMTTYPE=image/jpeg:https://www.mieres.es/wp-content/uploads/2025/05/cartel-mesa-redonda-salud-comunitaria-mieres.jpg
GEO:43.2502294;-5.7729571
X-APPLE-STRUCTURED-LOCATION;VALUE=URI;X-ADDRESS=Casa de Cultura Teodoro Cuesta Calle Manuel Llaneza 8 Mieres Asturias 33600 España;X-APPLE-RADIUS=500;X-TITLE=Calle Manuel Llaneza\, 8:geo:-5.7729571,43.2502294
END:VEVENT
BEGIN:VEVENT
DTSTART;TZID=Europe/Madrid:20250603T193000
DTEND;TZID=Europe/Madrid:20250603T193000
DTSTAMP:20260423T013814
CREATED:20250526T102830Z
LAST-MODIFIED:20250526T102830Z
UID:74298-1748979000-1748979000@www.mieres.es
SUMMARY:Concierto de Piano: Luisa Méndez
DESCRIPTION:Concierto \nConcierto de piano\nLUISA MÉNDEZ\nMartes 3 de junio\, 19:30 h\nSalón de actos de la Casa de la Música \nEntradas gratuitas disponibles en la Conserjería del Conservatorio a partir del lunes\, 26 de mayo\, a las 12:00h. \n\n  \nEn esta ocasión de nuevo damos la bienvenida a una antigua alumna que vuelve a esta casa para ofrecernos un fabuloso concierto de piano con obras de Bach\, Haydn\, Chopin y Ravel. \nY de nuevo no podemos sentirnos más felices y agradecidos…\nOs esperamos!!!
URL:https://www.mieres.es/evento/concierto-de-piano-luisa-mendez/
LOCATION:Casa de la Música\, Calle Escuela de Capataces\, 41\, Mieres\, Asturias\, 33600
CATEGORIES:Música
ATTACH;FMTTYPE=image/jpeg:https://www.mieres.es/wp-content/uploads/2025/05/Cartel-CONCIERTO-DE-PIANO-junio2025.jpg
GEO:43.2528414;-5.774689
X-APPLE-STRUCTURED-LOCATION;VALUE=URI;X-ADDRESS=Casa de la Música Calle Escuela de Capataces 41 Mieres Asturias 33600;X-APPLE-RADIUS=500;X-TITLE=Calle Escuela de Capataces\, 41:geo:-5.774689,43.2528414
END:VEVENT
END:VCALENDAR