BEGIN:VCALENDAR
VERSION:2.0
PRODID:-//Ayuntamiento de Mieres - ECPv5.16.1.1//NONSGML v1.0//EN
CALSCALE:GREGORIAN
METHOD:PUBLISH
X-WR-CALNAME:Ayuntamiento de Mieres
X-ORIGINAL-URL:https://www.mieres.es
X-WR-CALDESC:Eventos para Ayuntamiento de Mieres
BEGIN:VTIMEZONE
TZID:Europe/Madrid
BEGIN:DAYLIGHT
TZOFFSETFROM:+0100
TZOFFSETTO:+0200
TZNAME:CEST
DTSTART:20250330T010000
END:DAYLIGHT
BEGIN:STANDARD
TZOFFSETFROM:+0200
TZOFFSETTO:+0100
TZNAME:CET
DTSTART:20251026T010000
END:STANDARD
END:VTIMEZONE
BEGIN:VEVENT
DTSTART;VALUE=DATE:20250605
DTEND;VALUE=DATE:20250606
DTSTAMP:20260422T224016
CREATED:20250603T123031Z
LAST-MODIFIED:20250603T123031Z
UID:74514-1749081600-1749167999@www.mieres.es
SUMMARY:Fútbol: VI Torneo de Verano Alevín 2025 (4/7JUN)
DESCRIPTION:Fútbol  \nVI Torneo de Verano Alevín 2025\nCaudal Deportivo\nCampo de Fútbol Eliseo Gutiérrez\ndel 4 al 7 de junio \nMiércoles 4 y jueves 5 – Fase de Grupos\nViernes 6 y sábado 7 -Fase Final \nEntrega de premios el sábado 7 a las 14:00h. \n\n 
URL:https://www.mieres.es/evento/futbol-vi-torneo-de-verano-alevin-2025-4-7jun/2025-06-05/
LOCATION:Campo Eliseo Gutiérrez (Antiguo Mundial’82)\, C/ Villaviciosa\, Mieres\, Asturias\, 33600\, España
CATEGORIES:Deportes
ATTACH;FMTTYPE=image/jpeg:https://www.mieres.es/wp-content/uploads/2025/06/Torneo-Alevin-verano-2025-Caudal-Mieres.jpg
ORGANIZER;CN="Caudal%20Deportivo":MAILTO:caudal@caudaldeportivo.es
END:VEVENT
BEGIN:VEVENT
DTSTART;TZID=Europe/Madrid:20250605T173000
DTEND;TZID=Europe/Madrid:20250605T173000
DTSTAMP:20260422T224016
CREATED:20250523T084415Z
LAST-MODIFIED:20250523T084415Z
UID:74272-1749144600-1749144600@www.mieres.es
SUMMARY:Tardes con Leo: "Gato de bruja"
DESCRIPTION:  \n\nCuentacuentos\nTardes con Leo \nGato de bruja\nde Sam Childs\nBiblioteca Pública de Mieres \n\n  \nCuentacuentos a cargo de Leo\, la mascota de las bibliotecas de nuestra Red de Bibliotecas Municipales\, basado en el libro “Gato de bruja” (Editorial Picarona)\, escrito por Lucy Roland e ilustrado por Laura Hughes. Una historia perfecta y muy irresistible sobre cómo encontrar tu lugar en el mundo… \nSi pudieras ser cualquier tipo de gato\, ¿qué gato serías? \nTomillo siempre ha sido un gato de bruja\, pero está convencido de que le espera ¡algo más en esta vida! ¿Un gato de piratas? ¿Un gato de caballeros? ¿Un gato mascota? Tomillo intenta ser todos estos tipos de gato\, pero nada le parece correcto… Hasta de que se da cuenta de que seguramente ya tenía la respuesta. \n  \nPatrocinado por la Fundación Caja Rural de Asturias y realizado por Didac Servicios Educativos y de Ocio. Plazas limitadas\, asignadas por orden de inscripción. Podéis apuntaros en la Biblioteca en horario de 09:00 a 20:30 horas o al teléfono 985456294. ¡¡¡¡Os esperamos!!!! \n  \n\n 
URL:https://www.mieres.es/evento/tardes-con-leo-gato-de-bruja/
LOCATION:Biblioteca Pública de Mieres\, Calle Manuel Llaneza\, 8\, Mieres\, Asturias\, 33600 \, España
CATEGORIES:Bibliotecas,Cuentacuentos
ATTACH;FMTTYPE=image/jpeg:https://www.mieres.es/wp-content/uploads/2025/05/tardes-con-leo-Gato-de-bruja.jpg
ORGANIZER;CN="Red%20de%20Bibliotecas%20Municipales%20de%20Mieres":MAILTO:biblioteca@ayto-mieres.es
GEO:43.2502294;-5.7729571
X-APPLE-STRUCTURED-LOCATION;VALUE=URI;X-ADDRESS=Biblioteca Pública de Mieres Calle Manuel Llaneza 8 Mieres Asturias 33600  España;X-APPLE-RADIUS=500;X-TITLE=Calle Manuel Llaneza\, 8:geo:-5.7729571,43.2502294
END:VEVENT
BEGIN:VEVENT
DTSTART;TZID=Europe/Madrid:20250605T193000
DTEND;TZID=Europe/Madrid:20250605T193000
DTSTAMP:20260422T224016
CREATED:20250523T114021Z
LAST-MODIFIED:20250526T102344Z
UID:74289-1749151800-1749151800@www.mieres.es
SUMMARY:"En medio del ambiente"\, con Alberto Rodríguez. Día Mundial del Medio Ambiente 2025
DESCRIPTION:Charla coloquio cómico-lúdica \nDía Mundial del Medio Ambiente 2025\n“En medio del ambiente”\, con Alberto Rodríguez”\ncon Alberto Rodríguez\n  \nJueves\, 5 de junio\, a las 19:30h. \nSalón de actos de la Casa de Cultura Teodoro Cuesta\nEntrada libre
URL:https://www.mieres.es/evento/en-medio-del-ambiente-con-alberto-rodriguez-dia-mundial-del-medio-ambiente-2025/
LOCATION:Casa de Cultura Teodoro Cuesta\, Calle Manuel Llaneza\, 8\, Mieres\, Asturias\, 33600\, España
CATEGORIES:Medio Ambiente,Taller
ATTACH;FMTTYPE=image/jpeg:https://www.mieres.es/wp-content/uploads/2025/05/cartel-web-MONOLOGO-MEDIO-AMBIENTE-2025.jpg
GEO:43.2502294;-5.7729571
X-APPLE-STRUCTURED-LOCATION;VALUE=URI;X-ADDRESS=Casa de Cultura Teodoro Cuesta Calle Manuel Llaneza 8 Mieres Asturias 33600 España;X-APPLE-RADIUS=500;X-TITLE=Calle Manuel Llaneza\, 8:geo:-5.7729571,43.2502294
END:VEVENT
END:VCALENDAR