BEGIN:VCALENDAR
VERSION:2.0
PRODID:-//Ayuntamiento de Mieres - ECPv5.16.1.1//NONSGML v1.0//EN
CALSCALE:GREGORIAN
METHOD:PUBLISH
X-WR-CALNAME:Ayuntamiento de Mieres
X-ORIGINAL-URL:https://www.mieres.es
X-WR-CALDESC:Eventos para Ayuntamiento de Mieres
BEGIN:VTIMEZONE
TZID:Europe/Madrid
BEGIN:DAYLIGHT
TZOFFSETFROM:+0100
TZOFFSETTO:+0200
TZNAME:CEST
DTSTART:20250330T010000
END:DAYLIGHT
BEGIN:STANDARD
TZOFFSETFROM:+0200
TZOFFSETTO:+0100
TZNAME:CET
DTSTART:20251026T010000
END:STANDARD
END:VTIMEZONE
BEGIN:VEVENT
DTSTART;VALUE=DATE:20250607
DTEND;VALUE=DATE:20250608
DTSTAMP:20260422T180810
CREATED:20250529T123425Z
LAST-MODIFIED:20250529T123425Z
UID:74411-1749254400-1749340799@www.mieres.es
SUMMARY:Fiestes de Figareo 2025 (6/7JUN)
DESCRIPTION:Festejos \nFiestes de Figareo 2025\n  \nViernes 6 y sábado 7 de junio \nParque Tartiere \n  \nOrganiza: Asociación Juvenil Foguera de San Xuan Figareo \n\n  \nPrograma\, sábado 7 \n12:00h.- Entrega del Bollo Preñao a socios y no socios (con vale) \n13:00/13:45h.- Bailoterapia Asturias \n14:00/15:00h.- Sesión Vermouth con Banda de Gaitas (desfile por el pueblo) \n17:00h.- Juegos tradicionales \n19:00h.- Chocolatada \n20:00h.- Bingo \n22:00h.- Verbena\, con FL Covers y DJ Masid \n23:00h.- Quema de la Hoguera \n  \n\n 
URL:https://www.mieres.es/evento/fiestes-de-figareo-2025-6-7jun-2/
LOCATION:Figareo\, 33683\, Mieres\, Asturias\, Asturias\, 33683
CATEGORIES:Festejos
ATTACH;FMTTYPE=image/jpeg:https://www.mieres.es/wp-content/uploads/2025/05/FIESTAS-FIGAREDO-2025.jpg
GEO:43.2390375;-5.7352478
X-APPLE-STRUCTURED-LOCATION;VALUE=URI;X-ADDRESS=Figareo 33683 Mieres Asturias Asturias 33683;X-APPLE-RADIUS=500;X-TITLE=33683\, Mieres\, Asturias:geo:-5.7352478,43.2390375
END:VEVENT
BEGIN:VEVENT
DTSTART;VALUE=DATE:20250607
DTEND;VALUE=DATE:20250608
DTSTAMP:20260422T180810
CREATED:20250530T084247Z
LAST-MODIFIED:20250530T084247Z
UID:74424-1749254400-1749340799@www.mieres.es
SUMMARY:Torneo Pádel Mieres San Juan 2025 (6/16JUN)
DESCRIPTION:Deportes: \nTorneo Pádel Mieres San Juan 2025\n\n6\, 7 y 8 de junio \n4º masculino y mixto B\, C (4º masculino y 4º femenino)\n \n14\, 15 y 16 de junio\nmasculino / femenino (2 º y 3º masculino y 3º y 4 º femenino)\n \nInstalaciones deportivas Padel Mieres (Polígono de Gonzalín) \n\n\nMínimo 9 parejas por categoría\nPremios: 1º pala Wilson y 2º mochila nox\nWelcome pack camiseta\, 2 partidos garantizados\, dj\, pinchoteo\, sorteos\, agua\n\nOrganiza: Pádel Mieres
URL:https://www.mieres.es/evento/torneo-padel-mieres-san-juan-2025-6-16jun/2025-06-07/
LOCATION:Mieres\, C/Llanes\, Mieres\, Asturias\, 33600\, España
CATEGORIES:Deportes
ATTACH;FMTTYPE=image/jpeg:https://www.mieres.es/wp-content/uploads/2025/05/toneo-san-juan-padel-2025.jpg
GEO:43.2566727;-5.7794956
X-APPLE-STRUCTURED-LOCATION;VALUE=URI;X-ADDRESS=Mieres C/Llanes Mieres Asturias 33600 España;X-APPLE-RADIUS=500;X-TITLE=C/Llanes:geo:-5.7794956,43.2566727
END:VEVENT
BEGIN:VEVENT
DTSTART;VALUE=DATE:20250607
DTEND;VALUE=DATE:20250608
DTSTAMP:20260422T180810
CREATED:20250603T123031Z
LAST-MODIFIED:20250603T123031Z
UID:74516-1749254400-1749340799@www.mieres.es
SUMMARY:Fútbol: VI Torneo de Verano Alevín 2025 (4/7JUN)
DESCRIPTION:Fútbol  \nVI Torneo de Verano Alevín 2025\nCaudal Deportivo\nCampo de Fútbol Eliseo Gutiérrez\ndel 4 al 7 de junio \nMiércoles 4 y jueves 5 – Fase de Grupos\nViernes 6 y sábado 7 -Fase Final \nEntrega de premios el sábado 7 a las 14:00h. \n\n 
URL:https://www.mieres.es/evento/futbol-vi-torneo-de-verano-alevin-2025-4-7jun/2025-06-07/
LOCATION:Campo Eliseo Gutiérrez (Antiguo Mundial’82)\, C/ Villaviciosa\, Mieres\, Asturias\, 33600\, España
CATEGORIES:Deportes
ATTACH;FMTTYPE=image/jpeg:https://www.mieres.es/wp-content/uploads/2025/06/Torneo-Alevin-verano-2025-Caudal-Mieres.jpg
ORGANIZER;CN="Caudal%20Deportivo":MAILTO:caudal@caudaldeportivo.es
END:VEVENT
BEGIN:VEVENT
DTSTART;TZID=Europe/Madrid:20250607T100000
DTEND;TZID=Europe/Madrid:20250607T100000
DTSTAMP:20260422T180810
CREATED:20250529T092935Z
LAST-MODIFIED:20250529T093222Z
UID:74400-1749290400-1749290400@www.mieres.es
SUMMARY:I Hybrid Race X Asociación Galbán y Maratón de Spinning contra el cáncer infantil
DESCRIPTION:  \nI Hybrid Race X Asociación Galbán\n y Maratón de Spinning contra el cáncer infantil\nSábado\, 7 de junio de 2025\, 10:00h. \nParque Aníbal Vázquez \n  \nOrganizado por:  STRENGTH SOCIEY \n\n  \nMODALIDADES DE INSCRIPCIÓN: \n\nHybrid race X Asociación Galbán: 35\,00 €\nPAREJAS Hybrid race X Asociación Galbán: 35\,00 €\nII Maraton de Spinning contra el cáncer infantil: 7\,00 €\n\nInscripciones online hasta el 4 de junio\, desde este enlace: https://inscripciones.empa-t.com/inscripcion/i-hybrid-race-x-asociacion-galban/inscripcion_datos/ \n  \n  \nRECORRIDO \n  \n 
URL:https://www.mieres.es/evento/i-hybrid-race-x-asociacion-galban-y-maraton-de-spinning-contra-el-cancer-infantil/
LOCATION:Parque Aníbal Vázquez\, Calle Hermanos González Peña s/n\, Mieres\, Asturias\, 33600\, España
CATEGORIES:Deportes,Salud
ATTACH;FMTTYPE=image/jpeg:https://www.mieres.es/wp-content/uploads/2025/05/carrera-hybrid-race-mieres.jpg
END:VEVENT
BEGIN:VEVENT
DTSTART;TZID=Europe/Madrid:20250607T183000
DTEND;TZID=Europe/Madrid:20250607T183000
DTSTAMP:20260422T180810
CREATED:20250514T095043Z
LAST-MODIFIED:20250514T095043Z
UID:74104-1749321000-1749321000@www.mieres.es
SUMMARY:XIV Festival Mozo "Ruxidera" - Cuidando tradiciones
DESCRIPTION:  \nXIV FESTIVAL RUXIDERA\n“CUIDANDO TRADICIONES”\nCon la participación y las actuaciones de los grupos: \n\nGrupo de baile La Folixa\, Carreño (Asturias)\nAgrupación folklórica Rosa de Azafrán\, La Solana (Ciudad Real)\nGrupo de Baile Ruxidera\, Mieres (Asturias)\n\n  \nAuditoriu Teodoro Cuesta\nEntrada libre hasta completar aforo
URL:https://www.mieres.es/evento/xiv-festival-mozo-ruxidera-cuidando-tradiciones/
LOCATION:Casa de Cultura Teodoro Cuesta\, Calle Manuel Llaneza\, 8\, Mieres\, Asturias\, 33600\, España
CATEGORIES:Cultura Tradicional,Música
ATTACH;FMTTYPE=image/jpeg:https://www.mieres.es/wp-content/uploads/2025/05/Cartel-Festival-Ruxidera-2025.jpg
GEO:43.2502294;-5.7729571
X-APPLE-STRUCTURED-LOCATION;VALUE=URI;X-ADDRESS=Casa de Cultura Teodoro Cuesta Calle Manuel Llaneza 8 Mieres Asturias 33600 España;X-APPLE-RADIUS=500;X-TITLE=Calle Manuel Llaneza\, 8:geo:-5.7729571,43.2502294
END:VEVENT
BEGIN:VEVENT
DTSTART;TZID=Europe/Madrid:20250607T200000
DTEND;TZID=Europe/Madrid:20250607T200000
DTSTAMP:20260422T180810
CREATED:20250520T103344Z
LAST-MODIFIED:20250520T103344Z
UID:74218-1749326400-1749326400@www.mieres.es
SUMMARY:XXIX Certamen del Quesu de Urbiés (7/8JUN)
DESCRIPTION:XXIX Certamen del Quesu d’Urbiés\n(7 y 8 de junio de 2025)\n  \nPrograma Sábado\, 7\n20:00h. Pregón\, a cargo de José Luis ‘El Maestro’\, y degustación del quesu. \n22:00h. Corderada estilo guardianes (venta anticipada). \n00:00h. DJ Capitán hará que bajes la fartura con la mejor música. \n  \n\n 
URL:https://www.mieres.es/evento/xxix-certamen-del-quesu-de-urbies-7-8jun/
LOCATION:Urbiés\, Urbiés\, Asturias\, 33613
CATEGORIES:Festejos
ATTACH;FMTTYPE=image/jpeg:https://www.mieres.es/wp-content/uploads/2025/05/certamen-quesu-urbies-2025.jpg
END:VEVENT
BEGIN:VEVENT
DTSTART;TZID=Europe/Madrid:20250607T203000
DTEND;TZID=Europe/Madrid:20250607T203000
DTSTAMP:20260422T180810
CREATED:20250520T101211Z
LAST-MODIFIED:20250520T101211Z
UID:74212-1749328200-1749328200@www.mieres.es
SUMMARY:Gastrovelada "Bocamina Planta 7"
DESCRIPTION:  \n\nGastronomía \nBOCAMINA PLANTA SIETE\nPozu Espinos\nViernes 6\, sábado 7\, viernes 13 y sábado 14 de junio \nLa cita comenzará a las 20:30 horas en el parking del Espacio Cultural Pozo San José\, en Turón (Mieres). \nEntradas agotadas\n(Han estado a la venta desde el miércoles 14 de mayo\, a las 12:00h. en la web: www.mireservaonline.es) \n\n  \nVuelve Bocamina\, en este caso en su planta 7. La cita\, que une gastronomía y patrimonio y tradición e innovación\, se convierte en cada edición en un gran éxito ofreciendo una experiencia inmersiva y auténtica que se vive y se disfruta con todos los sentidos. \nBocamina\, que volverá a tener el Pozu Espinos como escenario y también hará parada en los pozos San José y Santa Bárbara\, volverá a contar con un chef con Estrella Michelín\, Israel Moreno\, quien\, junto a Marcos Cienfuegos\, se encargarán de un menú gastronómico que tendrá 12 pases entre aperitivos\, entrantes\, principales y postres… Una propuesta innovadora y totalmente novedosa para este Bocamina Planta 7. \n  \nLa cita comenzará a las 20:30 horas en el parking del Espacio Cultural Pozo San José\, en Turón (Mieres). \nNos dirigiremos en autobús hasta el Pozo Santa Bárbara\, donde iniciaremos la explosiva aventura con una visita guiada por la exposición “Speculum” del colectivo de artistas Smack. \nEl tercer espacio y lugar donde se desarrollará la mayor parte de la experiencia será el Pozu Espinos\, donde nos sentaremos a disfrutar de una cena única\, a techo pero al aire libre\, con lo que es importante ir abrigados\, porque las condiciones climáticas pueden oscilar y la temperatura ser fresca. \nBocamina volverá a mostrar la potencialidad de los espacios mineros a través de un menú degustación que se disfrutará de inicio a fin\, con propuestas atrevidas que irán armonizadas con sidra natural espumosa\, vino blanco y vino tinto. \nCuenta con el apoyo institucional del Ayuntamiento de Mieres\, la viceconsejería del Principado de Asturias y del grupo Hunosa. \nLa velada estará conducida por el periodista David Fernández-Prada\, quien irá desgranando pinceladas de la historia de la cuenca mientras el cocinero Marcos Cienfuegos y su equipo prepararán en directo todo el menú. \nBocamina Planta 7 es un paso más en la innovación\, en la aplicación de la tecnología y en hacer sentir que la comida puede ser el vehículo hacia nuestras emociones. Y hasta ahí podemos leer. \nHora de inicio: A las 20:30 horas. \nPunto de encuentro: Parking del Espacio Cultural Pozo San José\, en Turón (Mieres). \nLas fechas de Bocamina Planta 7 son 6 y 7 y 13 y 14 de junio y las entradas\, con un precio de 85 euros\, saldrán a la venta el miércoles 14 de mayo\, a las 12 horas\, a través de www.mireservaonline.es Cada persona podrá comprar un máximo de dos entradas. Se recomienda calzado cómodo. \n 
URL:https://www.mieres.es/evento/gastrovelada-bocamina-planta-7-2/
LOCATION:Pozu Espinos\, Caserio Preximir\, 4\, 33610 Santandrés\, Asturias\, 33610
CATEGORIES:Gastronomía
ATTACH;FMTTYPE=image/jpeg:https://www.mieres.es/wp-content/uploads/2025/05/bocamina-panta-7-2025.jpeg
ORGANIZER;CN="Concejal%C3%ADa%20de%20Turismo":MAILTO:turismo@ayto-mieres.es
END:VEVENT
END:VCALENDAR