BEGIN:VCALENDAR
VERSION:2.0
PRODID:-//Ayuntamiento de Mieres - ECPv5.16.1.1//NONSGML v1.0//EN
CALSCALE:GREGORIAN
METHOD:PUBLISH
X-WR-CALNAME:Ayuntamiento de Mieres
X-ORIGINAL-URL:https://www.mieres.es
X-WR-CALDESC:Eventos para Ayuntamiento de Mieres
BEGIN:VTIMEZONE
TZID:Europe/Madrid
BEGIN:DAYLIGHT
TZOFFSETFROM:+0100
TZOFFSETTO:+0200
TZNAME:CEST
DTSTART:20250330T010000
END:DAYLIGHT
BEGIN:STANDARD
TZOFFSETFROM:+0200
TZOFFSETTO:+0100
TZNAME:CET
DTSTART:20251026T010000
END:STANDARD
END:VTIMEZONE
BEGIN:VEVENT
DTSTART;VALUE=DATE:20250611
DTEND;VALUE=DATE:20250612
DTSTAMP:20260422T120017
CREATED:20250610T110924Z
LAST-MODIFIED:20250610T110924Z
UID:74615-1749600000-1749686399@www.mieres.es
SUMMARY:Fútbol: VII Torneo de Verano Benjamín 2025 (11/14JUN)
DESCRIPTION:Fútbol  \nVII Torneo de Verano Benjamín 2025\nCaudal Deportivo\nCampo de Fútbol Eliseo Gutiérrez\ndel 11 al 14 de junio \nMiércoles 11 y jueves 12 – Fase de Grupos\nViernes 13 y sábado 14 -Fase Final \nEntrega de premios el sábado 14 a las 13:00h. \n\n 
URL:https://www.mieres.es/evento/futbol-vi-torneo-de-verano-alevin-2025-4-7jun/2025-06-11/
LOCATION:Campo Eliseo Gutiérrez (Antiguo Mundial’82)\, C/ Villaviciosa\, Mieres\, Asturias\, 33600\, España
CATEGORIES:Deportes
ATTACH;FMTTYPE=image/jpeg:https://www.mieres.es/wp-content/uploads/2025/06/Torneo-Benjamin-Caudal-Dtvo-2025.jpeg
ORGANIZER;CN="Caudal%20Deportivo":MAILTO:caudal@caudaldeportivo.es
END:VEVENT
BEGIN:VEVENT
DTSTART;VALUE=DATE:20250611
DTEND;VALUE=DATE:20250612
DTSTAMP:20260422T120017
CREATED:20250610T111150Z
LAST-MODIFIED:20250610T111242Z
UID:74618-1749600000-1749686399@www.mieres.es
SUMMARY:Fútbol: VII Torneo de Verano Benjamín 2025 (11/14JUN)
DESCRIPTION:Fútbol  \nVII Torneo de Verano Benjamín 2025\nCaudal Deportivo\nCampo de Fútbol Eliseo Gutiérrez\ndel 11 al 14 de junio \nMiércoles 11 y jueves 12 – Fase de Grupos\nViernes 13 y sábado 14 -Fase Final \nEntrega de premios el sábado 14 a las 13:00h. \n\n 
URL:https://www.mieres.es/evento/futbol-vii-torneo-de-verano-benjamin-2025/
LOCATION:Campo Eliseo Gutiérrez (Antiguo Mundial’82)\, C/ Villaviciosa\, Mieres\, Asturias\, 33600\, España
CATEGORIES:Deportes
ATTACH;FMTTYPE=image/jpeg:https://www.mieres.es/wp-content/uploads/2025/06/Torneo-Benjamin-Caudal-Dtvo-2025.jpeg
ORGANIZER;CN="Caudal%20Deportivo":MAILTO:caudal@caudaldeportivo.es
END:VEVENT
BEGIN:VEVENT
DTSTART;TZID=Europe/Madrid:20250611T160000
DTEND;TZID=Europe/Madrid:20250611T170000
DTSTAMP:20260422T120017
CREATED:20260115T130146Z
LAST-MODIFIED:20260115T130146Z
UID:77248-1749657600-1749661200@www.mieres.es
SUMMARY:Talleres de capacitación familiar
DESCRIPTION:Promoción de la salud \nTalleres de capacitación familiar\nImpartido por Fundación Siloé \nCasa de las Mujeres\, de 16 a 17:00 h\nLos jueves 15\, 22 y 29 de enero\, 5 y 12 de febrero \nInscripciones gratuitas online\, a través del formulario ofrecido en esta misma página \n\n\n\n\nEstos talleres se enmarcan dentro de la promoción de la salud\, trabajando a nivel de capacitación familiar sobre:\n\nEtapas evolutivas del desarrollo.\nLa crianza y estilos educativos.\nRegulación emocional y vínculo.\nHabilidades comunicativas.\nFormas de aprendizaje\, normas y límites.
URL:https://www.mieres.es/evento/talleres-de-capacitacion-familiar/2025-06-11/
LOCATION:Casa de las Mujeres\, C/ Jerónimo Ibrán 19\, Mieres\, Asturias\, 33600\, España
CATEGORIES:Salud,Taller
ATTACH;FMTTYPE=image/jpeg:https://www.mieres.es/wp-content/uploads/2026/01/Talleres-Capacitacion-Familiar-2026.jpg
GEO:43.2512334;-5.7731606
X-APPLE-STRUCTURED-LOCATION;VALUE=URI;X-ADDRESS=Casa de las Mujeres C/ Jerónimo Ibrán 19 Mieres Asturias 33600 España;X-APPLE-RADIUS=500;X-TITLE=C/ Jerónimo Ibrán 19:geo:-5.7731606,43.2512334
END:VEVENT
BEGIN:VEVENT
DTSTART;TZID=Europe/Madrid:20250611T173000
DTEND;TZID=Europe/Madrid:20250611T173000
DTSTAMP:20260422T120017
CREATED:20250523T085404Z
LAST-MODIFIED:20250523T085645Z
UID:74275-1749663000-1749663000@www.mieres.es
SUMMARY:Tardes con Leo: "Gato de bruja"
DESCRIPTION:  \n\nCuentacuentos\nTardes con Leo \nGato de bruja\nde Sam Childs\nBiblioteca Pública de Ujo \n\n  \nCuentacuentos a cargo de Leo\, la mascota de las bibliotecas de nuestra Red de Bibliotecas Municipales\, basado en el libro “Gato de bruja” (Editorial Picarona)\, escrito por Lucy Roland e ilustrado por Laura Hughes. Una historia perfecta y muy irresistible sobre cómo encontrar tu lugar en el mundo… \nSi pudieras ser cualquier tipo de gato\, ¿qué gato serías? \nTomillo siempre ha sido un gato de bruja\, pero está convencido de que le espera ¡algo más en esta vida! ¿Un gato de piratas? ¿Un gato de caballeros? ¿Un gato mascota? Tomillo intenta ser todos estos tipos de gato\, pero nada le parece correcto… Hasta de que se da cuenta de que seguramente ya tenía la respuesta. \n  \nPatrocinado por la Fundación Caja Rural de Asturias y realizado por Didac Servicios Educativos y de Ocio. Plazas limitadas\, asignadas por orden de inscripción. Podéis apuntaros en la Biblioteca en horario de 09:00 a 20:30 horas o al teléfono 985456294. ¡¡¡¡Os esperamos!!!! \n  \n\n 
URL:https://www.mieres.es/evento/tardes-con-leo-gato-de-bruja-2/
LOCATION:Biblioteca Pública de Ujo\,  C/ Doctor Julio Rodríguez Vigil\, s/n\, Ujo\, Asturias\, 33640 
CATEGORIES:Bibliotecas,Cuentacuentos
ATTACH;FMTTYPE=image/jpeg:https://www.mieres.es/wp-content/uploads/2025/05/tardes-con-leo-Gato-de-bruja.jpg
ORGANIZER;CN="Red%20de%20Bibliotecas%20Municipales%20de%20Mieres":MAILTO:biblioteca@ayto-mieres.es
GEO:43.2032356;-5.7911073
X-APPLE-STRUCTURED-LOCATION;VALUE=URI;X-ADDRESS=Biblioteca Pública de Ujo  C/ Doctor Julio Rodríguez Vigil s/n Ujo Asturias 33640;X-APPLE-RADIUS=500;X-TITLE=C/ Doctor Julio Rodríguez Vigil\, s/n:geo:-5.7911073,43.2032356
END:VEVENT
END:VCALENDAR