BEGIN:VCALENDAR
VERSION:2.0
PRODID:-//Ayuntamiento de Mieres - ECPv5.16.1.1//NONSGML v1.0//EN
CALSCALE:GREGORIAN
METHOD:PUBLISH
X-WR-CALNAME:Ayuntamiento de Mieres
X-ORIGINAL-URL:https://www.mieres.es
X-WR-CALDESC:Eventos para Ayuntamiento de Mieres
BEGIN:VTIMEZONE
TZID:Europe/Madrid
BEGIN:DAYLIGHT
TZOFFSETFROM:+0100
TZOFFSETTO:+0200
TZNAME:CEST
DTSTART:20250330T010000
END:DAYLIGHT
BEGIN:STANDARD
TZOFFSETFROM:+0200
TZOFFSETTO:+0100
TZNAME:CET
DTSTART:20251026T010000
END:STANDARD
END:VTIMEZONE
BEGIN:VEVENT
DTSTART;VALUE=DATE:20250613
DTEND;VALUE=DATE:20250614
DTSTAMP:20260422T090536
CREATED:20250514T110417Z
LAST-MODIFIED:20250603T080119Z
UID:74115-1749772800-1749859199@www.mieres.es
SUMMARY:San Xuan 2025. Programa\, viernes 13
DESCRIPTION:San Xuan 2025\nPrograma\nViernes 13\n\n  \n12.00 Barrenazu\n||| Plaza l’Ayuntamientu \n19.00 Ofrenda Floral\n||| Monumento al mineru \n20.00 Pregón\n||| Auditoriu Teodoro Cuesta\n≈ A cargu de Emilio Esteban González\nProfesor de la Universidad de Oviedo. Jefe de Oncología del HUCA.\n≈ Presenta Celso Fernández Díaz. \n20.30 Desfile L’Artusu\n||| Dende Parque Aníbal Vázquez  hasta la C/Fdez. Cabeza \n20.30 La Mina Canta Unida\n||| Auditoriu Teodoro Cuesta\nConciertu: Coro Joven de Gijón y Coro Santa Bárbara de Villablino \n21.30 Conciertos 33600\n||| Plaza de la Llibertá\n21.30 ≈ ETHIVA\n22.45 ≈ MOURA\n00.00 ≈ REPUGNANCE \n22.00 Presentación-proyección “Mapping con IA”\n||| Barriu La Villa \n23.00 Orquesta Galilea\n||| Parque Xovellanos \n  \nAcceso al programa completo \n  \n\n 
URL:https://www.mieres.es/evento/san-xuan-2025-programa-viernes-13/
LOCATION:Varios espacios\, Mieres\, Asturias\, 33600 
CATEGORIES:Festejos
ATTACH;FMTTYPE=image/jpeg:https://www.mieres.es/wp-content/uploads/2025/05/Cartel_SAN-XUAN_2025.jpg
GEO:43.2491037;-5.7747551
END:VEVENT
BEGIN:VEVENT
DTSTART;VALUE=DATE:20250613
DTEND;VALUE=DATE:20250614
DTSTAMP:20260422T090536
CREATED:20250530T084247Z
LAST-MODIFIED:20250530T084247Z
UID:74426-1749772800-1749859199@www.mieres.es
SUMMARY:Torneo Pádel Mieres San Juan 2025 (6/16JUN)
DESCRIPTION:Deportes: \nTorneo Pádel Mieres San Juan 2025\n\n6\, 7 y 8 de junio \n4º masculino y mixto B\, C (4º masculino y 4º femenino)\n \n14\, 15 y 16 de junio\nmasculino / femenino (2 º y 3º masculino y 3º y 4 º femenino)\n \nInstalaciones deportivas Padel Mieres (Polígono de Gonzalín) \n\n\nMínimo 9 parejas por categoría\nPremios: 1º pala Wilson y 2º mochila nox\nWelcome pack camiseta\, 2 partidos garantizados\, dj\, pinchoteo\, sorteos\, agua\n\nOrganiza: Pádel Mieres
URL:https://www.mieres.es/evento/torneo-padel-mieres-san-juan-2025-6-16jun/2025-06-13/
LOCATION:Mieres\, C/Llanes\, Mieres\, Asturias\, 33600\, España
CATEGORIES:Deportes
ATTACH;FMTTYPE=image/jpeg:https://www.mieres.es/wp-content/uploads/2025/05/toneo-san-juan-padel-2025.jpg
GEO:43.2566727;-5.7794956
X-APPLE-STRUCTURED-LOCATION;VALUE=URI;X-ADDRESS=Mieres C/Llanes Mieres Asturias 33600 España;X-APPLE-RADIUS=500;X-TITLE=C/Llanes:geo:-5.7794956,43.2566727
END:VEVENT
BEGIN:VEVENT
DTSTART;VALUE=DATE:20250613
DTEND;VALUE=DATE:20250614
DTSTAMP:20260422T090536
CREATED:20250610T112611Z
LAST-MODIFIED:20250610T112611Z
UID:74622-1749772800-1749859199@www.mieres.es
SUMMARY:Fútbol: VII Torneo de Verano Benjamín 2025 (11/14JUN)
DESCRIPTION:Fútbol  \nVII Torneo de Verano Benjamín 2025\nCaudal Deportivo\nCampo de Fútbol Eliseo Gutiérrez\ndel 11 al 14 de junio \nMiércoles 11 y jueves 12 – Fase de Grupos\nViernes 13 y sábado 14 -Fase Final \nEntrega de premios el sábado 14 a las 13:00h. \n\n 
URL:https://www.mieres.es/evento/futbol-vii-torneo-de-verano-benjamin-2025-11-14jun-3/
LOCATION:Campo Eliseo Gutiérrez (Antiguo Mundial’82)\, C/ Villaviciosa\, Mieres\, Asturias\, 33600\, España
CATEGORIES:Deportes
ATTACH;FMTTYPE=image/jpeg:https://www.mieres.es/wp-content/uploads/2025/06/Torneo-Benjamin-Caudal-Dtvo-2025.jpeg
ORGANIZER;CN="Caudal%20Deportivo":MAILTO:caudal@caudaldeportivo.es
END:VEVENT
BEGIN:VEVENT
DTSTART;TZID=Europe/Madrid:20250613T203000
DTEND;TZID=Europe/Madrid:20250613T203000
DTSTAMP:20260422T090536
CREATED:20250520T101953Z
LAST-MODIFIED:20250520T101953Z
UID:74214-1749846600-1749846600@www.mieres.es
SUMMARY:Gastrovelada "Bocamina Planta 7"
DESCRIPTION:  \n\nGastronomía \nBOCAMINA PLANTA SIETE\nPozu Espinos\nViernes 6\, sábado 7\, viernes 13 y sábado 14 de junio \nLa cita comenzará a las 20:30 horas en el parking del Espacio Cultural Pozo San José\, en Turón (Mieres). \nEntradas agotadas\n(Han estado a la venta desde el miércoles 14 de mayo\, a las 12:00h. en la web: www.mireservaonline.es) \n\n  \nVuelve Bocamina\, en este caso en su planta 7. La cita\, que une gastronomía y patrimonio y tradición e innovación\, se convierte en cada edición en un gran éxito ofreciendo una experiencia inmersiva y auténtica que se vive y se disfruta con todos los sentidos. \nBocamina\, que volverá a tener el Pozu Espinos como escenario y también hará parada en los pozos San José y Santa Bárbara\, volverá a contar con un chef con Estrella Michelín\, Israel Moreno\, quien\, junto a Marcos Cienfuegos\, se encargarán de un menú gastronómico que tendrá 12 pases entre aperitivos\, entrantes\, principales y postres… Una propuesta innovadora y totalmente novedosa para este Bocamina Planta 7. \n  \nLa cita comenzará a las 20:30 horas en el parking del Espacio Cultural Pozo San José\, en Turón (Mieres). \nNos dirigiremos en autobús hasta el Pozo Santa Bárbara\, donde iniciaremos la explosiva aventura con una visita guiada por la exposición “Speculum” del colectivo de artistas Smack. \nEl tercer espacio y lugar donde se desarrollará la mayor parte de la experiencia será el Pozu Espinos\, donde nos sentaremos a disfrutar de una cena única\, a techo pero al aire libre\, con lo que es importante ir abrigados\, porque las condiciones climáticas pueden oscilar y la temperatura ser fresca. \nBocamina volverá a mostrar la potencialidad de los espacios mineros a través de un menú degustación que se disfrutará de inicio a fin\, con propuestas atrevidas que irán armonizadas con sidra natural espumosa\, vino blanco y vino tinto. \nCuenta con el apoyo institucional del Ayuntamiento de Mieres\, la viceconsejería del Principado de Asturias y del grupo Hunosa. \nLa velada estará conducida por el periodista David Fernández-Prada\, quien irá desgranando pinceladas de la historia de la cuenca mientras el cocinero Marcos Cienfuegos y su equipo prepararán en directo todo el menú. \nBocamina Planta 7 es un paso más en la innovación\, en la aplicación de la tecnología y en hacer sentir que la comida puede ser el vehículo hacia nuestras emociones. Y hasta ahí podemos leer. \nHora de inicio: A las 20:30 horas. \nPunto de encuentro: Parking del Espacio Cultural Pozo San José\, en Turón (Mieres). \nLas fechas de Bocamina Planta 7 son 6 y 7 y 13 y 14 de junio y las entradas\, con un precio de 85 euros\, saldrán a la venta el miércoles 14 de mayo\, a las 12 horas\, a través de www.mireservaonline.es Cada persona podrá comprar un máximo de dos entradas. Se recomienda calzado cómodo. \n 
URL:https://www.mieres.es/evento/gastrovelada-bocamina-planta-7-3/
LOCATION:Pozu Espinos\, Caserio Preximir\, 4\, 33610 Santandrés\, Asturias\, 33610
CATEGORIES:Gastronomía
ATTACH;FMTTYPE=image/jpeg:https://www.mieres.es/wp-content/uploads/2025/05/bocamina-panta-7-2025.jpeg
ORGANIZER;CN="Concejal%C3%ADa%20de%20Turismo":MAILTO:turismo@ayto-mieres.es
END:VEVENT
BEGIN:VEVENT
DTSTART;TZID=Europe/Madrid:20250613T203000
DTEND;TZID=Europe/Madrid:20250613T203000
DTSTAMP:20260422T090536
CREATED:20250604T085109Z
LAST-MODIFIED:20250604T093018Z
UID:74525-1749846600-1749846600@www.mieres.es
SUMMARY:XXII Encuentro Coral de los pueblos mineros "La mina canta unida"
DESCRIPTION:  \n\n  \nSan Xuan 2025 \nXXII Encuentro Coral de los pueblos mineros “La mina canta unida”\nCon la participación de los coros: \n\nCoro Joven de Gijón\nCoro Santa Bárbara\, de Villablino\n\n  \nViernes\, 13 de junio\, 20:30h. (tras el pregón de fiestas\, 20:00h.) \nAuditoriu Teodoro Cuesta \nEntrada libre hasta completar aforo \n\n  \n  \n  \n  \n 
URL:https://www.mieres.es/evento/xxii-encuentro-coral-de-los-pueblos-mineros-la-mina-canta-unida/
LOCATION:Casa de Cultura Teodoro Cuesta\, Calle Manuel Llaneza\, 8\, Mieres\, Asturias\, 33600\, España
CATEGORIES:Festejos,Música
ATTACH;FMTTYPE=image/jpeg:https://www.mieres.es/wp-content/uploads/2025/06/la-mina-canta-unida-2025.jpg
GEO:43.2502294;-5.7729571
X-APPLE-STRUCTURED-LOCATION;VALUE=URI;X-ADDRESS=Casa de Cultura Teodoro Cuesta Calle Manuel Llaneza 8 Mieres Asturias 33600 España;X-APPLE-RADIUS=500;X-TITLE=Calle Manuel Llaneza\, 8:geo:-5.7729571,43.2502294
END:VEVENT
BEGIN:VEVENT
DTSTART;TZID=Europe/Madrid:20250613T213000
DTEND;TZID=Europe/Madrid:20250613T213000
DTSTAMP:20260422T090536
CREATED:20250509T120450Z
LAST-MODIFIED:20250509T120450Z
UID:74066-1749850200-1749850200@www.mieres.es
SUMMARY:Conciertos 33600. San Xuan 2025
DESCRIPTION:San Xuan 2025 \nConciertos 33600\n13 de junio. Plaza de La Libertad \n\n\nPrograma viernes\, 13 de junio\n21:30h. Ethiva \n22:45h. Moura \n00:00h. Repugnance
URL:https://www.mieres.es/evento/conciertos-33600-san-xuan-2025/
LOCATION:Plaza de la Libertad\, Plaza de la Libertad\, Mieres\, 33600
CATEGORIES:Festival,Música
ATTACH;FMTTYPE=image/jpeg:https://www.mieres.es/wp-content/uploads/2022/06/mieres-undergroud-2025.jpg
END:VEVENT
BEGIN:VEVENT
DTSTART;TZID=Europe/Madrid:20250613T223000
DTEND;TZID=Europe/Madrid:20250613T223000
DTSTAMP:20260422T090536
CREATED:20250610T094612Z
LAST-MODIFIED:20250610T094612Z
UID:74612-1749853800-1749853800@www.mieres.es
SUMMARY:Proyección presentación de resultados Taller de Mapping con IA. San Xuan 2025
DESCRIPTION:  \nProyección\nPresentación de resultados\nTaller de Mapping con Inteligencia Artificial\n  \nTaller realizado por estudiantes entre 15 y 17 años del concejo de Mieres \nOrganizado por el Ayuntamiento de Mieres. Coordinado por L.E.V.  (Laboratorio de Electrónica Visual) \n  \nViernes\, 13 de junio\, en La Villa\, a partir de las 22:30 h (Mural Las 6 de La Suiza) \n\n  \n\n\n  \nEl taller introdujo a los/las alumnos/as en el funcionamiento de algunas de las principales técnicas y aplicaciones de creación de imágenes y vídeo a través de la inteligencia artificial\, y los/las acompañó en la generación de los contenidos que ahora se proyectarán en un espectáculo público de mapping de gran formato. \nLa metodología del taller ha sido eminentemente práctica y basada especialmente en el uso de Stable Diffusion\, una aplicación gratuita\, de código abierto y con una gran y dinámica comunidad de usuarios. \nLa formación permitirá a los/las participantes aprender a utilizar la inteligencia artificial con fines creativos de una manera directa y dinámica\, con el acompañamiento de un equipo docente con años de experiencia en el mundo del mapping y el arte digital. \n  \nPRESENTACIÓN DE RESULTADOS \n\nProyección mapping de gran formato abierta al público.\nDuración del mapping sincronizado: 9 min aprox.\nDuración del slideshow: 15 min aprox.\n\n\n 
URL:https://www.mieres.es/evento/proyeccion-presentacion-de-resultados-taller-de-mapping-con-ia-san-xuan-2025/
LOCATION:Plaza de La Villa\, España
CATEGORIES:Festejos,Juventud e Infancia,Taller
ATTACH;FMTTYPE=image/jpeg:https://www.mieres.es/wp-content/uploads/2025/06/Mapping-IA-Mieres-2025-San-Xuan.jpeg
END:VEVENT
END:VCALENDAR