BEGIN:VCALENDAR
VERSION:2.0
PRODID:-//Ayuntamiento de Mieres - ECPv5.16.1.1//NONSGML v1.0//EN
CALSCALE:GREGORIAN
METHOD:PUBLISH
X-WR-CALNAME:Ayuntamiento de Mieres
X-ORIGINAL-URL:https://www.mieres.es
X-WR-CALDESC:Eventos para Ayuntamiento de Mieres
BEGIN:VTIMEZONE
TZID:Europe/Madrid
BEGIN:DAYLIGHT
TZOFFSETFROM:+0100
TZOFFSETTO:+0200
TZNAME:CEST
DTSTART:20250330T010000
END:DAYLIGHT
BEGIN:STANDARD
TZOFFSETFROM:+0200
TZOFFSETTO:+0100
TZNAME:CET
DTSTART:20251026T010000
END:STANDARD
END:VTIMEZONE
BEGIN:VEVENT
DTSTART;VALUE=DATE:20250614
DTEND;VALUE=DATE:20250615
DTSTAMP:20260422T073326
CREATED:20220606T144932Z
LAST-MODIFIED:20250509T120213Z
UID:54034-1749859200-1749945599@www.mieres.es
SUMMARY:Mieres Underground. San Xuan 2025
DESCRIPTION:San Xuan 2025 \nFestival\nMieres Underground 2025\n14 de junio. Plaza de La Libertad \n\n\nPrograma sábado\, 14 de junio\n13:00h. Mercadillo y barra \n15:30h. Comida en la calle \n17:00h. Tardeo Sesión DJ Flako Martini \n21:00h. Katovit \n22:00h. Bronca \n23:00h. Break the Senses \n00:00h. Onza \n1:30-05:00h.- Fin de fiesta en Pub Kronos\, con Tony the Stomper +HU-BO DJ Sets
URL:https://www.mieres.es/evento/mieres-underground-san-xuan-2025/
LOCATION:Plaza de la Libertad\, Plaza de la Libertad\, Mieres\, 33600
CATEGORIES:Festival,Música
ATTACH;FMTTYPE=image/jpeg:https://www.mieres.es/wp-content/uploads/2022/06/mieres-undergroud-2025.jpg
END:VEVENT
BEGIN:VEVENT
DTSTART;VALUE=DATE:20250614
DTEND;VALUE=DATE:20250615
DTSTAMP:20260422T073326
CREATED:20250514T110623Z
LAST-MODIFIED:20250614T143429Z
UID:74118-1749859200-1749945599@www.mieres.es
SUMMARY:San Xuan 2025. Programa\, sábado 14
DESCRIPTION:San Xuan 2025\nPrograma\nSábado 14\n\n› VEN ARMAR LA DANZA\, VEN ARMALA BIEN\n||| Parque Xovellanos\n13.30 ≈ Talleres de baille y danza prima pa tolos públicos\, colos grupos de baille de Mieres: L’Artusu\, Prau Llerón y Ruxidera.\nToles edaes. (De baldre)\n13.00 ≈ Actuación ‘Bandina L’Arrancaera’\, Coru del Conservatoriu de Mieres\, Coru de Mayestres y Gurpos de baille\n14.00 ≈ Pieslle Armando la Danza Prima \n20.00 La Mina Canta Unida\nCoral de Porceyo (Gijón)\, Coral Estelas do Mar (Mugardos) y Orfeón de Mieres\n||| Auditoriu Teodoro Cuesta \n23.30 Orquesta París de Noia\n||| Pozu Barreo \n› MIERES UNDERGROUND\n||| Plaza de la Llibertá\n13.00 ≈ Mercadillo y barra\n15.30 ≈ Comida en la calle\n17.00 ≈ Tardeo Sesión DJ Flako Martini\n21.00 ≈ Katovit\n22.00 ≈ Bronca\n23.00 ≈ Break the Senses\n00.00 ≈ Onza\n1.30-05.00 ≈ Fin de fiesta en Pub Kronos\, con Tony the Stomper +HU-BO DJ Sets \n  \nAcceso al programa completo \n  \n\n 
URL:https://www.mieres.es/evento/san-xuan-2025-programa-viernes-13-2/
LOCATION:Varios espacios\, Mieres\, Asturias\, 33600 
CATEGORIES:Festejos
ATTACH;FMTTYPE=image/jpeg:https://www.mieres.es/wp-content/uploads/2025/05/Cartel_SAN-XUAN_2025.jpg
GEO:43.2491037;-5.7747551
END:VEVENT
BEGIN:VEVENT
DTSTART;VALUE=DATE:20250614
DTEND;VALUE=DATE:20250615
DTSTAMP:20260422T073326
CREATED:20250530T084247Z
LAST-MODIFIED:20250530T084247Z
UID:74427-1749859200-1749945599@www.mieres.es
SUMMARY:Torneo Pádel Mieres San Juan 2025 (6/16JUN)
DESCRIPTION:Deportes: \nTorneo Pádel Mieres San Juan 2025\n\n6\, 7 y 8 de junio \n4º masculino y mixto B\, C (4º masculino y 4º femenino)\n \n14\, 15 y 16 de junio\nmasculino / femenino (2 º y 3º masculino y 3º y 4 º femenino)\n \nInstalaciones deportivas Padel Mieres (Polígono de Gonzalín) \n\n\nMínimo 9 parejas por categoría\nPremios: 1º pala Wilson y 2º mochila nox\nWelcome pack camiseta\, 2 partidos garantizados\, dj\, pinchoteo\, sorteos\, agua\n\nOrganiza: Pádel Mieres
URL:https://www.mieres.es/evento/torneo-padel-mieres-san-juan-2025-6-16jun/2025-06-14/
LOCATION:Mieres\, C/Llanes\, Mieres\, Asturias\, 33600\, España
CATEGORIES:Deportes
ATTACH;FMTTYPE=image/jpeg:https://www.mieres.es/wp-content/uploads/2025/05/toneo-san-juan-padel-2025.jpg
GEO:43.2566727;-5.7794956
X-APPLE-STRUCTURED-LOCATION;VALUE=URI;X-ADDRESS=Mieres C/Llanes Mieres Asturias 33600 España;X-APPLE-RADIUS=500;X-TITLE=C/Llanes:geo:-5.7794956,43.2566727
END:VEVENT
BEGIN:VEVENT
DTSTART;VALUE=DATE:20250614
DTEND;VALUE=DATE:20250615
DTSTAMP:20260422T073326
CREATED:20250610T113020Z
LAST-MODIFIED:20250610T113020Z
UID:74624-1749859200-1749945599@www.mieres.es
SUMMARY:Fútbol: VII Torneo de Verano Benjamín 2025 (11/14JUN)
DESCRIPTION:Fútbol  \nVII Torneo de Verano Benjamín 2025\nCaudal Deportivo\nCampo de Fútbol Eliseo Gutiérrez\ndel 11 al 14 de junio \nMiércoles 11 y jueves 12 – Fase de Grupos\nViernes 13 y sábado 14 -Fase Final \nEntrega de premios el sábado 14 a las 13:00h. \n\n 
URL:https://www.mieres.es/evento/futbol-vii-torneo-de-verano-benjamin-2025-11-14jun-4/
LOCATION:Campo Eliseo Gutiérrez (Antiguo Mundial’82)\, C/ Villaviciosa\, Mieres\, Asturias\, 33600\, España
CATEGORIES:Deportes
ATTACH;FMTTYPE=image/jpeg:https://www.mieres.es/wp-content/uploads/2025/06/Torneo-Benjamin-Caudal-Dtvo-2025.jpeg
ORGANIZER;CN="Caudal%20Deportivo":MAILTO:caudal@caudaldeportivo.es
END:VEVENT
BEGIN:VEVENT
DTSTART;TZID=Europe/Madrid:20250614T090000
DTEND;TZID=Europe/Madrid:20250614T150000
DTSTAMP:20260422T073326
CREATED:20250604T120846Z
LAST-MODIFIED:20250604T121509Z
UID:74544-1749891600-1749913200@www.mieres.es
SUMMARY:Curso de Delegado/a de Protección. Ley Orgánica de Protección Integral a la Infancia y la Adolescencia LOPIVI (1ªed.)
DESCRIPTION:Curso gratuito \nCurso de delegado/a de Protección\nLey Orgánica de Protección Integral a la Infancia y la Adolescencia LOPIVI\n(1ªed.)\nCasa de las Mujeres\n14 de junio de 2025 (1ª edición)\nDe 9:00 a 15:00h. \nInscripción gratuita a partir del 5 de junio\, desde el enlace: https://inscripciones.controlvformacion.es/lopivimieres \n\n  \nFormación dirigida a personas que necesitan comprender de forma clara y aplicable cómo les afecta la LOPIVI en su día a día\, y cómo incorporar un enfoque de protección en sus actividades sin perder el carácter lúdico y participativo de su labor. De especial interés para personas que trabajan en campamentos\, colonias infantiles y juveniles\, etc. ante la necesaria formación en la figura del Delegado de Protección tras la puesta en marcha de la Ley Orgánica de Protección Integral a la Infancia y la Adolescencia. \n  \nSesión presencial de 6 horas de nivel básico  \n  \n📢 ¡Nueva formación gratuita! 📢 \nSi trabajas con infancia\, juventud o en animación sociocultural\, este curso básico de LOPIVI es para ti. En solo 6 horas\, aprenderás lo esencial para aplicar la Ley Orgánica de Protección Integral a la Infancia y la Adolescencia. \n🗓 Fechas disponibles: 📌 Sábado 14 de junio 📌 Sábado 28 de junio ⏰ Horario: 09:00 – 15:00 \n👥 Plazas prioritarias para personas empadronadas en Mieres. Si hay disponibilidad\, se abrirán al resto. \n📝 Inscripción gratuita desde el enlace: https://inscripciones.controlvformacion.es/lopivimieres \n📚 Dirigido a: ✔ Personal técnico de juventud\, infancia y animación sociocultural ✔ Especialmente monitores/as de tiempo libre
URL:https://www.mieres.es/evento/curso-de-delegado-a-de-proteccion-ley-organica-de-proteccion-integral-a-la-infancia-y-la-adolescencia-lopivi-1aed/
LOCATION:Casa de las Mujeres\, C/ Jerónimo Ibrán 19\, Mieres\, Asturias\, 33600\, España
CATEGORIES:Cursos,Juventud e Infancia,Taller
ATTACH;FMTTYPE=image/jpeg:https://www.mieres.es/wp-content/uploads/2025/06/cartel-delegada-LOPIVI-Mieres.jpg
ORGANIZER;CN="Concejal%C3%ADa%20de%20Infancia%20y%20Juventud":MAILTO:oij@ayto-mieres.es
GEO:43.2512334;-5.7731606
X-APPLE-STRUCTURED-LOCATION;VALUE=URI;X-ADDRESS=Casa de las Mujeres C/ Jerónimo Ibrán 19 Mieres Asturias 33600 España;X-APPLE-RADIUS=500;X-TITLE=C/ Jerónimo Ibrán 19:geo:-5.7731606,43.2512334
END:VEVENT
BEGIN:VEVENT
DTSTART;TZID=Europe/Madrid:20250614T113000
DTEND;TZID=Europe/Madrid:20250614T140000
DTSTAMP:20260422T073326
CREATED:20250606T104427Z
LAST-MODIFIED:20250606T104427Z
UID:74574-1749900600-1749909600@www.mieres.es
SUMMARY:Ven a armar la danza\, ven armala bien. San Xuan 2025
DESCRIPTION:San Xuan 2025 \nVEN ARMAR LA DANZA\, VEN ARMALA BIEN \nSábadu 14 de xunu\, 11:30 a 14:00h.\nParque Xovellanos  \n13.30 ≈ Talleres de baille y danza prima pa tolos públicos\, colos grupos de baille de Mieres: L’Artusu\, Prau Llerón y Ruxidera.\nToles edaes. (De baldre)\n13.00 ≈ Actuación ‘Bandina L’Arrancaera’\, Coru del Conservatoriu de Mieres\, Coru de Mayestres y Gurpos de baille\n14.00 ≈ Pieslle Armando la Danza Prima \nDe baldre \n\n 
URL:https://www.mieres.es/evento/ven-a-armar-la-danza-ven-armala-bien-san-xuan-2025/
LOCATION:Casa de Cultura Teodoro Cuesta\, Calle Manuel Llaneza\, 8\, Mieres\, Asturias\, 33600\, España
CATEGORIES:Música
ATTACH;FMTTYPE=image/jpeg:https://www.mieres.es/wp-content/uploads/2025/06/VEN-ARMAR-LA-DANZA-25-scaled.jpg
GEO:43.2502294;-5.7729571
X-APPLE-STRUCTURED-LOCATION;VALUE=URI;X-ADDRESS=Casa de Cultura Teodoro Cuesta Calle Manuel Llaneza 8 Mieres Asturias 33600 España;X-APPLE-RADIUS=500;X-TITLE=Calle Manuel Llaneza\, 8:geo:-5.7729571,43.2502294
END:VEVENT
BEGIN:VEVENT
DTSTART;TZID=Europe/Madrid:20250614T163000
DTEND;TZID=Europe/Madrid:20250614T163000
DTSTAMP:20260422T073326
CREATED:20250512T113808Z
LAST-MODIFIED:20250514T105248Z
UID:74082-1749918600-1749918600@www.mieres.es
SUMMARY:Visita guiada al Pozu Santa Bárbara y a la intervención "SPECULUM"\, del colectivo de artistas SMACK
DESCRIPTION:Intervención artística audiovisual \nSPECULUM\ndel colectivo de artistas SMACK: Ton Meijdan\, Thom Snels y Béla Zsigmond\n\n  \nPozu Santa Barbara (PZSB). Centro de Intervenciones Artísticas\n \nDel 10 de abril al 13 de julio de 2025 \nMiércoles\, jueves y viernes de 16:30 a 21:00 h .\nSábados\, domingos y festivos de 11:00 a 14:00 h. y de 16:30 a 21:00 h.\nEntrada gratuita \n VISITAS GUIADAS: \nEn el marco de la exposición se han ofertado varios recorridos guiados y gratuitos para los meses de abril y mayo que permitirán al público sumergirse en la pieza y descubrir el proceso de creación de la misma\, así como conocer la historia del espacio que la acoge y su entorno\, patrimonio e historia. \nAnte el éxito de esas visitas\, desde la Concejalía de Cultura de nuestro Ayuntamiento se ha realizado una tercera convocatoria de nuevas fechas\npara nuevas visitas guiadas a la exposición y al Pozu Santa Bárbara. \n  \nNuevas fechas:\nDomingo\, 25 de mayo\, 12:30h.\nViernes\, 30 de mayo\, 17:30h.\nSábado\, 14 de junio\, a las 16:30h.\nViernes\, 20 de junio\, a las 17:30h.\nDomingo\, 29 de junio\, a las 12:30h. \nImprescindible inscripción previa\nEn el formulario de inscripción de cada una de las citas de agenda.\nLos formularios de inscripción se habilitarán el próximo jueves\, 15 de mayo\, a las 12:00h. \n  \nLocalización:  Pozu Santa Bárbara. La Rebaldana\, Turón (Mieres\, Asturias)\nDuración de la visita: 1 hora 30 minutos\nPlazas: 35 máx. (para mayores de 14 años) \nTransporte recomendado:\nAutobús público Emutsa. Parada PZSB: La Rebaldana  +INFO\nCoche particular (aparcamiento gratuito) \n\nFORMULARIO DE INSCRIPCIÓN\n(AQUÍ\, a partir del próximo jueves\, 15 de mayo\, a las 12:00h)Cargando… \n \nEl Centro de Experiencias Artísticas Pozu Santa Bárbara de Mieres (Asturias) ofrece a sus visitantes Speculum\, una instalación creada por el colectivo artístico SMACK\, formado por Ton Meijdan\, Thom Snels y Béla Zsigmond. El proyecto reinterpreta el icónico cuadro El jardín de las delicias (1490-1500) de Jheronimus van Aken\, conocido como El Bosco\, y que actualmente se encuentra en el Museo del Prado. La obra introduce figuras de la sociedad contemporánea\, manteniendo la esencia crítica sobre los escenarios distópicos. Esta instalación es un impactante tríptico de videoarte que revisita la icónica obra de pintura flamenca al siglo XXI\, convirtiéndola en un espejo de la sociedad actual. La exposición ha sido organizada por el Ayuntamiento de Mieres con el comisariado de L.E.V. (Laboratorio de Electrónica Visual) y la colaboración de Onkaos\, área de arte digital de SOLO Contemporary.  \n  \nDividida en tres paneles\, la instalación acompaña al espectador por un recorrido visual que refleja diferentes escenarios de nuestro presente inmediato. En Edén\, un paisaje en tonos pastel evoca un Silicon Valley digital\, donde la tecnología y la hiperconectividad prometen una utopía inmaterial. Sin embargo\, la calma aparente\, oculta una realidad controlada y en constante vigilancia por el poder de grandes corporaciones. La pantalla que se encuentra en la parte izquierda del tríptico está dedicada al Paraíso. Encontramos aquí a personajes que deambulan en un mundo dominado por la obsesión con la imagen\, el consumismo y la superficialidad. Esta fue la primera pieza del tríptico creada por SMACK en 2016\, como encargo del Stedelijk Museum de Breda en el marco del 500 aniversario de El Bosco\, más tarde  se completó con los otros dos paneles comisionados por SOLO. Finalmente\, en el panel del Infierno\, a la derecha\, el espectador se encuentra con una visión caótica y violenta\, donde los castigos están directamente vinculados a los excesos de la era digital: la sobreexposición en redes sociales\, la adicción a los algoritmos y el control masivo de la información. \nLa instalación se cierra con dos grandes pantallas que flanquean el impactante tríptico digital\, donde desfilan seis personajes arquetípicos: BIG DADA\, CYBERBULLY\, DYNAMO TWINS\, CRAPIVORE\, EGONAUT y MOTHER. Cada uno de ellos está meticulosamente caracterizado\, reflejando distintos aspectos de nuestra sociedad hiperconectada. \nEn esta visión contemporánea del Infierno de Dante\, donde el castigo refleja el pecado\, Cyberbully muestra a un troll de Internet atrapado y atormentado dentro de un gigantesco hashtag\, mientras que en Big Dada\, las cámaras de vigilancia se rebelan contra su propio creador. \nLa obsesión por la identidad en línea y el narcisismo digital quedan plasmados en Egonaut y en muchas otras de las figuras que habitan las pantallas laterales. Dynamo Twins representa la incesante rueda del trabajo sin descanso\, mientras que Crapivore personifica un ser compuesto íntegramente por productos ultraprocesados. Por su parte\, Mother se presenta como un cuerpo feminizado que expulsa y acoge personajes\, todos ellos controlados por una entidad central. \nEsta sobrecogedora colección de imágenes destila el malestar contemporáneo a través de inquietantes retratos. La obra indaga en cuestiones como el aislamiento\, el comportamiento de las masas y la interdependencia en un mundo dominado por la tecnología y el consumo. \nLos personajes que se muestran provienen de las instalaciones Paradise y Hell\, y retratan un mundo distópico marcado por la invasión tecnológica y el consumismo desenfrenado. Los artistas extraen figuras individuales de su complejo universo visual y les otorgan un mayor protagonismo. \nSiguiendo la composición y la perspectiva de la pintura renacentista clásica\, los retratos de SMACK sitúan a los personajes en paisajes monumentales y evocadores: montañas rocosas\, cielos ardientes y jardines geométricos que refuerzan la profundidad y el dramatismo de cada imagen. Es relevante que ninguna de estas figuras devuelve la mirada al espectador\, lo que genera una inquietante sensación de voyeurismo sobre ell@s. Sin duda son fragmentos de un espejo en el que se reflejan los malestares de nuestro tiempo. \nEl trabajo de SMACK nos enfrenta a un universo tan fascinante como perturbador\, donde la tecnología y la sociedad se entrelazan en un retrato implacable de nuestro tiempo. \n  \nSMACK es una colaboración entre los artistas Ton Meijdam (Geldermalsen\, Países Bajos\, 1973)\, Thom Snels (Tilburg\, Países Bajos\, 1978) y Béla Zsigmond (Budapest\, Hungría\, 1975). Este colectivo artístico\, con sede en Breda\, se sirve de la animación en 3D para crear vídeos figurativos que exploran el comportamiento colectivo\, la identidad digital\, la cultura de la vigilancia y la omnipresencia de las marcas. \nComenzaron a trabajar juntos en 2005 tras finalizar sus estudios en la escuela de arte y diseño St. Joost School of Art & Design (AKV). El primer trabajo que realizaron fue KAPITAAL (2006)\, y obtuvo el primer premio en varios festivales de renombre. Produjeron SPECULUM (2016) por encargo del Stedelijk Museum Breda que se completaría más tarde con los paneles laterales comisionados por SOLO. En el año 2017 realizaron una muestra individual de su trabajo titulada Dreaming of Mass Behaviour\, que tuvo lugar en Breda. Sus perspicaces animaciones han sido galardonadas con numerosos premios\, incluyendo el Amsterdam Film Experience\, los Premios Europeos de Diseño y los UK Music Video Awards. Su trabajo ha sido expuesto en instituciones como la galería Colnaghi de Londres\, KIAF Seúl y el Digital Art Center de Róterdam\, entre otros. Además\, han participado en numerosos festivales\, como el Holland Animation Festival\, el Bogotá Short Film Festival y MMMad Madrid. Sus proyectos\, con un gran recorrido internacional\, han sido presentados en países como Reino Unido\, Países Bajos\, Corea\, Brasil\, Alemania\, China\, Vietnam\, Francia y Estados Unidos entre otros.
URL:https://www.mieres.es/evento/visita-guiada-al-pozu-santa-barbara-y-a-la-intervencion-speculum-del-colectivo-de-artistas-smack-10/
LOCATION:Pozu Santa Bárbara\, La Rebaldana AS-337\, 19
CATEGORIES:Arte,Exposiciones,Visita guiada
ATTACH;FMTTYPE=image/jpeg:https://www.mieres.es/wp-content/uploads/2025/03/A3_SPECULUM-PZSB-2025.jpg
END:VEVENT
BEGIN:VEVENT
DTSTART;TZID=Europe/Madrid:20250614T200000
DTEND;TZID=Europe/Madrid:20250614T200000
DTSTAMP:20260422T073326
CREATED:20250604T090530Z
LAST-MODIFIED:20250604T090530Z
UID:74534-1749931200-1749931200@www.mieres.es
SUMMARY:XXII Encuentro Coral de los pueblos mineros "La mina canta unida"
DESCRIPTION:  \n\n  \nSan Xuan 2025 \nXXII Encuentro Coral de los pueblos mineros “La mina canta unida”\nCon la participación de los coros: \n\nCoral de Porceyo (Gijón)\nCoral Estelas do Mar (Mugardos)\nOrfeón de Mieres\n\n  \nSábado\, 14 de junio\, 20:00h. \nAuditoriu Teodoro Cuesta \nEntrada libre hasta completar aforo \n\n   \n  \n 
URL:https://www.mieres.es/evento/xxii-encuentro-coral-de-los-pueblos-mineros-la-mina-canta-unida-2/
LOCATION:Casa de Cultura Teodoro Cuesta\, Calle Manuel Llaneza\, 8\, Mieres\, Asturias\, 33600\, España
CATEGORIES:Festejos,Música
ATTACH;FMTTYPE=image/jpeg:https://www.mieres.es/wp-content/uploads/2025/06/la-mina-canta-unida-2025.jpg
GEO:43.2502294;-5.7729571
X-APPLE-STRUCTURED-LOCATION;VALUE=URI;X-ADDRESS=Casa de Cultura Teodoro Cuesta Calle Manuel Llaneza 8 Mieres Asturias 33600 España;X-APPLE-RADIUS=500;X-TITLE=Calle Manuel Llaneza\, 8:geo:-5.7729571,43.2502294
END:VEVENT
BEGIN:VEVENT
DTSTART;TZID=Europe/Madrid:20250614T203000
DTEND;TZID=Europe/Madrid:20250614T203000
DTSTAMP:20260422T073326
CREATED:20250520T102046Z
LAST-MODIFIED:20250520T102046Z
UID:74216-1749933000-1749933000@www.mieres.es
SUMMARY:Gastrovelada "Bocamina Planta 7"
DESCRIPTION:  \n\nGastronomía \nBOCAMINA PLANTA SIETE\nPozu Espinos\nViernes 6\, sábado 7\, viernes 13 y sábado 14 de junio \nLa cita comenzará a las 20:30 horas en el parking del Espacio Cultural Pozo San José\, en Turón (Mieres). \nEntradas agotadas\n(Han estado a la venta desde el miércoles 14 de mayo\, a las 12:00h. en la web: www.mireservaonline.es) \n\n  \nVuelve Bocamina\, en este caso en su planta 7. La cita\, que une gastronomía y patrimonio y tradición e innovación\, se convierte en cada edición en un gran éxito ofreciendo una experiencia inmersiva y auténtica que se vive y se disfruta con todos los sentidos. \nBocamina\, que volverá a tener el Pozu Espinos como escenario y también hará parada en los pozos San José y Santa Bárbara\, volverá a contar con un chef con Estrella Michelín\, Israel Moreno\, quien\, junto a Marcos Cienfuegos\, se encargarán de un menú gastronómico que tendrá 12 pases entre aperitivos\, entrantes\, principales y postres… Una propuesta innovadora y totalmente novedosa para este Bocamina Planta 7. \n  \nLa cita comenzará a las 20:30 horas en el parking del Espacio Cultural Pozo San José\, en Turón (Mieres). \nNos dirigiremos en autobús hasta el Pozo Santa Bárbara\, donde iniciaremos la explosiva aventura con una visita guiada por la exposición “Speculum” del colectivo de artistas Smack. \nEl tercer espacio y lugar donde se desarrollará la mayor parte de la experiencia será el Pozu Espinos\, donde nos sentaremos a disfrutar de una cena única\, a techo pero al aire libre\, con lo que es importante ir abrigados\, porque las condiciones climáticas pueden oscilar y la temperatura ser fresca. \nBocamina volverá a mostrar la potencialidad de los espacios mineros a través de un menú degustación que se disfrutará de inicio a fin\, con propuestas atrevidas que irán armonizadas con sidra natural espumosa\, vino blanco y vino tinto. \nCuenta con el apoyo institucional del Ayuntamiento de Mieres\, la viceconsejería del Principado de Asturias y del grupo Hunosa. \nLa velada estará conducida por el periodista David Fernández-Prada\, quien irá desgranando pinceladas de la historia de la cuenca mientras el cocinero Marcos Cienfuegos y su equipo prepararán en directo todo el menú. \nBocamina Planta 7 es un paso más en la innovación\, en la aplicación de la tecnología y en hacer sentir que la comida puede ser el vehículo hacia nuestras emociones. Y hasta ahí podemos leer. \nHora de inicio: A las 20:30 horas. \nPunto de encuentro: Parking del Espacio Cultural Pozo San José\, en Turón (Mieres). \nLas fechas de Bocamina Planta 7 son 6 y 7 y 13 y 14 de junio y las entradas\, con un precio de 85 euros\, saldrán a la venta el miércoles 14 de mayo\, a las 12 horas\, a través de www.mireservaonline.es Cada persona podrá comprar un máximo de dos entradas. Se recomienda calzado cómodo. \n 
URL:https://www.mieres.es/evento/gastrovelada-bocamina-planta-7-4/
LOCATION:Pozu Espinos\, Caserio Preximir\, 4\, 33610 Santandrés\, Asturias\, 33610
CATEGORIES:Gastronomía
ATTACH;FMTTYPE=image/jpeg:https://www.mieres.es/wp-content/uploads/2025/05/bocamina-panta-7-2025.jpeg
ORGANIZER;CN="Concejal%C3%ADa%20de%20Turismo":MAILTO:turismo@ayto-mieres.es
END:VEVENT
END:VCALENDAR