BEGIN:VCALENDAR
VERSION:2.0
PRODID:-//Ayuntamiento de Mieres - ECPv5.16.1.1//NONSGML v1.0//EN
CALSCALE:GREGORIAN
METHOD:PUBLISH
X-WR-CALNAME:Ayuntamiento de Mieres
X-ORIGINAL-URL:https://www.mieres.es
X-WR-CALDESC:Eventos para Ayuntamiento de Mieres
BEGIN:VTIMEZONE
TZID:Europe/Madrid
BEGIN:DAYLIGHT
TZOFFSETFROM:+0100
TZOFFSETTO:+0200
TZNAME:CEST
DTSTART:20250330T010000
END:DAYLIGHT
BEGIN:STANDARD
TZOFFSETFROM:+0200
TZOFFSETTO:+0100
TZNAME:CET
DTSTART:20251026T010000
END:STANDARD
END:VTIMEZONE
BEGIN:VEVENT
DTSTART;VALUE=DATE:20250616
DTEND;VALUE=DATE:20250617
DTSTAMP:20260422T043712
CREATED:20250514T112122Z
LAST-MODIFIED:20250603T082014Z
UID:74123-1750032000-1750118399@www.mieres.es
SUMMARY:San Xuan 2025. Programa\, lunes 16
DESCRIPTION:San Xuan 2025\nPrograma\nLunes 16\n\n  \n17.30 Xuegos infantiles de reciclaxe\n||| Parque Aníbal Vázquez (En casu de lluvia patiu colexu Liceo-Aniceto Sela) \n19.30 Teatro costumbrista: Tartufo Play\, por Compañía Teatru Kumen\n||| Auditoriu Teodoro Cuesta \n  \nAcceso al programa completo \n  \n\n 
URL:https://www.mieres.es/evento/san-xuan-2025-programa-lunes-16/
LOCATION:Varios espacios\, Mieres\, Asturias\, 33600 
CATEGORIES:Festejos
ATTACH;FMTTYPE=image/jpeg:https://www.mieres.es/wp-content/uploads/2025/05/Cartel_SAN-XUAN_2025.jpg
GEO:43.2491037;-5.7747551
END:VEVENT
BEGIN:VEVENT
DTSTART;TZID=Europe/Madrid:20250616T110000
DTEND;TZID=Europe/Madrid:20250616T110000
DTSTAMP:20260422T043712
CREATED:20250613T114336Z
LAST-MODIFIED:20250613T114336Z
UID:74701-1750071600-1750071600@www.mieres.es
SUMMARY:San Xuan 2025 en la Residencia Valle del Caudal: Taller de decoración
DESCRIPTION:San Xuan 2025\nen la Residencia Valle del Caudal \n  \nTaller: \nTALLER DE DECORACIÓN\n  \nLunes 16 de junio\, 11:00h.\nResidencia Valle del Caudal -Mieres- \nActividades dirigidas a los/as residentes\, familiares y amistades \n\n 
URL:https://www.mieres.es/evento/san-xuan-2025-en-la-residencia-valle-del-caudal-taller-de-decoracion/
LOCATION:Residencia de personas mayores Valle del Caudal\, Calle Doce de Octubre s/n\, Mieres\, Asturias\, 33600
CATEGORIES:Bienestar Social
ATTACH;FMTTYPE=image/jpeg:https://www.mieres.es/wp-content/uploads/2025/06/San-Xuan-2025-en-la-Residencia-Valle-del-Caudal.jpg
GEO:43.2523473;-5.773673
X-APPLE-STRUCTURED-LOCATION;VALUE=URI;X-ADDRESS=Residencia de personas mayores Valle del Caudal Calle Doce de Octubre s/n Mieres Asturias 33600;X-APPLE-RADIUS=500;X-TITLE=Calle Doce de Octubre s/n:geo:-5.773673,43.2523473
END:VEVENT
BEGIN:VEVENT
DTSTART;TZID=Europe/Madrid:20250616T193000
DTEND;TZID=Europe/Madrid:20250616T193000
DTSTAMP:20260422T043712
CREATED:20250609T103856Z
LAST-MODIFIED:20250609T114725Z
UID:74597-1750102200-1750102200@www.mieres.es
SUMMARY:"Tartufo Play"\, de Cía. Teatro Kumen
DESCRIPTION:Teatro \n“Tartufo Play”\nde Cía. Teatro Kumen\n \nLunes\, 16 de junio\, 19:30h. \nAuditoriu Teodoro Cuesta \nEntrada libre hasta completar aforo \n  \n\n  \nSinopsis \nCuenta la historia de un adinerado burgués llamado Orgón que es muy devoto y un día en misa conoce a un hombre llamado Tartufo quien finge ser un hombre de dios. Orgón lo invita a vivir a su casa pues lo considera su hermano. Un día Orgón sale de viaje y a su regreso le dice a Tartufo que quiere formalizar lazos con él y decide darle la mano de su hija en matrimonio a pesar de que ya se la había prometido a Valerio un hombre de buena familia y buen muchacho\, Tartufo le dice que lo alaga y que lo iba a pensar. Cuando la noticia del matrimonio obligado llega a oídos de Elmira por medio de la sirvienta Dorina ella le pide a Tartufo hablar a solas con él para llegar a un acuerdo y que no se case con su hija\, en esa platica Tartufo le confiesa que está enamorado de ella y que no se quiere casar con Mariana sino con ella. \n Reparto \n• MADAME PERNELLE.- Rosario Tabernas\n• ORGÓN.- Miguel Peinado\n• ELMIRA.- Carmen Trapiello\n• MARIANA.- Cristina Galla\n• VALERIO.- Jorge Arenas\n• TARTUFO.- Iván García\n• DORINA.- Paz Vega
URL:https://www.mieres.es/evento/tartufo-play-de-cia-teatro-kumen/
LOCATION:Mieres\, C/Llanes\, Mieres\, Asturias\, 33600\, España
CATEGORIES:Teatro
ATTACH;FMTTYPE=image/jpeg:https://www.mieres.es/wp-content/uploads/2025/06/cartel-tartufo-play-kumen-mieres.jpg
GEO:43.2566727;-5.7794956
X-APPLE-STRUCTURED-LOCATION;VALUE=URI;X-ADDRESS=Mieres C/Llanes Mieres Asturias 33600 España;X-APPLE-RADIUS=500;X-TITLE=C/Llanes:geo:-5.7794956,43.2566727
END:VEVENT
END:VCALENDAR