BEGIN:VCALENDAR
VERSION:2.0
PRODID:-//Ayuntamiento de Mieres - ECPv5.16.1.1//NONSGML v1.0//EN
CALSCALE:GREGORIAN
METHOD:PUBLISH
X-WR-CALNAME:Ayuntamiento de Mieres
X-ORIGINAL-URL:https://www.mieres.es
X-WR-CALDESC:Eventos para Ayuntamiento de Mieres
BEGIN:VTIMEZONE
TZID:Europe/Madrid
BEGIN:DAYLIGHT
TZOFFSETFROM:+0100
TZOFFSETTO:+0200
TZNAME:CEST
DTSTART:20250330T010000
END:DAYLIGHT
BEGIN:STANDARD
TZOFFSETFROM:+0200
TZOFFSETTO:+0100
TZNAME:CET
DTSTART:20251026T010000
END:STANDARD
END:VTIMEZONE
BEGIN:VEVENT
DTSTART;VALUE=DATE:20250617
DTEND;VALUE=DATE:20250618
DTSTAMP:20260422T025801
CREATED:20250514T112142Z
LAST-MODIFIED:20250603T082138Z
UID:74124-1750118400-1750204799@www.mieres.es
SUMMARY:San Xuan 2025. Programa\, martes 17
DESCRIPTION:San Xuan 2025\nPrograma\nMartes 17\n\n  \n16.30 Circuito de Hinchables “Desafío de la Selva”\n||| Parque Aníbal Vázquez -calle Indalecio Prieto- (en casu d’agua Colexu Aniceto/Liceo) \n18.00 Actuación de la Academia Musical Guitastur\n||| Auditoriu Teodoro Cuesta \n19.30 Visita guiada a la esposición de Pablo Casanueva “La imaxe\, lo tapecío”\nCola presencia del artista y la comisaria de la exposición\, Natalia Alonso Arduengo\n||| Mieres Centru Cultural \n  \nAcceso al programa completo \n  \n\n 
URL:https://www.mieres.es/evento/san-xuan-2025-programa-martes-17/
LOCATION:Varios espacios\, Mieres\, Asturias\, 33600 
CATEGORIES:Festejos
ATTACH;FMTTYPE=image/jpeg:https://www.mieres.es/wp-content/uploads/2025/05/Cartel_SAN-XUAN_2025.jpg
GEO:43.2491037;-5.7747551
END:VEVENT
BEGIN:VEVENT
DTSTART;TZID=Europe/Madrid:20250617T163000
DTEND;TZID=Europe/Madrid:20250617T163000
DTSTAMP:20260422T025801
CREATED:20250612T121356Z
LAST-MODIFIED:20250612T121555Z
UID:73213-1750177800-1750177800@www.mieres.es
SUMMARY:Circuito de Hinchables. San Xuan 2025
DESCRIPTION:San Xuan 2025 \n\nCircuito de hinchables\nMartes\, 17 de junio\, a partir de las 16.30h. \n\n\nParque Aníbal Vázquez (C/Hermanos González Peña)\nActividad gratuita \n\n\n 
URL:https://www.mieres.es/evento/circuito-de-hinchables-san-xuan-2025/
LOCATION:Parque Aníbal Vázquez\, Calle Hermanos González Peña s/n\, Mieres\, Asturias\, 33600\, España
CATEGORIES:Festejos,Juventud e Infancia
ATTACH;FMTTYPE=image/jpeg:https://www.mieres.es/wp-content/uploads/2025/06/cartel-circuito-hinchables-2025-ok.jpg
END:VEVENT
BEGIN:VEVENT
DTSTART;TZID=Europe/Madrid:20250617T170000
DTEND;TZID=Europe/Madrid:20250617T170000
DTSTAMP:20260422T025801
CREATED:20250613T114635Z
LAST-MODIFIED:20250613T114635Z
UID:74705-1750179600-1750179600@www.mieres.es
SUMMARY:San Xuan 2025 en la Residencia Valle del Caudal: Actuación musical con acordeón "Jandro y Mari Carmen"
DESCRIPTION:San Xuan 2025\nen la Residencia Valle del Caudal \n  \nConcierto: \nActuación musical con acordeón\n“Jandro y Mari Carmen”\n  \nMartes 17 de junio\, 17:00h.\nResidencia Valle del Caudal -Mieres- \nActividades dirigidas a los/as residentes\, familiares y amistades \n\n 
URL:https://www.mieres.es/evento/san-xuan-2025-en-la-residencia-valle-del-caudal-actuacion-musical-con-acordeon-jandro-y-mari-carmen/
LOCATION:Residencia de personas mayores Valle del Caudal\, Calle Doce de Octubre s/n\, Mieres\, Asturias\, 33600
CATEGORIES:Bienestar Social
ATTACH;FMTTYPE=image/jpeg:https://www.mieres.es/wp-content/uploads/2025/06/San-Xuan-2025-en-la-Residencia-Valle-del-Caudal.jpg
GEO:43.2523473;-5.773673
X-APPLE-STRUCTURED-LOCATION;VALUE=URI;X-ADDRESS=Residencia de personas mayores Valle del Caudal Calle Doce de Octubre s/n Mieres Asturias 33600;X-APPLE-RADIUS=500;X-TITLE=Calle Doce de Octubre s/n:geo:-5.773673,43.2523473
END:VEVENT
BEGIN:VEVENT
DTSTART;TZID=Europe/Madrid:20250617T173000
DTEND;TZID=Europe/Madrid:20250617T173000
DTSTAMP:20260422T025801
CREATED:20250523T083706Z
LAST-MODIFIED:20250523T083706Z
UID:74268-1750181400-1750181400@www.mieres.es
SUMMARY:Tardes con Leo: "Woolly"
DESCRIPTION:  \n\nCuentacuentos\nTardes con Leo \nWoolly\nde Sam Childs\nBiblioteca Pública del Atenéu de Turón \n\n  \nCuentacuentos a cargo de Leo\, la mascota de las bibliotecas de nuestra Red de Bibliotecas Municipales\, basado en el libro “Wolly” (Ediciones Jaguar)\, escrito e ilustrado por Sam Childs. \nUn bebé mamut acaba de nacer pero\, aunque la llaman Woolly\, que significa lanuda\, ¡no tiene ni pizca de lana! ¡Y además es rosa!\nPor supuesto\, Woolly tiene mucho frío. ¿Qué será lo que ideará Mamá Mamut para mantenerla calentita? ¿Podrá jugar y hacer amigos con su nueva ropa? \n  \nPatrocinado por la Fundación Caja Rural de Asturias y realizado por Didac Servicios Educativos y de Ocio. Plazas limitadas\, asignadas por orden de inscripción. Podéis apuntaros en la Biblioteca en horario de 09:00 a 20:30 horas o al teléfono 985456294. ¡¡¡¡Os esperamos!!!! \n  \n\n 
URL:https://www.mieres.es/evento/tardes-con-leo-woolly-2/
LOCATION:Biblioteca del Atenéu de Turón\, Calle Centro\, 9\, 33610 Mieres\, Asturias\, Turón\, Asturias\, 33610 \, España
CATEGORIES:Bibliotecas,Cuentacuentos
ATTACH;FMTTYPE=image/jpeg:https://www.mieres.es/wp-content/uploads/2025/05/woolly-tardes-con-leo.jpg
ORGANIZER;CN="Red%20de%20Bibliotecas%20Municipales%20de%20Mieres":MAILTO:biblioteca@ayto-mieres.es
GEO:43.2091303;-5.7416142
X-APPLE-STRUCTURED-LOCATION;VALUE=URI;X-ADDRESS=Biblioteca del Atenéu de Turón Calle Centro 9 33610 Mieres Asturias Turón Asturias 33610  España;X-APPLE-RADIUS=500;X-TITLE=Calle Centro\, 9\, 33610 Mieres\, Asturias:geo:-5.7416142,43.2091303
END:VEVENT
BEGIN:VEVENT
DTSTART;TZID=Europe/Madrid:20250617T180000
DTEND;TZID=Europe/Madrid:20250617T180000
DTSTAMP:20260422T025801
CREATED:20250606T103239Z
LAST-MODIFIED:20250606T103239Z
UID:74570-1750183200-1750183200@www.mieres.es
SUMMARY:Alumnos/as de la Academia Guitastur\, en concierto. San Xuan 2025
DESCRIPTION:Concierto \nGUITASTUR\n\nDirigido por Mónica Guaza\nPresentado por Pepín Barriada \n  \nMartes 17 de junio\, 18:00 h\nAuditoriu Teodoro Cuesta \nEntrada libre hasta completar aforo \n\n 
URL:https://www.mieres.es/evento/alumnos-as-de-la-academia-guitastur-en-concierto-san-xuan-2025/
LOCATION:Casa de Cultura Teodoro Cuesta\, Calle Manuel Llaneza\, 8\, Mieres\, Asturias\, 33600\, España
CATEGORIES:Música
ATTACH;FMTTYPE=image/jpeg:https://www.mieres.es/wp-content/uploads/2025/06/concierto-guitastur-2025.jpeg
GEO:43.2502294;-5.7729571
X-APPLE-STRUCTURED-LOCATION;VALUE=URI;X-ADDRESS=Casa de Cultura Teodoro Cuesta Calle Manuel Llaneza 8 Mieres Asturias 33600 España;X-APPLE-RADIUS=500;X-TITLE=Calle Manuel Llaneza\, 8:geo:-5.7729571,43.2502294
END:VEVENT
END:VCALENDAR