BEGIN:VCALENDAR
VERSION:2.0
PRODID:-//Ayuntamiento de Mieres - ECPv5.16.1.1//NONSGML v1.0//EN
CALSCALE:GREGORIAN
METHOD:PUBLISH
X-WR-CALNAME:Ayuntamiento de Mieres
X-ORIGINAL-URL:https://www.mieres.es
X-WR-CALDESC:Eventos para Ayuntamiento de Mieres
BEGIN:VTIMEZONE
TZID:Europe/Madrid
BEGIN:DAYLIGHT
TZOFFSETFROM:+0100
TZOFFSETTO:+0200
TZNAME:CEST
DTSTART:20250330T010000
END:DAYLIGHT
BEGIN:STANDARD
TZOFFSETFROM:+0200
TZOFFSETTO:+0100
TZNAME:CET
DTSTART:20251026T010000
END:STANDARD
END:VTIMEZONE
BEGIN:VEVENT
DTSTART;VALUE=DATE:20250618
DTEND;VALUE=DATE:20250619
DTSTAMP:20260422T012914
CREATED:20250514T112235Z
LAST-MODIFIED:20250603T082232Z
UID:74127-1750204800-1750291199@www.mieres.es
SUMMARY:San Xuan 2025. Programa\, miércoles 18
DESCRIPTION:San Xuan 2025\nPrograma\nMiércoles 18\n\n  \n18.00 Taller DJ\, con DJ La Güeriata\nInscripción previa en oij@ayto-mieres.es\n||| Barriu La Villa (Mural 6 de la Suiza) \n18.30 Alcuentru col mitu del cantar asturianu Juan Menéndez Muñíz\, Juanín de Mieres\n||| Parque Xovellanos (en casu de lluvia Mieres Centru Cultural)\n≈ Presentador: Alberto Cienfuegos.\n≈ Intérpretes: Jorge Tuya\, Laudelina Hortal\, Luisi Martínez y Avelino Fernández\n≈ Gaiteru: Álvaro Álvarez\n≈ Grupu Coral: Cantares\n≈ Grupu de Baille: Prau Llerón \n\n20.00 Presentación del Llibru “La sidra. El ADN asturiano diferente al resto de la península”\nPor Salvador Ondó Bibang\n||| Salón d’actos de la Casa de Cultura Teodoro Cuesta \n  \nAcceso al programa completo \n  \n\n 
URL:https://www.mieres.es/evento/san-xuan-2025-programa-miercoles-18/
LOCATION:Varios espacios\, Mieres\, Asturias\, 33600 
CATEGORIES:Festejos
ATTACH;FMTTYPE=image/jpeg:https://www.mieres.es/wp-content/uploads/2025/05/Cartel_SAN-XUAN_2025.jpg
GEO:43.2491037;-5.7747551
END:VEVENT
BEGIN:VEVENT
DTSTART;VALUE=DATE:20250618
DTEND;VALUE=DATE:20250619
DTSTAMP:20260422T012914
CREATED:20250618T070045Z
LAST-MODIFIED:20250618T070518Z
UID:74774-1750204800-1750291199@www.mieres.es
SUMMARY:Vacaciones jóvenes 2025 "Axuntámonos" (1/14JUL) -Apertura del plazo de inscripciones-
DESCRIPTION:  \nVacaciones jóvenes 2025 \n“Axuntámonos”\nCampamento urbano para adolescentes de 12 a 16 años \nDel 1 al 14 de julio de 2025\nde lunes a viernes\, de 9 a 14h. \nPunto de encuentro en la antigua Oficina Joven (C/ Doce de Octubre\, 12). Desde allí se moverán por el entorno. \nInscripciones gratuitas (30 plazas) hasta el 25 de junio\, desde el formulario online: bit.ly/veranojovenmieres2025  \n\n  \nActividad organizada por el Ayuntamiento de Mieres de manera gratuita y enmarcada dentro del Plan Corresponsables. Se desarrollará en la Oficina Joven de Mieres\, de lunes a viernes\, en horario de 9:00 a 14:00 horas\, durante la primera quincena del mes de julio de 2025. \nEl campamento está dirigido a adolescentes y las actividades estarán centradas en el ocio saludable con carácter lúdico-deportivo\, una finalidad educativa\, medioambiental\, cultural y de promoción de la igualdad. \nPara más información\, puede ponerse en contacto con Cometa verde\, empresa que desarrollará la actividad: \n📞 Teléfono: 985 72 50 73 (en horario de 09:00 a 15:00 horas)\n📧 Correo: info@cometaverde.com \nLos y las participantes dispondrán de un tiempo\, a media mañana\, para poder tomar un tentempié que ellos/as mismos/as lleven. Se recomienda también que lleven su propia botella de agua. \nLa actividad es totalmente gratuita\, con plazas limitadas. \n  \n  \n\n 
URL:https://www.mieres.es/evento/vacaciones-jovenes-2025-axuntamonos-1-14jul-apertura-del-plazo-de-inscripciones/
LOCATION:Local antigua OIJ\, C/ Doce de Octubre\, 42\, Mieres
CATEGORIES:Juventud e Infancia
ATTACH;FMTTYPE=image/jpeg:https://www.mieres.es/wp-content/uploads/2025/06/Cartel-web-vacaciones-jovenes-Mieres.jpg
ORGANIZER;CN="Concejal%C3%ADa%20de%20Infancia%20y%20Juventud":MAILTO:oij@ayto-mieres.es
END:VEVENT
BEGIN:VEVENT
DTSTART;TZID=Europe/Madrid:20250618T110000
DTEND;TZID=Europe/Madrid:20250618T110000
DTSTAMP:20260422T012914
CREATED:20250613T114835Z
LAST-MODIFIED:20250613T114835Z
UID:74707-1750244400-1750244400@www.mieres.es
SUMMARY:San Xuan 2025 en la Residencia Valle del Caudal: Terapia con animales
DESCRIPTION:San Xuan 2025\nen la Residencia Valle del Caudal \n  \nTaller: \nTerapia con animales\n  \nMiércoles 18 de junio\, 11:00h.\nResidencia Valle del Caudal -Mieres- \nActividades dirigidas a los/as residentes\, familiares y amistades \n\n 
URL:https://www.mieres.es/evento/san-xuan-2025-en-la-residencia-valle-del-caudal-terapia-con-animales/
LOCATION:Residencia de personas mayores Valle del Caudal\, Calle Doce de Octubre s/n\, Mieres\, Asturias\, 33600
CATEGORIES:Bienestar Social
ATTACH;FMTTYPE=image/jpeg:https://www.mieres.es/wp-content/uploads/2025/06/San-Xuan-2025-en-la-Residencia-Valle-del-Caudal.jpg
GEO:43.2523473;-5.773673
X-APPLE-STRUCTURED-LOCATION;VALUE=URI;X-ADDRESS=Residencia de personas mayores Valle del Caudal Calle Doce de Octubre s/n Mieres Asturias 33600;X-APPLE-RADIUS=500;X-TITLE=Calle Doce de Octubre s/n:geo:-5.773673,43.2523473
END:VEVENT
BEGIN:VEVENT
DTSTART;TZID=Europe/Madrid:20250618T160000
DTEND;TZID=Europe/Madrid:20250618T170000
DTSTAMP:20260422T012914
CREATED:20260115T130146Z
LAST-MODIFIED:20260115T130146Z
UID:77249-1750262400-1750266000@www.mieres.es
SUMMARY:Talleres de capacitación familiar
DESCRIPTION:Promoción de la salud \nTalleres de capacitación familiar\nImpartido por Fundación Siloé \nCasa de las Mujeres\, de 16 a 17:00 h\nLos jueves 15\, 22 y 29 de enero\, 5 y 12 de febrero \nInscripciones gratuitas online\, a través del formulario ofrecido en esta misma página \n\n\n\n\nEstos talleres se enmarcan dentro de la promoción de la salud\, trabajando a nivel de capacitación familiar sobre:\n\nEtapas evolutivas del desarrollo.\nLa crianza y estilos educativos.\nRegulación emocional y vínculo.\nHabilidades comunicativas.\nFormas de aprendizaje\, normas y límites.
URL:https://www.mieres.es/evento/talleres-de-capacitacion-familiar/2025-06-18/
LOCATION:Casa de las Mujeres\, C/ Jerónimo Ibrán 19\, Mieres\, Asturias\, 33600\, España
CATEGORIES:Salud,Taller
ATTACH;FMTTYPE=image/jpeg:https://www.mieres.es/wp-content/uploads/2026/01/Talleres-Capacitacion-Familiar-2026.jpg
GEO:43.2512334;-5.7731606
X-APPLE-STRUCTURED-LOCATION;VALUE=URI;X-ADDRESS=Casa de las Mujeres C/ Jerónimo Ibrán 19 Mieres Asturias 33600 España;X-APPLE-RADIUS=500;X-TITLE=C/ Jerónimo Ibrán 19:geo:-5.7731606,43.2512334
END:VEVENT
BEGIN:VEVENT
DTSTART;TZID=Europe/Madrid:20250618T200000
DTEND;TZID=Europe/Madrid:20250618T200000
DTSTAMP:20260422T012914
CREATED:20250609T105510Z
LAST-MODIFIED:20250609T105510Z
UID:74601-1750276800-1750276800@www.mieres.es
SUMMARY:Presentación del libro: "La Sidra. EL ADN asturiano diferente al resto de la península"\, de Salvador Ondó Bibang
DESCRIPTION:Presentación del libro: \n\n“La Sidra. EL ADN asturiano diferente al resto de la península”\nde Salvador Ondó Bibang\nMaestro escanciador. Cinco veces Campeón de Asturias de escanciado \n\n  \n\nSalón de actos de la Casa de Cultura Teodoro Cuesta\nEntrada gratuita hasta completar aforo \n\n\n\n  \n\n\n\n  \nSalvador Ondó\, conocido por su brillante trayectoria en el mundo del escanciado y su relación con Tierra Astur\, ha recogido en su libro no solo la técnica detrás del escanciado perfecto\, sino también un profundo respeto por la tradición sidrera asturiana. \nDesde su llegada a Asturias hace más de 25 años desde Guinea Ecuatorial\, Ondó ha trabajado incansablemente para devolver a la región lo que él considera un legado invaluable. Su libro es una guía detallada que lleva al lector por todo el proceso de elaboración de la sidra\, desde la manzana hasta el vaso\, destacando la importancia de cada paso\, desde el prensado hasta la fermentación. \n  \n\n\n\n\n 
URL:https://www.mieres.es/evento/presentacion-del-libro-la-sidra-el-adn-asturiano-diferente-al-resto-de-la-peninsula-de-salvador-ondo-bibang/
LOCATION:Casa de Cultura Teodoro Cuesta\, Calle Manuel Llaneza\, 8\, Mieres\, Asturias\, 33600\, España
CATEGORIES:Letras
ATTACH;FMTTYPE=image/jpeg:https://www.mieres.es/wp-content/uploads/2025/06/presentacion-libro-sidra-ondo-mieres.jpeg
GEO:43.2502294;-5.7729571
X-APPLE-STRUCTURED-LOCATION;VALUE=URI;X-ADDRESS=Casa de Cultura Teodoro Cuesta Calle Manuel Llaneza 8 Mieres Asturias 33600 España;X-APPLE-RADIUS=500;X-TITLE=Calle Manuel Llaneza\, 8:geo:-5.7729571,43.2502294
END:VEVENT
END:VCALENDAR