BEGIN:VCALENDAR
VERSION:2.0
PRODID:-//Ayuntamiento de Mieres - ECPv5.16.1.1//NONSGML v1.0//EN
CALSCALE:GREGORIAN
METHOD:PUBLISH
X-WR-CALNAME:Ayuntamiento de Mieres
X-ORIGINAL-URL:https://www.mieres.es
X-WR-CALDESC:Eventos para Ayuntamiento de Mieres
BEGIN:VTIMEZONE
TZID:Europe/Madrid
BEGIN:DAYLIGHT
TZOFFSETFROM:+0100
TZOFFSETTO:+0200
TZNAME:CEST
DTSTART:20250330T010000
END:DAYLIGHT
BEGIN:STANDARD
TZOFFSETFROM:+0200
TZOFFSETTO:+0100
TZNAME:CET
DTSTART:20251026T010000
END:STANDARD
END:VTIMEZONE
BEGIN:VEVENT
DTSTART;VALUE=DATE:20250620
DTEND;VALUE=DATE:20250621
DTSTAMP:20260421T224158
CREATED:20250514T112416Z
LAST-MODIFIED:20250603T082632Z
UID:74131-1750377600-1750463999@www.mieres.es
SUMMARY:San Xuan 2025. Programa\, viernes 20
DESCRIPTION:San Xuan 2025\nPrograma\nViernes 20\n\n  \n17.00 Magia: Ferny Tuboytapa\n||| Parque de La Mayacina (en casu de lluvia patiu colexu Aniceto/Liceo) \n19.00 III Edición Concursu Fotografía San Xuan\nEntama: Asociación Fotográfica Semeya\n||| Salón d’Actos de la Casa de Cultura Teodoro Cuesta \n20.00 Música na cai: Lucía Beltañe y la Weird People Project\n||| C/ Luis Fernández Cabeza \n20.30 Conciertos\n||| Pozu Barreo \n  ≈ 21.00 Me fritos & the gimme cheetos\n≈ 22.00 Blast Open\n≈ 23:15  Soziedad Alkoholica \n22.30 DJ Masid\n||| Plaza Requexu \n23.00 Orquesta Tekila\n||| Parque Xovellanos \n  \nAcceso al programa completo \n  \n\n 
URL:https://www.mieres.es/evento/san-xuan-2025-programa-viernes-20/
LOCATION:Varios espacios\, Mieres\, Asturias\, 33600 
CATEGORIES:Festejos
ATTACH;FMTTYPE=image/jpeg:https://www.mieres.es/wp-content/uploads/2025/05/Cartel_SAN-XUAN_2025.jpg
GEO:43.2491037;-5.7747551
END:VEVENT
BEGIN:VEVENT
DTSTART;VALUE=DATE:20250620
DTEND;VALUE=DATE:20250621
DTSTAMP:20260421T224158
CREATED:20250606T110151Z
LAST-MODIFIED:20250617T071841Z
UID:74587-1750377600-1750463999@www.mieres.es
SUMMARY:III Open Internacional de Pesca con Mosca\, Mieres 2025 (20/22JUN). Jornadas infantiles de pesca sin muerte
DESCRIPTION:Pesca \nIII Open Internacional de Pesca con Mosca\nMieres 2025\n2º Memorial Aníbal Vázquez\n20\, 21 y 22 de junio de 2025 \nRío Caudal (zona coto de pesca deportiva\, sin muerte) \nEl Clinic Infantil (Vi\, 20. 17:00h.) y el Para-Fishing  (Sa\, 12. 11:30h) se desarrollarán en el estanque del Parque Xovellanos \n\n\n\n  \nEsta tercera dedición reunirá a 20 pescadores de toda España en un evento el cual tiene a parte del Open como especial el día 20 a partir de las 17 horas un clinic a los niños del concejo con pesca sin muerte\, y con enseñanza de montaje y lance\, y el sábado 21 se repetirá el clinic con personas con discapacidad. \n \n 
URL:https://www.mieres.es/evento/iii-open-internacional-de-pesca-con-mosca-mieres-2025-20-22jun-jornadas-infantiles-de-pesca-sin-muerte/
LOCATION:Río Caudal\, Mieres
CATEGORIES:Deportes
ATTACH;FMTTYPE=image/jpeg:https://www.mieres.es/wp-content/uploads/2025/06/open-mosca-2025.jpeg
END:VEVENT
BEGIN:VEVENT
DTSTART;TZID=Europe/Madrid:20250620T103000
DTEND;TZID=Europe/Madrid:20250620T103000
DTSTAMP:20260421T224158
CREATED:20250613T115112Z
LAST-MODIFIED:20250613T115231Z
UID:74710-1750415400-1750415400@www.mieres.es
SUMMARY:San Xuan 2025 en la Residencia Valle del Caudal: Encuentro intergeneracional con NORJOMI
DESCRIPTION:San Xuan 2025\nen la Residencia Valle del Caudal \n  \nTaller: \nEncuentro intergeneracional con NORJOMI\nDecoración de tiestos / paseo a orillas de San Juan\n(A la tarde\, merienda especial por San Juan) \n  \nViernes 20 de junio\, 10:30h.\nResidencia Valle del Caudal -Mieres- \nActividades dirigidas a los/as residentes\, familiares y amistades \n\n 
URL:https://www.mieres.es/evento/san-xuan-2025-en-la-residencia-valle-del-caudal-encuentro-intergeneracional-con-norjomi/
LOCATION:Residencia de personas mayores Valle del Caudal\, Calle Doce de Octubre s/n\, Mieres\, Asturias\, 33600
CATEGORIES:Bienestar Social
ATTACH;FMTTYPE=image/jpeg:https://www.mieres.es/wp-content/uploads/2025/06/San-Xuan-2025-en-la-Residencia-Valle-del-Caudal.jpg
GEO:43.2523473;-5.773673
X-APPLE-STRUCTURED-LOCATION;VALUE=URI;X-ADDRESS=Residencia de personas mayores Valle del Caudal Calle Doce de Octubre s/n Mieres Asturias 33600;X-APPLE-RADIUS=500;X-TITLE=Calle Doce de Octubre s/n:geo:-5.773673,43.2523473
END:VEVENT
BEGIN:VEVENT
DTSTART;TZID=Europe/Madrid:20250620T130000
DTEND;TZID=Europe/Madrid:20250620T140000
DTSTAMP:20260421T224158
CREATED:20250528T074829Z
LAST-MODIFIED:20250528T074932Z
UID:74355-1750424400-1750428000@www.mieres.es
SUMMARY:¡No te quedes en casa! Espacios de salida temprana en colegios (2/20JUN)
DESCRIPTION:  \n¡No te quedes en casa! \nEspacios de salida temprana en colegios\nDel 2 al 20 de junio de 2025\nde lunes a viernes\, de 13 a 14h. \n\n  \nPrograma dirigido al alumnado de Infantil y Primaria para ofrecer las mejores actividades y acompañamiento\, mientras fortalecen la sana convivencia\, durante la reducción de la jornada escolar. \nInscripciones\, desde el siguiente formulario:\n“No te quedes en casa” Preinscripción 2025 \n  \n\n 
URL:https://www.mieres.es/evento/no-te-quedes-en-casa-espacios-de-salida-temprana-en-colegios-2-20jun/
LOCATION:Varias ubicaciones
CATEGORIES:Juventud e Infancia
ATTACH;FMTTYPE=image/jpeg:https://www.mieres.es/wp-content/uploads/2025/05/cartel-web-2025-¡no-te-quedes-en-casa.jpg
ORGANIZER;CN="Concejal%C3%ADa%20de%20Infancia%20y%20Juventud":MAILTO:oij@ayto-mieres.es
END:VEVENT
BEGIN:VEVENT
DTSTART;TZID=Europe/Madrid:20250620T163000
DTEND;TZID=Europe/Madrid:20250620T163000
DTSTAMP:20260421T224158
CREATED:20250527T111300Z
LAST-MODIFIED:20250527T111300Z
UID:74344-1750437000-1750437000@www.mieres.es
SUMMARY:Exposición fotográfica: "En el umbral del olvido"\, de Analía Pello (4/20JUN)
DESCRIPTION:Exposición fotográfica: \nEn el umbral del olvido\nde Analía Pello \n  \nSala de exposiciones del Atenéu de Turón\nDel 4 al 20 de junio de 2025 \nHorario de lunes a viernes\, de 16:30 a 20:00h. \n\n  \nProyecto fotográfico documental que muestra oficios asturianos en peligro de extinción. La iniciativa busca rescatar y documentar visualmente oficios tradicionales que están desapareciendo de la región\, promoviendo su valor cultural y patrimonial a través de una exposición fotográfica\, con el objetivo de generar conciencia y reflexión sobre la importancia de preservar estas actividades ancestrales\, totalmente arraigadas a la cultura asturiana. \n\n  \n\n 
URL:https://www.mieres.es/evento/exposicion-fotografica-en-el-umbral-del-olvido-de-analia-pello-4-20jun-2/
LOCATION:Atenéu de Turón\, Calle Centro\, 9\, 33610 Mieres\, Asturias\, Turón\, Asturias\, 33610 \, España
CATEGORIES:Arte,Exposiciones
ATTACH;FMTTYPE=image/jpeg:https://www.mieres.es/wp-content/uploads/2025/05/CARTEL-expo-analia-pello-turon-2025.jpg
GEO:43.2091303;-5.7416142
X-APPLE-STRUCTURED-LOCATION;VALUE=URI;X-ADDRESS=Atenéu de Turón Calle Centro 9 33610 Mieres Asturias Turón Asturias 33610  España;X-APPLE-RADIUS=500;X-TITLE=Calle Centro\, 9\, 33610 Mieres\, Asturias:geo:-5.7416142,43.2091303
END:VEVENT
BEGIN:VEVENT
DTSTART;TZID=Europe/Madrid:20250620T173000
DTEND;TZID=Europe/Madrid:20250620T173000
DTSTAMP:20260421T224158
CREATED:20250512T113958Z
LAST-MODIFIED:20250514T105526Z
UID:74084-1750440600-1750440600@www.mieres.es
SUMMARY:Visita guiada al Pozu Santa Bárbara y a la intervención "SPECULUM"\, del colectivo de artistas SMACK
DESCRIPTION:Intervención artística audiovisual \nSPECULUM\ndel colectivo de artistas SMACK: Ton Meijdan\, Thom Snels y Béla Zsigmond\n\n  \nPozu Santa Barbara (PZSB). Centro de Intervenciones Artísticas\n \nDel 10 de abril al 13 de julio de 2025 \nMiércoles\, jueves y viernes de 16:30 a 21:00 h .\nSábados\, domingos y festivos de 11:00 a 14:00 h. y de 16:30 a 21:00 h.\nEntrada gratuita \n VISITAS GUIADAS: \nEn el marco de la exposición se han ofertado varios recorridos guiados y gratuitos para los meses de abril y mayo que permitirán al público sumergirse en la pieza y descubrir el proceso de creación de la misma\, así como conocer la historia del espacio que la acoge y su entorno\, patrimonio e historia. \nAnte el éxito de esas visitas\, desde la Concejalía de Cultura de nuestro Ayuntamiento se ha realizado una tercera convocatoria de nuevas fechas\npara nuevas visitas guiadas a la exposición y al Pozu Santa Bárbara. \n  \nNuevas fechas:\nDomingo\, 25 de mayo\, 12:30h.\nViernes\, 30 de mayo\, 17:30h.\nSábado\, 14 de junio\, a las 16:30h.\nViernes\, 20 de junio\, a las 17:30h.\nDomingo\, 29 de junio\, a las 12:30h. \nImprescindible inscripción previa\nEn el formulario de inscripción de cada una de las citas de agenda.\nLos formularios de inscripción se habilitarán el próximo jueves\, 15 de mayo\, a las 12:00h. \n  \nLocalización:  Pozu Santa Bárbara. La Rebaldana\, Turón (Mieres\, Asturias)\nDuración de la visita: 1 hora 30 minutos\nPlazas: 35 máx. (para mayores de 14 años) \nTransporte recomendado:\nAutobús público Emutsa. Parada PZSB: La Rebaldana  +INFO\nCoche particular (aparcamiento gratuito) \n\nFORMULARIO DE INSCRIPCIÓN\n(AQUÍ\, a partir del próximo jueves\, 15 de mayo\, a las 12:00h)Cargando… \n \nEl Centro de Experiencias Artísticas Pozu Santa Bárbara de Mieres (Asturias) ofrece a sus visitantes Speculum\, una instalación creada por el colectivo artístico SMACK\, formado por Ton Meijdan\, Thom Snels y Béla Zsigmond. El proyecto reinterpreta el icónico cuadro El jardín de las delicias (1490-1500) de Jheronimus van Aken\, conocido como El Bosco\, y que actualmente se encuentra en el Museo del Prado. La obra introduce figuras de la sociedad contemporánea\, manteniendo la esencia crítica sobre los escenarios distópicos. Esta instalación es un impactante tríptico de videoarte que revisita la icónica obra de pintura flamenca al siglo XXI\, convirtiéndola en un espejo de la sociedad actual. La exposición ha sido organizada por el Ayuntamiento de Mieres con el comisariado de L.E.V. (Laboratorio de Electrónica Visual) y la colaboración de Onkaos\, área de arte digital de SOLO Contemporary.  \n  \nDividida en tres paneles\, la instalación acompaña al espectador por un recorrido visual que refleja diferentes escenarios de nuestro presente inmediato. En Edén\, un paisaje en tonos pastel evoca un Silicon Valley digital\, donde la tecnología y la hiperconectividad prometen una utopía inmaterial. Sin embargo\, la calma aparente\, oculta una realidad controlada y en constante vigilancia por el poder de grandes corporaciones. La pantalla que se encuentra en la parte izquierda del tríptico está dedicada al Paraíso. Encontramos aquí a personajes que deambulan en un mundo dominado por la obsesión con la imagen\, el consumismo y la superficialidad. Esta fue la primera pieza del tríptico creada por SMACK en 2016\, como encargo del Stedelijk Museum de Breda en el marco del 500 aniversario de El Bosco\, más tarde  se completó con los otros dos paneles comisionados por SOLO. Finalmente\, en el panel del Infierno\, a la derecha\, el espectador se encuentra con una visión caótica y violenta\, donde los castigos están directamente vinculados a los excesos de la era digital: la sobreexposición en redes sociales\, la adicción a los algoritmos y el control masivo de la información. \nLa instalación se cierra con dos grandes pantallas que flanquean el impactante tríptico digital\, donde desfilan seis personajes arquetípicos: BIG DADA\, CYBERBULLY\, DYNAMO TWINS\, CRAPIVORE\, EGONAUT y MOTHER. Cada uno de ellos está meticulosamente caracterizado\, reflejando distintos aspectos de nuestra sociedad hiperconectada. \nEn esta visión contemporánea del Infierno de Dante\, donde el castigo refleja el pecado\, Cyberbully muestra a un troll de Internet atrapado y atormentado dentro de un gigantesco hashtag\, mientras que en Big Dada\, las cámaras de vigilancia se rebelan contra su propio creador. \nLa obsesión por la identidad en línea y el narcisismo digital quedan plasmados en Egonaut y en muchas otras de las figuras que habitan las pantallas laterales. Dynamo Twins representa la incesante rueda del trabajo sin descanso\, mientras que Crapivore personifica un ser compuesto íntegramente por productos ultraprocesados. Por su parte\, Mother se presenta como un cuerpo feminizado que expulsa y acoge personajes\, todos ellos controlados por una entidad central. \nEsta sobrecogedora colección de imágenes destila el malestar contemporáneo a través de inquietantes retratos. La obra indaga en cuestiones como el aislamiento\, el comportamiento de las masas y la interdependencia en un mundo dominado por la tecnología y el consumo. \nLos personajes que se muestran provienen de las instalaciones Paradise y Hell\, y retratan un mundo distópico marcado por la invasión tecnológica y el consumismo desenfrenado. Los artistas extraen figuras individuales de su complejo universo visual y les otorgan un mayor protagonismo. \nSiguiendo la composición y la perspectiva de la pintura renacentista clásica\, los retratos de SMACK sitúan a los personajes en paisajes monumentales y evocadores: montañas rocosas\, cielos ardientes y jardines geométricos que refuerzan la profundidad y el dramatismo de cada imagen. Es relevante que ninguna de estas figuras devuelve la mirada al espectador\, lo que genera una inquietante sensación de voyeurismo sobre ell@s. Sin duda son fragmentos de un espejo en el que se reflejan los malestares de nuestro tiempo. \nEl trabajo de SMACK nos enfrenta a un universo tan fascinante como perturbador\, donde la tecnología y la sociedad se entrelazan en un retrato implacable de nuestro tiempo. \n  \nSMACK es una colaboración entre los artistas Ton Meijdam (Geldermalsen\, Países Bajos\, 1973)\, Thom Snels (Tilburg\, Países Bajos\, 1978) y Béla Zsigmond (Budapest\, Hungría\, 1975). Este colectivo artístico\, con sede en Breda\, se sirve de la animación en 3D para crear vídeos figurativos que exploran el comportamiento colectivo\, la identidad digital\, la cultura de la vigilancia y la omnipresencia de las marcas. \nComenzaron a trabajar juntos en 2005 tras finalizar sus estudios en la escuela de arte y diseño St. Joost School of Art & Design (AKV). El primer trabajo que realizaron fue KAPITAAL (2006)\, y obtuvo el primer premio en varios festivales de renombre. Produjeron SPECULUM (2016) por encargo del Stedelijk Museum Breda que se completaría más tarde con los paneles laterales comisionados por SOLO. En el año 2017 realizaron una muestra individual de su trabajo titulada Dreaming of Mass Behaviour\, que tuvo lugar en Breda. Sus perspicaces animaciones han sido galardonadas con numerosos premios\, incluyendo el Amsterdam Film Experience\, los Premios Europeos de Diseño y los UK Music Video Awards. Su trabajo ha sido expuesto en instituciones como la galería Colnaghi de Londres\, KIAF Seúl y el Digital Art Center de Róterdam\, entre otros. Además\, han participado en numerosos festivales\, como el Holland Animation Festival\, el Bogotá Short Film Festival y MMMad Madrid. Sus proyectos\, con un gran recorrido internacional\, han sido presentados en países como Reino Unido\, Países Bajos\, Corea\, Brasil\, Alemania\, China\, Vietnam\, Francia y Estados Unidos entre otros.
URL:https://www.mieres.es/evento/visita-guiada-al-pozu-santa-barbara-y-a-la-intervencion-speculum-del-colectivo-de-artistas-smack-11/
LOCATION:Pozu Santa Bárbara\, La Rebaldana AS-337\, 19
CATEGORIES:Arte,Exposiciones,Visita guiada
ATTACH;FMTTYPE=image/jpeg:https://www.mieres.es/wp-content/uploads/2025/03/A3_SPECULUM-PZSB-2025.jpg
END:VEVENT
BEGIN:VEVENT
DTSTART;TZID=Europe/Madrid:20250620T210000
DTEND;TZID=Europe/Madrid:20250620T210000
DTSTAMP:20260421T224158
CREATED:20250508T113455Z
LAST-MODIFIED:20250527T071735Z
UID:74041-1750453200-1750453200@www.mieres.es
SUMMARY:SOZIEDAD ALKOHOLIKA\, en concierto. San Xuan 2025
DESCRIPTION:San Xuan 2025\nSOZIEDAD ALCOHOLICA\nen concierto + Me Fritos And The Gimme Cheetos + Blast Open  \n  \nViernes\, 20 de junio 2025\, Pozu Barreo \nApertura de puertas 20:30h. \n\n21:00h Me Fritos And The Gimme Cheetos\n22:00h Blast Open\n23:15h Soziedad Alcoholica  (S.A)\n\n  \nEntrada anticipada: 15€ (en taquilla 18€)\nVenta online: https://entradium.com/events/soziedad-alkoholika-en-mieres-san-xuan-2025  (Disponibles a partir del sábado 10 de mayo a las 10:00h.) \n\n  \nA lo largo de toda su trayectoria SOZIEDAD ALKOHOLIKA ha mantenido\, en todos sus discos\, una fidelidad inquebrantable a sus principios fundamentales y su nuevo álbum no es una excepción. La banda de Gasteiz no levanta el pie del acelerador ni un milímetro\, continúan sin ceder ni un ápice en su intensidad\, ni en la contundencia que les caracteriza. \nDespués de siete años desde la publicación de su último álbum de estudio “Sistema Antisocial”\, y la publicación de dos directos “En Bruto XIX” y “Mendizorrotza 2022”\, la banda regresa con su esperado nuevo disco\, “Confrontación”. Un trabajo producido por Jimmy SA\, mezclado por Haritz Harreguy y con un diseño gráfico de Nestor Urdanpilleta. \n“Confrontación” se posiciona como el décimo álbum de estudio de SOZIEDAD ALKOHOLIKA y después de todo este tiempo\, no cabe la menor duda de que el grupo ya no necesita demostrar nada\, ni rendir cuentas a nadie. Una gesta que\, hoy en día\, muy pocas bandas pueden lograr. Esta condición de mantenerse libres y ser fieles a sí mismos\, durante toda su trayectoria\, les permite trabajar con una precisión quirúrgica que\, sin duda\, es la seña de identidad del grupo. Una garantía de autenticidad y calidad\, que se transmite en cada uno de sus movimientos\, tanto en directo\, como en estudio. \nLas doce nuevas composiciones que configuran “Confrontación” son el testimonio fehaciente de que la rabia y la energía de S.A. siguen intactas. La agresividad vocal y la contundencia sónica de SOZIEDAD ALKOHOLIKA siguen traspasando los límites convencionales. La implacable base rítmica\, los riffs afilados\, junto con unas letras incómodas plantan cara a las mentiras y atrocidades de la sociedad del bienestar. Con “Confrontación” el grupo ha dado otra nueva vuelta de tuerca. \n  \n  \nMe Fritos and the Gimme Cheetos\nNace en el año 2016 como un proyecto similar al de la banda americana “Me First and the Gimme Gimmes” (Fat Wreck Records)\, pero a la española. Amantes del jolgorio y la partyhard\, buscan dar una vuelta de tuerca a esas canciones que todos conocemos para adaptarlas a un estilo punk-rock melódico\, rápido\, fiestero y para todo tipo de público. \nLa idea principal de la banda es moverse por un circuito de conciertos diferente al habitual\, con intención de tocar en eventos y conciertos más cercanos a la temática festiva: Festivales de todo tipo\, fiestas de pueblo\, afterpartys\, carnavales\, etc… \nEl crecimiento ha sido exponencial\, y recientemente la banda ha participado con gran éxito en festivales de la talla del ViñaRock\, Resurrection Fest\, Pirata Beach Festival\, Alterna Festival\, Rabolagartija\, Tsunami Xixón\, As Revenidas o Sonórica…compartiendo cartel con auténticos titanes de la música como Judas Priest\, Ska-P\, Pennywise\, Sepultura\, Soziedad alkoholika\, Desakato\, The Offspring\, Lendakaris Muertos… entre muchas otras grandes bandas. \nSu setlist no deja indiferente a nadie\, sin prejuicios\, Me Fritos es el único grupo capaz de fusionar Camela o David Bisbal con The Offspring o Bad Religion. \n  \nBlast Open\nEs una banda de thrash metal de la cuenca del Caudal asturiana formada en 2008\, que acaba de terminar una gira con la leyenda del thrash americana VIO-LENCE. Cuenta con tres trabajos de estudio editados\, sus giras de presentación y han compartido escenario junto a bandas nacionales e internacionales. \nLa actividad actual de la banda en 2025 pasa por la publicación de dos nuevas canciones editadas en videoclip y plataformas digitales\, presentado su nuevo material en la gira programada entre el 26 de abril y 3 de mayo\, en la que vuelven a recorrer la península como banda invitada en los conciertos de la banda Vio-Lence y siendo la oportunidad de disfrutar de su directo el próximo 20 de junio en Mieres. \nCanciones que continúan la estela de su último trabajo\, con nueva sonoridad aportada por una formación estable\, donde el estilo de la banda se amplía en nuevos terrenos sonoros del metal y los textos se adentran en la degradación moral humana y la búsqueda del equilibrio entre bien y mal. \nComponentes:\nNefta Vázquez       voz\nAndrés Álvarez     guitarra\nTon Araujo             bajo\nMarco Álvarez       batería
URL:https://www.mieres.es/evento/soziedad-alkoholika-en-concierto-san-xuan-2025/
LOCATION:Pozo Barredo\, Mieres\, Asturias\, 33600
CATEGORIES:Festejos
ATTACH;FMTTYPE=image/jpeg:https://www.mieres.es/wp-content/uploads/2025/05/Cartel-P.Barreo-Sociedad-alholoka-Mieres-2025.jpg
END:VEVENT
END:VCALENDAR