BEGIN:VCALENDAR
VERSION:2.0
PRODID:-//Ayuntamiento de Mieres - ECPv5.16.1.1//NONSGML v1.0//EN
CALSCALE:GREGORIAN
METHOD:PUBLISH
X-WR-CALNAME:Ayuntamiento de Mieres
X-ORIGINAL-URL:https://www.mieres.es
X-WR-CALDESC:Eventos para Ayuntamiento de Mieres
BEGIN:VTIMEZONE
TZID:Europe/Madrid
BEGIN:DAYLIGHT
TZOFFSETFROM:+0100
TZOFFSETTO:+0200
TZNAME:CEST
DTSTART:20250330T010000
END:DAYLIGHT
BEGIN:STANDARD
TZOFFSETFROM:+0200
TZOFFSETTO:+0100
TZNAME:CET
DTSTART:20251026T010000
END:STANDARD
END:VTIMEZONE
BEGIN:VEVENT
DTSTART;VALUE=DATE:20250621
DTEND;VALUE=DATE:20250622
DTSTAMP:20260421T211319
CREATED:20250514T112527Z
LAST-MODIFIED:20250603T082704Z
UID:74133-1750464000-1750550399@www.mieres.es
SUMMARY:San Xuan 2025. Programa\, sábado 21
DESCRIPTION:San Xuan 2025\nPrograma\nSábado 21\n\n  \n13.00 Desfile Grupu Baille: Ruxidera\n||| Plaza Requexu \n13.30 Música na Cai: Ferrocentro\n||| C/ Jerónino Ibrán \n17.00 Espectáculu infantil. “Sueña”\, por Mireia Miracle Company\n||| Parque Aníbal Vázquez (en casu de lluvia patiu colexu Liceo-Aniceto Sela)\n(en casu d’agua Colexu Aniceto/Liceo) \n18.00 Concursu d’Entibadores\n||| Vega de Riba \n20.00 Música na Cai: Ferla Megia\n||| Plaza Requexu \n22.00 Pasacalles “Herrantes” Troula\n||| Plaza de Requexu\, C/Jerónimo Ibrán\, Manuel Llaneza\, El Vasco\, C/Aller\, Parque Xovellanos \n22.30 DJ Masid\n||| Plaza Requexu \n23.30 Marisa Valle Roso\n||| Parque Xovellanos \n01.00 Orquesta La Última Legión\n||| Parque Xovellanos \n  \nAcceso al programa completo \n  \n\n 
URL:https://www.mieres.es/evento/san-xuan-2025-programa-sabado-21/
LOCATION:Varios espacios\, Mieres\, Asturias\, 33600 
CATEGORIES:Festejos
ATTACH;FMTTYPE=image/jpeg:https://www.mieres.es/wp-content/uploads/2025/05/Cartel_SAN-XUAN_2025.jpg
GEO:43.2491037;-5.7747551
END:VEVENT
BEGIN:VEVENT
DTSTART;VALUE=DATE:20250621
DTEND;VALUE=DATE:20250622
DTSTAMP:20260421T211319
CREATED:20250606T105335Z
LAST-MODIFIED:20250606T105724Z
UID:74580-1750464000-1750550399@www.mieres.es
SUMMARY:III Open Internacional de Pesca con Mosca\, Mieres 2025 (20/22JUN)
DESCRIPTION:Pesca \nIII Open Internacional de Pesca con Mosca\nMieres 2025\n2º Memorial Aníbal Vázquez\n20\, 21 y 22 de junio de 2025 \nRío Caudal (zona coto de pesca deportiva\, sin muerte) \nEl Clinic Infantil (Vi\, 20. 17:00h.) y el Para-Fishing  (Sa\, 12. 11:30h) se desarrollarán en el estanque del Parque Xovellanos \n\n\n\n  \nEsta tercera dedición reunirá a 20 pescadores de toda España en un evento el cual tiene a parte del Open como especial el día 20 a partir de las 17 horas un clinic a los niños del concejo con pesca sin muerte\, y con enseñanza de montaje y lance\, y el sábado 21 se repetirá el clinic con personas con discapacidad. \n  \n 
URL:https://www.mieres.es/evento/iii-open-internacional-de-pesca-con-mosca-mieres-2025-20-22jun/
LOCATION:Río Caudal\, Mieres
CATEGORIES:Deportes
ATTACH;FMTTYPE=image/jpeg:https://www.mieres.es/wp-content/uploads/2025/06/open-mosca-2025.jpeg
END:VEVENT
BEGIN:VEVENT
DTSTART;TZID=Europe/Madrid:20250621T100000
DTEND;TZID=Europe/Madrid:20250621T100000
DTSTAMP:20260421T211319
CREATED:20250520T094112Z
LAST-MODIFIED:20250520T094112Z
UID:74208-1750500000-1750500000@www.mieres.es
SUMMARY:XII Certamen del Caballo de Silla “Montaña Central”
DESCRIPTION:Medio Rural: \nXII Certamen del Caballo de Silla “Montaña Central”\n  \nRecinto ferial de Santuyano\nSábado\, 21 de junio de 2025\, a las 10:00h \n  \nINSCRIPCIONES DEL 19 DE MAYO AL 6 DE JUNIO \nPodrán participar todas aquellas explotaciones del Principado de Asturias.\nPuntuable para el Campeonato de Asturias.\nBases del concurso: https://www.mieres.es/areas-municipales/medio-rural/certamen-del-caballo-de-silla-montana-central-bases/ \n– Plazo de inscripción: 19 de Abril al 6 Junio\n– Lugar: Registro del Ayto. de Mieres o sede electrónica.\n– Hora: 9:00 a 14:00h. \n  \nDocumentación requerida: \n\nHoja del Libro de Explotación donde figuren los datos del titular y los animales inscritos.\nPasaporte de los animales (en el caso de Razas Puras deberá presentarse también la fotocopia de la carta de Origen).\nFotocopia del DNI del titular de la Explotación.\nNúmero de cuenta bancaria.\nFicha de acreedor (en caso de no haber participado en años anteriores).\nCertificado de estar al corriente en la Seguridad Social.\nCertificado de estar al corriente de obligaciones tributarias de la Agencia Tributaria.\nCertificado de estar al corriente de obligaciones tributarias con los Servicios Tributarios del Principado de Asturias.\n\nMás información en la Oficina de Medio Rural del Ayto. de Mieres\, Tfno. 985466111 (ext622). \n  \n\n 
URL:https://www.mieres.es/evento/xii-certamen-del-caballo-de-silla-montana-central/
LOCATION:Recinto Ferial de Santuyano
CATEGORIES:Medio rural
ATTACH;FMTTYPE=image/jpeg:https://www.mieres.es/wp-content/uploads/2022/05/cartel-certamen-caballo-silla-2025-mieres.jpg
END:VEVENT
BEGIN:VEVENT
DTSTART;TZID=Europe/Madrid:20250621T103000
DTEND;TZID=Europe/Madrid:20250621T103000
DTSTAMP:20260421T211319
CREATED:20250611T091711Z
LAST-MODIFIED:20250611T091711Z
UID:74627-1750501800-1750501800@www.mieres.es
SUMMARY:Ruta interpretativa de la naturaleza por la Senda Verde de Returbiu
DESCRIPTION:Programación medioambiental\nDía mundial del Medio Ambiente 2025 \nRuta interpretativa de la naturaleza por la Senda Verde de Returbiu\n  \nActividad dirigida a todo tipo de edades\, pensada para realizar en familia. \nSábado\, 21 de junio\, de 10:30 a 12.30h.\nPunto de encuentro y salida desde el comienzo de la senda\, al lado de la Iglesia de San Juan \nNo es necesaria inscripción previa \n\n  \nDesarrollaremos la actividad con Seo Birdlife\, la Asociación Española de Ornitología\, y podremos observar e identificar aves y pájaros de la zona\, pero también hablaremos de los árboles\, los ríos\, los anfibios\, los ecosistemas\, la vegetación de ribera de nuestros ríos\, porque en la naturaleza todo está conectado\, y es bueno conocerlo\, para aprender a respetarlo. \nLas y los asistentes recibirán un decálogo en papel con “Recomendaciones para la observación de aves”\, donde se explicará también durante la sesión\, las pautas a seguir para que nuestra actividad no genere un impacto negativo de las aves.” \n  \n\n 
URL:https://www.mieres.es/evento/ruta-interpretativa-de-la-naturaleza-por-la-senda-verde-de-returbiu/
LOCATION:Plaza de La Pasera\, Plaza Pasera\, Mieres\, 33600
CATEGORIES:Medio Ambiente
ATTACH;FMTTYPE=image/jpeg:https://www.mieres.es/wp-content/uploads/2025/06/Cartel-web-ruta-interpretativa-medio-ambiente-junio-2025.jpg
END:VEVENT
BEGIN:VEVENT
DTSTART;TZID=Europe/Madrid:20250621T160000
DTEND;TZID=Europe/Madrid:20250621T160000
DTSTAMP:20260421T211319
CREATED:20250530T085735Z
LAST-MODIFIED:20250530T085735Z
UID:74429-1750521600-1750521600@www.mieres.es
SUMMARY:XXXIX Open de Ajedrez San Xuan
DESCRIPTION:Ajedrez \nXXXVIII Open de Ajedrez San Xuan\nMieres Centru Cultural \n22 de junio de 2024\, a partir de las 16.15h. \n\n  \nBASES DEL TORNEO\n– SISTEMA SUIZO A 7 RONDAS\n– 10+3 MINUTOS POR JUGADOR A FINISH\n– SE REGIRÁ TODO EL TORNEO POR LAS REGLAS DEL AJEDREZ F.I.D.E \nPREMIOS\n1º. TROFEO Y 200€\n2º. TROFEO Y 150€\n3º. TROFEO Y 100€\n4º. TROFEO Y 50€\n5º. TROFEO Y 50€ \nTROFEOS ESPECIALES\nCATEGORÍAS SUB 12 – 1º TROFEO\,  2º TROFEO\nVETERANOS – 1º TROFEO\,  2º TROFEO\nMIEMBROS GRUPO DE AJEDREZ “MIERES DEL CAMINO”\n1º TROFEO Y 50€\,  2º TROFEO Y 40€\, 3º TROFEO Y 30€ \nENTREGA DE PREMIOS\nAL FINAL DEL TORNEO\n(Habrá bollo+botella/refresco para todos/as los/las participantes) \nLUGAR DE JUEGO:\nMIERES CENTRU CULTURAL \n  \nINSCRIPCIÓN 20€ (HASTA EL 19 DE JUNIO). \nInformación y seguimiento del torneo: XXXIX Open Ajedrez San Juan – info64.org \n  \n\n 
URL:https://www.mieres.es/evento/xxxix-open-de-ajedrez-san-xuan/
LOCATION:Mieres Centru Cultural\, Calle Jerónimo Ibrán\, 10\, Mieres\, Asturias\, 33600
CATEGORIES:Deportes
ATTACH;FMTTYPE=image/jpeg:https://www.mieres.es/wp-content/uploads/2025/05/open-ajedrez-san-juan-2025.jpg
END:VEVENT
BEGIN:VEVENT
DTSTART;TZID=Europe/Madrid:20250621T163000
DTEND;TZID=Europe/Madrid:20250621T163000
DTSTAMP:20260421T211319
CREATED:20250619T105911Z
LAST-MODIFIED:20250619T105911Z
UID:74802-1750523400-1750523400@www.mieres.es
SUMMARY:IV Exhibición solidaria de Artes Marciales\, pro investigación de la Fibrosis Quística
DESCRIPTION:Deportes-exhibición solidaria: \nIV Exhibición solidaria de Artes Marciales\n\nOrganizada por Club Taemi\nRecaudación de fondos destinados a la investigación de la Fibrosis Quística \nEntrada solidaria: 5€ \nSábado\, 21 de junio\, 16:20h \nInstalaciones deportivas del Campus de Mieres \n\n  \nEl club TAEMI\, de Mieres\, de la mano de Miguel Ángel Fernández\, organiza una nueva exhibición de artes marciales cuya venta de entradas será destinada a la investigación de la Fibrosis Quística. La FQ es una enfermedad catalogada como rara\, por su baja incidencia\, que\, a día de hoy\, no tiene cura. Gracias al avance de la ciencia y la investigación\, se ha conseguido descubrir medicamentos que frenan el avance de la enfermedad. \n“Con iniciativas como ésta\, no solo recaudamos fondos\, si no que nos damos a conocer a la sociedad\, ya que ser una enfermedad rara\, por su baja incidencia\, nos convierte\, de manera directa en invisibles\, por lo que\, en este evento\, realizamos una gran labor de difusión y visibilización”.
URL:https://www.mieres.es/evento/iv-exhibicion-solidaria-de-artes-marciales-pro-investigacion-de-la-fibrosis-quistica/
LOCATION:Campus Universitario de Mieres\, Calle Gonzalo Gutiérrez Quirós\, Mieres\, Asturias\, 33600
CATEGORIES:Deportes
ATTACH;FMTTYPE=image/jpeg:https://www.mieres.es/wp-content/uploads/2025/06/taekwondo-Mieres-2025.jpeg
GEO:43.2415825;-5.7771595
X-APPLE-STRUCTURED-LOCATION;VALUE=URI;X-ADDRESS=Campus Universitario de Mieres Calle Gonzalo Gutiérrez Quirós Mieres Asturias 33600;X-APPLE-RADIUS=500;X-TITLE=Calle Gonzalo Gutiérrez Quirós:geo:-5.7771595,43.2415825
END:VEVENT
BEGIN:VEVENT
DTSTART;TZID=Europe/Madrid:20250621T190000
DTEND;TZID=Europe/Madrid:20250621T190000
DTSTAMP:20260421T211319
CREATED:20250612T085904Z
LAST-MODIFIED:20250617T070353Z
UID:74632-1750532400-1750532400@www.mieres.es
SUMMARY:Espectáculo ecuestre "La magia del caballo". XII Certamen del Caballo de Silla “Montaña Central”
DESCRIPTION:Medio Rural: \nEspectáculo ecuestre “La magia del caballo”\nXII Certamen del Caballo de Silla “Montaña Central”\n  \nRecinto ferial de Santuyano\nSábado\, 21 de junio de 2025\, 19:00h \nEntrada libre y gratuita \n\n\nLa Magia del Caballo consigue embrujar al público con la fantasía de números nunca vistos. La sobriedad y elegancia de los más clásicos permite que el espectador se acerque a este mundo y lo conozca un poco más profundamente sin necesidad de tecnicismos ni explicaciones redundantes\, y la profesionalidad con la que se trabaja en los más complicados hechiza a quien nos rodea.\nNúmeros realizados por jinetes y amazonas que ponen su corazón en lo que hacen. Incluso jovencísimos pero impecables profesionales que no dejarán indiferente al público\, que podrá ver en acción varios caballos\, ponis y otras fantásticas sorpresas…\nGarrocha\, monta a la amazona\, baile flamenco\, riendas largas\, alta escuela\, viajes por la cultura del caballo desde el norte hasta el sur de España y un millón de razones más que consideramos suficientes para recomendar que no pierdan la ocasión de disfrutar de una tarde dejándose llevar por… La Magia del Caballo\n\n\n\n\n \n  \n\n 
URL:https://www.mieres.es/evento/espectaculo-ecuestre-la-magia-del-caballo-xii-certamen-del-caballo-de-silla-montana-central/
LOCATION:Recinto Ferial de Santuyano
CATEGORIES:Medio rural
ATTACH;FMTTYPE=image/jpeg:https://www.mieres.es/wp-content/uploads/2025/06/Cartel-web-La-Magia-del-Caballo-Mieres-2025.jpg
END:VEVENT
END:VCALENDAR