BEGIN:VCALENDAR
VERSION:2.0
PRODID:-//Ayuntamiento de Mieres - ECPv5.16.1.1//NONSGML v1.0//EN
CALSCALE:GREGORIAN
METHOD:PUBLISH
X-WR-CALNAME:Ayuntamiento de Mieres
X-ORIGINAL-URL:https://www.mieres.es
X-WR-CALDESC:Eventos para Ayuntamiento de Mieres
BEGIN:VTIMEZONE
TZID:Europe/Madrid
BEGIN:DAYLIGHT
TZOFFSETFROM:+0100
TZOFFSETTO:+0200
TZNAME:CEST
DTSTART:20250330T010000
END:DAYLIGHT
BEGIN:STANDARD
TZOFFSETFROM:+0200
TZOFFSETTO:+0100
TZNAME:CET
DTSTART:20251026T010000
END:STANDARD
END:VTIMEZONE
BEGIN:VEVENT
DTSTART;VALUE=DATE:20250623
DTEND;VALUE=DATE:20250624
DTSTAMP:20260421T181550
CREATED:20250514T112638Z
LAST-MODIFIED:20250603T083919Z
UID:74137-1750636800-1750723199@www.mieres.es
SUMMARY:San Xuan 2025. Programa\, lunes 23
DESCRIPTION:San Xuan 2025\nPrograma\nLunes 23\n\n  \n18.00 Festival Títeres\n||| Xardines del Ayuntamientu\n≈ “El ratón presumido” \n20.00 › L’ENRAME\n≈ Grupu de Baille Prau Llerón ||| Fonte del Ayuntamientu\, La Vega y Manuel Llaneza\n≈ Grupu de Baille Ruxidera ||| Paséu de la Estación del Vascu\n≈ Grupu de Baille L’Artusu  ||| Escultura de Pepa “La Llechera”\n≈ Banda de Gaites Villa de Mieres ||| Parque Aníbal Vazquez / Calle Cabezas \n21.00 ≈ Alcuentru grupos de Baille y Banda de Gaites\n||| Plaza Requexu \n23.10 Fueos artificiales \n00.00 Foguera San Xuan\nde mano del Grupu Folclóricu Prau Llerón\n||| Plaza l’Ayuntamientu \n01.00 Camela\n||| Parque Xovellanos \n02.30 Vas Bailar-DJ Grand\n||| Parque Xovellanos \n  \nAcceso al programa completo \n  \n\n 
URL:https://www.mieres.es/evento/san-xuan-2025-programa-lunes-23/
LOCATION:Varios espacios\, Mieres\, Asturias\, 33600 
CATEGORIES:Festejos
ATTACH;FMTTYPE=image/jpeg:https://www.mieres.es/wp-content/uploads/2025/05/Cartel_SAN-XUAN_2025.jpg
GEO:43.2491037;-5.7747551
END:VEVENT
BEGIN:VEVENT
DTSTART;TZID=Europe/Madrid:20250623T010000
DTEND;TZID=Europe/Madrid:20250623T210000
DTSTAMP:20260421T181550
CREATED:20250519T115840Z
LAST-MODIFIED:20250519T115840Z
UID:74186-1750640400-1750712400@www.mieres.es
SUMMARY:CAMELA\, en concierto. San Xuan 2025
DESCRIPTION:San Xuan 2025\nCAMELA\nen concierto\n  \nLunes\, 23 de junio 2025\, 01:00h \nParque Xovellanos \nEntrada libre \n\n  \n2025 será otro año imborrable para Camela\, ¡y ya van 30 + 1!  Dioni y Ángeles siguen viviendo un mágico presente\, con todos sus conciertos absolutamente abarrotados de los fieles y de las nuevas generaciones que se han sumado a un fenómeno que no conoce precedentes en el pop español. \nLa agenda del año pasado concluyó aproximándose al centenar de directos con apoteósicas apariciones en los principales medios de comunicación y\, además\, protagonizando sus primeras incursiones en el mundo publicitario. Las campañas para “Kaiku Caffé Latte” y “Wallapop” han sido dos de los spots virales de mayor éxito en el sector de los últimos meses. \nY siguen llegando los reconocimientos. Ahora\, al éxito popular y su consagración profesional\, hay que sumar la consecución de la “Gran Cruz del Dos de Mayo” que otorga la Comunidad de Madrid y la ansiada “Medalla de Oro al Mérito en las Bellas Artes” concedida por el Ministerio de Cultura. Dos nuevos hitos para Camela\, sin duda\, el grupo más importante del pop nacional en lo que llevamos de milenio. \nUn grupo que se convierte en leyenda cuando el público corea en todos y cada uno de sus conciertos más del noventa por ciento del repertorio\, y eso ocurre con Camela\, la pareja que ha convertido cada canción en algo más que un himno. \nÁngeles y Dioni siguen siendo los del “Escúchame\, compréndelo…” (“Sueños inalcanzables”) o el “No me hace caso…” (“Lágrimas de amor”) porque en Camela no cuentan los títulos\, importan las historias. Si sumamos “Nunca debí enamorarme”\, “Cuando zarpa el amor”\, “El calor de mi cuerpo”\, “Bella Lucía”\, “Has cambiado mi vida” “Ya se acabó el tener dueño” y otro buen puñado de títulos\, habremos completado la banda sonora de todo un país. \n2025 será el año de alguna que otra sorpresa discográfica\, vendrán nuevas canciones que sumar a su larga lista de números uno. Y todo arrancará el próximo 5 de abril en Sevilla\, ese será el pistoletazo de salida de otra inolvidable gira que ya cuenta con más de 70 fechas previstas. \nCamela no son solo garantía de éxito. Su nombre es sinónimo de compromiso y respeto a los millones de incondicionales que los acompañan desde hace 31 años y\, por encima de todo\, de entrega máxima a la profesión para la que han nacido. Son mucho más que un acontecimiento social y cultural\, Camela son y serán Patrimonio de la Humanidad.
URL:https://www.mieres.es/evento/camela-en-concierto-san-xuan-2025/
LOCATION:Parque Xovellanos\, Parque Xovellanos\, Mieres\, Asturias\, 33600 
CATEGORIES:Festejos
ATTACH;FMTTYPE=image/jpeg:https://www.mieres.es/wp-content/uploads/2025/05/Concierto-Camela-San-Xuan-2025.jpg
GEO:43.2517322;-5.7764018
X-APPLE-STRUCTURED-LOCATION;VALUE=URI;X-ADDRESS=Parque Xovellanos Parque Xovellanos Mieres Asturias 33600;X-APPLE-RADIUS=500;X-TITLE=Parque Xovellanos:geo:-5.7764018,43.2517322
END:VEVENT
BEGIN:VEVENT
DTSTART;TZID=Europe/Madrid:20250623T090000
DTEND;TZID=Europe/Madrid:20250623T140000
DTSTAMP:20260421T181550
CREATED:20250528T080510Z
LAST-MODIFIED:20250528T081226Z
UID:74362-1750669200-1750687200@www.mieres.es
SUMMARY:¡No te quedes en casa! Campamentos escolares (23/27JUN)
DESCRIPTION:  \n¡No te quedes en casa! \nCampamentos escolares\nDel 23 al 27 de junio de 2025\nde lunes a viernes\, de 9 a 14h. \nEn todos los colegios públicos del concejo \n\n  \nPrograma dirigido al alumnado de Infantil y Primaria para ofrecer las mejores actividades y acompañamiento\, mientras fortalecen la sana convivencia\, durante la semana de junio que ya ha finalizado el curso escolar\, facilitando la conciliación familiar. \nInscripciones gratuitas\, desde el siguiente formulario:\n“No te quedes en casa” Preinscripción 2025 \n  \n\n 
URL:https://www.mieres.es/evento/no-te-quedes-en-casa-campamentos-escolares-23-27jun/
LOCATION:Varias ubicaciones
CATEGORIES:Juventud e Infancia
ATTACH;FMTTYPE=image/jpeg:https://www.mieres.es/wp-content/uploads/2025/05/cartel-web-2025-¡no-te-quedes-en-casa.jpg
ORGANIZER;CN="Concejal%C3%ADa%20de%20Infancia%20y%20Juventud":MAILTO:oij@ayto-mieres.es
END:VEVENT
END:VCALENDAR