BEGIN:VCALENDAR
VERSION:2.0
PRODID:-//Ayuntamiento de Mieres - ECPv5.16.1.1//NONSGML v1.0//EN
CALSCALE:GREGORIAN
METHOD:PUBLISH
X-WR-CALNAME:Ayuntamiento de Mieres
X-ORIGINAL-URL:https://www.mieres.es
X-WR-CALDESC:Eventos para Ayuntamiento de Mieres
BEGIN:VTIMEZONE
TZID:Europe/Madrid
BEGIN:DAYLIGHT
TZOFFSETFROM:+0100
TZOFFSETTO:+0200
TZNAME:CEST
DTSTART:20250330T010000
END:DAYLIGHT
BEGIN:STANDARD
TZOFFSETFROM:+0200
TZOFFSETTO:+0100
TZNAME:CET
DTSTART:20251026T010000
END:STANDARD
END:VTIMEZONE
BEGIN:VEVENT
DTSTART;TZID=Europe/Madrid:20250628T090000
DTEND;TZID=Europe/Madrid:20250628T150000
DTSTAMP:20260421T111952
CREATED:20250604T121631Z
LAST-MODIFIED:20250604T121631Z
UID:74549-1751101200-1751122800@www.mieres.es
SUMMARY:Curso de Delegado/a de Protección. Ley Orgánica de Protección Integral a la Infancia y la Adolescencia LOPIVI (2ªed.)
DESCRIPTION:Curso gratuito \nCurso de delegado/a de Protección\nLey Orgánica de Protección Integral a la Infancia y la Adolescencia LOPIVI\n(2ªed.)\nCasa de las Mujeres\n28 de junio de 2025 (2ª edición)\nDe 9:00 a 15:00h. \nInscripción gratuita a partir del 5 de junio\, desde el enlace: https://inscripciones.controlvformacion.es/lopivimieres \n\n  \nFormación dirigida a personas que necesitan comprender de forma clara y aplicable cómo les afecta la LOPIVI en su día a día\, y cómo incorporar un enfoque de protección en sus actividades sin perder el carácter lúdico y participativo de su labor. De especial interés para personas que trabajan en campamentos\, colonias infantiles y juveniles\, etc. ante la necesaria formación en la figura del Delegado de Protección tras la puesta en marcha de la Ley Orgánica de Protección Integral a la Infancia y la Adolescencia. \n  \nSesión presencial de 6 horas de nivel básico  \n  \n📢 ¡Nueva formación gratuita! 📢 \nSi trabajas con infancia\, juventud o en animación sociocultural\, este curso básico de LOPIVI es para ti. En solo 6 horas\, aprenderás lo esencial para aplicar la Ley Orgánica de Protección Integral a la Infancia y la Adolescencia. \n🗓 Fechas disponibles: 📌 Sábado 14 de junio 📌 Sábado 28 de junio ⏰ Horario: 09:00 – 15:00 \n👥 Plazas prioritarias para personas empadronadas en Mieres. Si hay disponibilidad\, se abrirán al resto. \n📝 Inscripción gratuita desde el enlace: https://inscripciones.controlvformacion.es/lopivimieres \n📚 Dirigido a: ✔ Personal técnico de juventud\, infancia y animación sociocultural ✔ Especialmente monitores/as de tiempo libre
URL:https://www.mieres.es/evento/curso-de-delegado-a-de-proteccion-ley-organica-de-proteccion-integral-a-la-infancia-y-la-adolescencia-lopivi-2aed/
LOCATION:Casa de las Mujeres\, C/ Jerónimo Ibrán 19\, Mieres\, Asturias\, 33600\, España
CATEGORIES:Cursos,Juventud e Infancia,Taller
ATTACH;FMTTYPE=image/jpeg:https://www.mieres.es/wp-content/uploads/2025/06/cartel-delegada-LOPIVI-Mieres.jpg
ORGANIZER;CN="Concejal%C3%ADa%20de%20Infancia%20y%20Juventud":MAILTO:oij@ayto-mieres.es
GEO:43.2512334;-5.7731606
X-APPLE-STRUCTURED-LOCATION;VALUE=URI;X-ADDRESS=Casa de las Mujeres C/ Jerónimo Ibrán 19 Mieres Asturias 33600 España;X-APPLE-RADIUS=500;X-TITLE=C/ Jerónimo Ibrán 19:geo:-5.7731606,43.2512334
END:VEVENT
BEGIN:VEVENT
DTSTART;TZID=Europe/Madrid:20250628T154500
DTEND;TZID=Europe/Madrid:20250628T154500
DTSTAMP:20260421T111952
CREATED:20250613T115806Z
LAST-MODIFIED:20250613T115925Z
UID:74715-1751125500-1751125500@www.mieres.es
SUMMARY:Reto Solidario Camino del Salvador 2025 (paso por Mieres)
DESCRIPTION:Carrera de resistencia: \n\nReto Solidario Camino del Salvador 2025\nMemorial Manuel Barros\n\n  \n\nSalida: Viernes 27 20:00h desde León (Plaza de la Catedral)\nLlegada: sábado 28 19:35h a Oviedo (Plaza de la Catedral) \nPaso por Mieres\, sábado 28\, 15:45h. \nReto promovido por la iniciativa ROBER CONRA EL CÁNCER\, a beneficio de la Fundación SEOM (Sociedad Española de Oncología Médica) \n\nEtapa / Salida\n– León 20:00\n– Carbajal 21:20\n– Cabanillas 23:00\n– La Robla 0:45\n– Beberino 2:30\n– Poladura 5:00\n– Pajares 7:30\n– Llanos de Somerón 9:15\n– Campomanes 11:30\n– Pola de Lena 13:45\n– Mieres 15:45\n– Olloniego 17:45\n– Oviedo 19:35 \n  \n\n\n\n 
URL:https://www.mieres.es/evento/reto-solidario-camino-del-salvador-2025-paso-por-mieres/
LOCATION:Varios espacios\, Mieres\, Asturias\, 33600 
CATEGORIES:Deportes
ATTACH;FMTTYPE=image/jpeg:https://www.mieres.es/wp-content/uploads/2025/06/reto-solidario-Leon-Oviedo-2025.jpg
GEO:43.2491037;-5.7747551
END:VEVENT
BEGIN:VEVENT
DTSTART;TZID=Europe/Madrid:20250628T170000
DTEND;TZID=Europe/Madrid:20250628T235900
DTSTAMP:20260421T111952
CREATED:20250618T114200Z
LAST-MODIFIED:20250618T115541Z
UID:74799-1751130000-1751155140@www.mieres.es
SUMMARY:Foguera de Villapendi 2025
DESCRIPTION:Festejos \nFoguera de Villapendi 2025\nVillapendi\, Turón\n28 de junio de 2025 \n\nPrograma: \n17:00h.-  Xuegos pa neños\n18:00 a 20:00h.- Repartu del bollu con actuación\ndel Coro Mineru de Turón.\n20:30h.- Actuación musical.\n23:30h.- Reparto de chocolate.\n00:00h.- Prendemos la Foguera.\nNoche amenizada por DJBURGUI \nMúsica de ambiente durante toda la jornada.
URL:https://www.mieres.es/evento/foguera-de-villapendi-2025/
LOCATION:Villapendi\, Villapendi s/n\, Turón\, 33610
CATEGORIES:Festejos
ATTACH;FMTTYPE=image/jpeg:https://www.mieres.es/wp-content/uploads/2025/06/foguera-villapendi-cartel-2025.jpg
GEO:28.0007147;-82.3831561
X-APPLE-STRUCTURED-LOCATION;VALUE=URI;X-ADDRESS=Villapendi Villapendi s/n Turón 33610;X-APPLE-RADIUS=500;X-TITLE=Villapendi s/n:geo:-82.3831561,28.0007147
END:VEVENT
END:VCALENDAR