BEGIN:VCALENDAR
VERSION:2.0
PRODID:-//Ayuntamiento de Mieres - ECPv5.16.1.1//NONSGML v1.0//EN
CALSCALE:GREGORIAN
METHOD:PUBLISH
X-WR-CALNAME:Ayuntamiento de Mieres
X-ORIGINAL-URL:https://www.mieres.es
X-WR-CALDESC:Eventos para Ayuntamiento de Mieres
BEGIN:VTIMEZONE
TZID:Europe/Madrid
BEGIN:DAYLIGHT
TZOFFSETFROM:+0100
TZOFFSETTO:+0200
TZNAME:CEST
DTSTART:20250330T010000
END:DAYLIGHT
BEGIN:STANDARD
TZOFFSETFROM:+0200
TZOFFSETTO:+0100
TZNAME:CET
DTSTART:20251026T010000
END:STANDARD
END:VTIMEZONE
BEGIN:VEVENT
DTSTART;TZID=Europe/Madrid:20250714T090000
DTEND;TZID=Europe/Madrid:20250714T140000
DTSTAMP:20260421T081730
CREATED:20250618T072932Z
LAST-MODIFIED:20250618T072932Z
UID:74781-1752483600-1752501600@www.mieres.es
SUMMARY:Vacaciones jóvenes 2025 "Axuntámonos" (1/14JUL)
DESCRIPTION:  \nVacaciones jóvenes 2025 \n“Axuntámonos”\nCampamento urbano para adolescentes de 12 a 16 años \nDel 1 al 14 de julio de 2025\nde lunes a viernes\, de 9 a 14h. \nPunto de encuentro en la antigua Oficina Joven (C/ Doce de Octubre\, 12). Desde allí se moverán por el entorno. \nInscripciones gratuitas (30 plazas) hasta el 25 de junio\, desde el formulario online: bit.ly/veranojovenmieres2025 \n\n  \nActividad organizada por el Ayuntamiento de Mieres de manera gratuita y enmarcada dentro del Plan Corresponsables. Se desarrollará en la Oficina Joven de Mieres\, de lunes a viernes\, en horario de 9:00 a 14:00 horas\, durante la primera quincena del mes de julio de 2025. \nEl campamento está dirigido a adolescentes y las actividades estarán centradas en el ocio saludable con carácter lúdico-deportivo\, una finalidad educativa\, medioambiental\, cultural y de promoción de la igualdad. \nPara más información\, puede ponerse en contacto con Cometa verde\, empresa que desarrollará la actividad: \n📞 Teléfono: 985 72 50 73 (en horario de 09:00 a 15:00 horas)\n📧 Correo: info@cometaverde.com \nLos y las participantes dispondrán de un tiempo\, a media mañana\, para poder tomar un tentempié que ellos/as mismos/as lleven. Se recomienda también que lleven su propia botella de agua. \nLa actividad es totalmente gratuita\, con plazas limitadas. \n  \n  \n\n 
URL:https://www.mieres.es/evento/vacaciones-jovenes-2025-axuntamonos-1-14jul-2-2/
LOCATION:Local antigua OIJ\, C/ Doce de Octubre\, 42\, Mieres
CATEGORIES:Juventud e Infancia
ATTACH;FMTTYPE=image/jpeg:https://www.mieres.es/wp-content/uploads/2025/06/Cartel-web-vacaciones-jovenes-Mieres.jpg
ORGANIZER;CN="Concejal%C3%ADa%20de%20Infancia%20y%20Juventud":MAILTO:oij@ayto-mieres.es
END:VEVENT
BEGIN:VEVENT
DTSTART;TZID=Europe/Madrid:20250714T110000
DTEND;TZID=Europe/Madrid:20250714T130000
DTSTAMP:20260421T081731
CREATED:20250613T110645Z
LAST-MODIFIED:20250613T111435Z
UID:74659-1752490800-1752498000@www.mieres.es
SUMMARY:Corre que juegas\, en Turón (30JUN/28JUL)
DESCRIPTION:  \nCORRE QUE JUEGAS\nEn Turón\nTodos los lunes\, del 30 de  junio al 28 de julio\, de 11 a 13:00h.\nParque de la Veguina -Turón- \nPara niños y niñas de entre 5 y 16 años\nNo es necesaria inscripción \n\n  \nGenerar espacios con multiactividades para niños y niñas es una excelente oportunidad para fomentar el deporte\, la actividad física y unos hábitos de vida saludables desde una edad temprana. La metodología a utilizar debe ser inclusiva\, dinámica y adecuada a las diferentes edades y capacidades de l@s participantes. \nDiseñamos un programa que incluye una variedad de deportes\, juegos y actividades físicas. Esto no solo ayuda a desarrollar habilidades físicas diversas\, sino que también permite a los niños y niñas descubrir qué deportes y actividades son con los que se sienten más cómodos y cuáles se adaptan mejor a sus intereses y habilidades individuales. \nActividades dinámicas\, activas y cooperativas en las que volvamos a tomar la calle como espacio de juego dejando de lado las pantallas. \nLa metodología debe enfocarse en el aprendizaje basado en nuestro lema #aprenderjugando. Utilizar juegos y actividades lúdicas facilita la enseñanza de técnicas y reglas\, al mismo tiempo que mantiene el interés y la diversión entre l@s jóvenes participantes. Es crucial que cada actividad esté adaptada a la edad y capacidad delos niños y niñas\, proporcionando desafíos adecuados que promuevan su desarrollo físico y mental. \nOrganizado por la Concejalía de Infancia de Juventud y realizado por Blinca\, empresa de ocio\, tiempo libre y educación\, y desarrollado por 5 monitores/ monitoras con una titulación mínima de Monitor/a de Ocio y tiempo libre y un coordinador o coordinadora con titulación mínima de Dirección de Ocio y Tiempo libre que además será la figura de “Delegada de Protección”. \n\nEstas actividades están destinadas a niños y niñas de entre 5 y 16 años.\nLas inscripciones de los menores de 11 años deben hacerse con la compañía de un adulto responsable\nque firmará la autorización en el mismo lugar.\nEl ratio será de un máximo de 15 niños y niñas por monitor y monitora. En el caso tener usuarios con\nNEE y/o Diversidad funcional este ratio será de 5 niños y niñas por monitor/monitora.\n\n  \nOBJETIVOS \n\nFomentar la Conciliación Laboral y Familiar\nGenerar un entorno saludable en el que se fomenten valores como el trabajo en equipo\, relaciones interpersonales\, igualdad y cooperación\nDesarrollar una programación de calidad ofreciendo contenidos como: juegos\, gymkanas\, talleres\, actividades deportivas\, etc.\nTrabajar\, de forma planificada\, los valores que el deporte tiene implícitos como son el compañerismo\, el respeto\, el trabajo en equipo…\nAprender jugando
URL:https://www.mieres.es/evento/corre-que-juegas-turon/2025-07-14/
LOCATION:Parque de Turón\, Calle Centro\, 9\, 33610 Mieres\, Asturias\, Turón\, Asturias\, 33610 
CATEGORIES:Juventud e Infancia
ATTACH;FMTTYPE=image/jpeg:https://www.mieres.es/wp-content/uploads/2025/06/Cartel-corre-que-juegas-mieres-2025.jpg
ORGANIZER;CN="Concejal%C3%ADa%20de%20Infancia%20y%20Juventud":MAILTO:oij@ayto-mieres.es
END:VEVENT
END:VCALENDAR