BEGIN:VCALENDAR
VERSION:2.0
PRODID:-//Ayuntamiento de Mieres - ECPv5.16.1.1//NONSGML v1.0//EN
CALSCALE:GREGORIAN
METHOD:PUBLISH
X-WR-CALNAME:Ayuntamiento de Mieres
X-ORIGINAL-URL:https://www.mieres.es
X-WR-CALDESC:Eventos para Ayuntamiento de Mieres
BEGIN:VTIMEZONE
TZID:Europe/Madrid
BEGIN:DAYLIGHT
TZOFFSETFROM:+0100
TZOFFSETTO:+0200
TZNAME:CEST
DTSTART:20250330T010000
END:DAYLIGHT
BEGIN:STANDARD
TZOFFSETFROM:+0200
TZOFFSETTO:+0100
TZNAME:CET
DTSTART:20251026T010000
END:STANDARD
END:VTIMEZONE
BEGIN:VEVENT
DTSTART;TZID=Europe/Madrid:20250731T090000
DTEND;TZID=Europe/Madrid:20250731T090000
DTSTAMP:20260421T064429
CREATED:20250618T100839Z
LAST-MODIFIED:20250618T100839Z
UID:74789-1753952400-1753952400@www.mieres.es
SUMMARY:Movámonos Xunt@s - Vacaciones Activas Verano 2025 (2ª quincena 16/31JUL)
DESCRIPTION:Movámonos Xunt@s\nVACACIONES ACTIVAS – CAMPAMENTOS URBANOS\n1ª quincena de julio\, del 1 al 15\n2ª quincena de julio\, del 16 al 31\n1ª quincena de agosto\, del 1 al 15\n2ª quincena de agosto\, del 16 al 30 \nde 10 a 14:00 h. en el patio del Colegio Liceo Mierense-Aniceto Sela \nInscripciones gratuitas\, on line\, desde la web: www.vitaeventsformacion.es/mieres \n  \nA partir del 26 de mayo\, a las 9:00h\,  se abre la inscripción para la edición estival de estos campamentos urbanos para niños/as de 3 a 12 años\, que se desarrollará en cuatro quincenas durante los meses de julio y agosto en el patio de los colegios Liceo Mierense y Aniceto Sela en horario de 10 a 14 horas. \n  \nREQUISITOS: \n\nTener entre 3 años (niños/as que hayan cumplido la edad y hayan sido previamente escolarizados/as) y 12 años.\nAsistencia obligatoria. Una ausencia de dos días consecutivos sin justificar será motivo de cancelación de plaza.\n\nADJUDICACIÓN Y LISTAS DE ESPERA: \n\nEl criterio de adjudicación es el orden de llegada de las solicitudes.\nEste verano deben escoger sus opciones en orden de preferencia\, ya que cada familia obtendrá plaza únicamente en una de ellas. Solo en caso de que las plazas de alguna quincena no se cubran al 100%\, se tomará en cuenta la solicitud de familias que ya hayan obtenido plaza en otra.\nLas plazas se adjudican por orden de llegada. Si queda en lista de espera\, será informado/a de ello. Cuando otra familia cancele\, iremos avisando en orden de entrada en la lista de espera para ofrecer las vacantes.\nRogamos que si se le adjudica una plaza y finalmente no la necesita\, nos avise para poder mover las listas de espera. Otra familia puede aprovechar la plaza si usted no la necesita.\n\n  \nEl programa de Vacaciones Activas Movámonos Xunt@s tiene como objetivo ofrecer actividades de ocio y deporte a los y las peques fuera de la rutina escolar y\, al mismo tiempo\, ofertar un recurso para las familias\, que pueden así organizar su tiempo y el de los y las menores en la época estival\, facilitando así la conciliación personal y laboral. Además\, este programa se centra en actividades lúdicas y formativas acordes al desarrollo intelectual y motriz de los y las participantes\, inculcando siempre valores y actitudes de respeto\, cooperación\, igualdad y tolerancia a través de talleres y juegos compartidos. \n  \nPara más información pueden llamar al 985308317 (lunes a viernes de 9:00h a 14:00h/lunes a jueves de 16:00 a 18:00h) o escribir un email a preinscripcion@vitaevents.es \n\n 
URL:https://www.mieres.es/evento/movamonos-xunts-vacaciones-activas-verano-2025-2a-quincena-16-31jul-2/
LOCATION:Patio colegio Liceo/Aniceto Sela\, Colegio Público Liceo Mierense\, Mieres\, Asturias\, 33600 
CATEGORIES:Juventud e Infancia
ATTACH;FMTTYPE=image/jpeg:https://www.mieres.es/wp-content/uploads/2025/05/MIERES-movamonos-xuntos-VERANO-2025.jpg
ORGANIZER;CN="Concejal%C3%ADa%20de%20Infancia%20y%20Juventud":MAILTO:oij@ayto-mieres.es
GEO:43.249719;-5.7785282
X-APPLE-STRUCTURED-LOCATION;VALUE=URI;X-ADDRESS=Patio colegio Liceo/Aniceto Sela Colegio Público Liceo Mierense Mieres Asturias 33600;X-APPLE-RADIUS=500;X-TITLE=Colegio Público Liceo Mierense:geo:-5.7785282,43.249719
END:VEVENT
BEGIN:VEVENT
DTSTART;TZID=Europe/Madrid:20250731T090000
DTEND;TZID=Europe/Madrid:20250731T090000
DTSTAMP:20260421T064429
CREATED:20250703T092826Z
LAST-MODIFIED:20250703T092826Z
UID:74999-1753952400-1753952400@www.mieres.es
SUMMARY:Rutas Turísticas 2025: "Georuta por el Pico Polio" (31JUL)
DESCRIPTION:RUTAS TURÍSTICAS GRATUITAS 2025\nEste verano DISFRUTA MIERES\n  \nGEORUTA POR EL PICO POLIO\nRuta de senderismo guiada al Pico Polio\, en la que descubrirás los aspectos geológicos más relevantes del entorno y de la Cuenca Carbonífera Central. \nDETALLES DE LA ACTIVIDAD \n\nFecha: jueves 31 de julio y sábado 30 de agosto.\nHora: 9:00 h\nPunto de encuentro: área recreativa de Rozamayor “El Rancho”.\nEnlace Google maps: https://maps.app.goo.gl/3YEYXJoRt6BZE7Dp8\nDuración aproximada: 4-5 horas.\nEdad mínima de los participantes: 8 años y acostumbrados a caminar.\nDistancia aproximada: 8 km 680 m\nDesnivel positivo: 373 m\nDesnivel negativo: 373 m\nDificultad: moderada.\nServicios incluidos: guía de montaña en español.\nServicios no incluidos: traslados al punto de encuentro.\nAccesibilidad: esta ruta no es accesible para personas con movilidad reducida.\nMaterial necesario: ropa y calzado de montaña (obligatorio); agua.\nMaterial recomendable: chubasquero o cortavientos\, gorra\, gafas de sol y protección solar.\nCuándo reservar: puedes hacerlo hasta 48 horas antes de la actividad\, siempre y cuando haya plazas disponibles.\nMascotas: no permitidas\n\nEsta actividad necesita un mínimo de 5 participantes. En caso de no alcanzar ese número\, nos pondremos en contacto contigo para comunicártelo.\n\n  \nRESERVAS \nPlazas limitadas. Imprescindible formalizar reserva previa con 48 horas de antelación a la actividad. \nLa reserva se realizará a través del formulario online disponible en esta misma web\, más abajo. Unos días antes de la actividad le enviaremos un mensaje de confirmación para informarle de todos los detalles de la ruta. \n  \nCANCELACIONES \nPara cancelar la reserva realizada será necesario contactar con la Oficina de Turismo de Mieres a través de cualquiera de los siguientes medios: \n\nTfno.: 985 45 05 33\nE-mail: turismo@ayto-mieres.es\nWhastApp: https://wa.me/message/7WTB3WTX46UYE1\n\nLas plazas son limitadas y se habilitan listas de espera para suplir posibles cancelaciones\, motivo por el cual\, en el caso de que no puedan asistir a la ruta\, rogamos nos lo comuniquen con antelación para poder asignar las plazas a las personas que se encuentran en lista de espera. \nMás información: Oficina de Turismo de Mieres\, C/Manuel Llaneza\, 8. Tfno. 985450533. E-mail turismo@ayto-mieres.es \n\n  \nRutas Turísticas 2025 \nLa Concejalía de Turismo del Ayuntamiento de Mieres pone en marcha una nueva edición del programa “Este verano\, DISFRUTA MIERES”\, una iniciativa que el pasado año obtuvo una gran respuesta por parte de la ciudadanía\, con más de 500 personas participantes –la gran mayoría de otras comunidades autónomas y también visitantes internacionales y de Asturias– en las citas organizadas\, y que este año llega con novedades: más visitas y rutas guiadas\, una ruta de la Revolución de Octubre del 34 y una visita monográfica al Santuario de los Mártires\, además de ampliar las salidas del bus turístico\, que hará su recorrido todos los domingos de julio y agosto.\nGeorrutas\, rutas etnográficas\, cicloturistas\, senderistas\, visitas guiadas… De todo y para todos los gustos y públicos en una programación que se alargará durante todo el verano.\nTodas las actividades son gratuitas y para participar\, puesto que las plazas son limitadas\, será necesario formalizar reserva previa en los formularios online ofrecidos en cada una de las citas de nuestra agenda. \nConsulta y descarga el programa completo aquí \n  \n\n  \n \nCargando… 
URL:https://www.mieres.es/evento/rutas-turisticas-2025-georuta-por-el-pico-polio-31jul/
LOCATION:Área Recreativa de Rozamayor\, https://maps.app.goo.gl/3YEYXJoRt6BZE7Dp8
CATEGORIES:Ruta Turística,Turismo
ATTACH;FMTTYPE=image/jpeg:https://www.mieres.es/wp-content/uploads/2025/07/CARTEL_rutasTuristicasMieres25.jpg
ORGANIZER;CN="Concejal%C3%ADa%20de%20Turismo":MAILTO:turismo@ayto-mieres.es
END:VEVENT
BEGIN:VEVENT
DTSTART;TZID=Europe/Madrid:20250731T110000
DTEND;TZID=Europe/Madrid:20250731T130000
DTSTAMP:20260421T064429
CREATED:20250613T112726Z
LAST-MODIFIED:20250613T112726Z
UID:74687-1753959600-1753966800@www.mieres.es
SUMMARY:Corre que juegas\, en Uxo (3/31JUL)
DESCRIPTION:  \nCORRE QUE JUEGAS\nEn Uxo\nTodos los jueves\, del 3 al 31 de julio\, de 11 a 13:00h.\nFrente al Polideportivo \nPara niños y niñas de entre 5 y 16 años\nNo es necesaria inscripción \n\n  \nGenerar espacios con multiactividades para niños y niñas es una excelente oportunidad para fomentar el deporte\, la actividad física y unos hábitos de vida saludables desde una edad temprana. La metodología a utilizar debe ser inclusiva\, dinámica y adecuada a las diferentes edades y capacidades de l@s participantes. \nDiseñamos un programa que incluye una variedad de deportes\, juegos y actividades físicas. Esto no solo ayuda a desarrollar habilidades físicas diversas\, sino que también permite a los niños y niñas descubrir qué deportes y actividades son con los que se sienten más cómodos y cuáles se adaptan mejor a sus intereses y habilidades individuales. \nActividades dinámicas\, activas y cooperativas en las que volvamos a tomar la calle como espacio de juego dejando de lado las pantallas. \nLa metodología debe enfocarse en el aprendizaje basado en nuestro lema #aprenderjugando. Utilizar juegos y actividades lúdicas facilita la enseñanza de técnicas y reglas\, al mismo tiempo que mantiene el interés y la diversión entre l@s jóvenes participantes. Es crucial que cada actividad esté adaptada a la edad y capacidad delos niños y niñas\, proporcionando desafíos adecuados que promuevan su desarrollo físico y mental. \nOrganizado por la Concejalía de Infancia de Juventud y realizado por Blinca\, empresa de ocio\, tiempo libre y educación\, y desarrollado por 5 monitores/ monitoras con una titulación mínima de Monitor/a de Ocio y tiempo libre y un coordinador o coordinadora con titulación mínima de Dirección de Ocio y Tiempo libre que además será la figura de “Delegada de Protección”. \n\nEstas actividades están destinadas a niños y niñas de entre 5 y 16 años.\nLas inscripciones de los menores de 11 años deben hacerse con la compañía de un adulto responsable\nque firmará la autorización en el mismo lugar.\nEl ratio será de un máximo de 15 niños y niñas por monitor y monitora. En el caso tener usuarios con\nNEE y/o Diversidad funcional este ratio será de 5 niños y niñas por monitor/monitora.\n\n  \nOBJETIVOS \n\nFomentar la Conciliación Laboral y Familiar\nGenerar un entorno saludable en el que se fomenten valores como el trabajo en equipo\, relaciones interpersonales\, igualdad y cooperación\nDesarrollar una programación de calidad ofreciendo contenidos como: juegos\, gymkanas\, talleres\, actividades deportivas\, etc.\nTrabajar\, de forma planificada\, los valores que el deporte tiene implícitos como son el compañerismo\, el respeto\, el trabajo en equipo…\nAprender jugando
URL:https://www.mieres.es/evento/corre-que-juegas-en-uxo-3-31jul/2025-07-31/
LOCATION:Polideportivo de Returbiu\, Rioturbio\, 33614
CATEGORIES:Juventud e Infancia
ATTACH;FMTTYPE=image/jpeg:https://www.mieres.es/wp-content/uploads/2025/06/Cartel-corre-que-juegas-mieres-2025.jpg
ORGANIZER;CN="Concejal%C3%ADa%20de%20Infancia%20y%20Juventud":MAILTO:oij@ayto-mieres.es
GEO:43.2653376;-5.7388431
END:VEVENT
END:VCALENDAR