BEGIN:VCALENDAR
VERSION:2.0
PRODID:-//Ayuntamiento de Mieres - ECPv5.16.1.1//NONSGML v1.0//EN
CALSCALE:GREGORIAN
METHOD:PUBLISH
X-WR-CALNAME:Ayuntamiento de Mieres
X-ORIGINAL-URL:https://www.mieres.es
X-WR-CALDESC:Eventos para Ayuntamiento de Mieres
BEGIN:VTIMEZONE
TZID:Europe/Madrid
BEGIN:DAYLIGHT
TZOFFSETFROM:+0100
TZOFFSETTO:+0200
TZNAME:CEST
DTSTART:20250330T010000
END:DAYLIGHT
BEGIN:STANDARD
TZOFFSETFROM:+0200
TZOFFSETTO:+0100
TZNAME:CET
DTSTART:20251026T010000
END:STANDARD
END:VTIMEZONE
BEGIN:VEVENT
DTSTART;VALUE=DATE:20250808
DTEND;VALUE=DATE:20250809
DTSTAMP:20260421T064242
CREATED:20250717T095919Z
LAST-MODIFIED:20250717T095919Z
UID:75099-1754611200-1754697599@www.mieres.es
SUMMARY:Fiestes de San Tirso 2025 (8/11AGO)
DESCRIPTION:Festejos \nFiestas de San Tirso 2025\n\nViernes 8\, sábado 9\, domingo 10 y lunes 11 de agosto \nSan Tirso \n\n 
URL:https://www.mieres.es/evento/fiestes-de-san-tirso-2025-8-11ago/2025-08-08/
LOCATION:San Tirso\, 33617\, Mieres\, Asturias\, Asturias\, 33617
CATEGORIES:Festejos
ATTACH;FMTTYPE=image/jpeg:https://www.mieres.es/wp-content/uploads/2025/07/cartel-fiestas-san-tirso-2025.jpg
END:VEVENT
BEGIN:VEVENT
DTSTART;TZID=Europe/Madrid:20250808T170000
DTEND;TZID=Europe/Madrid:20250808T170000
DTSTAMP:20260421T064242
CREATED:20250702T093956Z
LAST-MODIFIED:20250702T094439Z
UID:74963-1754672400-1754672400@www.mieres.es
SUMMARY:Rutas Turísticas 2025: "Ruta etnográfica por Lloreo" (8AGO)
DESCRIPTION:RUTAS TURÍSTICAS GRATUITAS 2025\nEste verano DISFRUTA MIERES\n  \nRUTA ETNOGRÁFICA POR LLOREO\nEn esta ruta guiada conocerás los elementos etnográficos más representativos presentes en la localidad de Lloreo\, así como los aspectos más relevantes y curiosidades de una de las construcciones más características de nuestra arquitectura popular\, el hórreo. \n  \nDETALLES DE LA ACTIVIDAD \n\nFechas: viernes 8 de agosto y viernes 5 de septiembre.\nHora: 17:00 h.\nPunto de encuentro: iglesia de San Pedro de Lloreo.\nEnlace Google maps: https://maps.app.goo.gl/K67eMV78jVCuHHui8\nItinerario guiado a pie. Imprescindible calzado deportivo.\nDuración aproximada: 2 h.\nServicios incluidos: guía en español.\nServicios no incluidos: traslados al punto de encuentro.\nEdad mínima: no establecida.\nCuándo reservar: puedes hacerlo hasta 48 horas antes de la actividad\, siempre y cuando haya plazas disponibles.\nMascotas: no permitidas.\nEsta actividad necesita un mínimo de 5 participantes. En caso de no alcanzar ese número\, nos pondremos en contacto contigo para comunicártelo.\n\n  \nRESERVAS \nPlazas limitadas. Imprescindible formalizar reserva previa con 48 horas de antelación a la actividad. \nLa reserva se realizará a través del formulario online disponible en esta misma web\, más abajo. Unos días antes de la actividad le enviaremos un mensaje de confirmación para informarle de todos los detalles de la ruta. \n  \nCANCELACIONES \nPara cancelar la reserva realizada será necesario contactar con la Oficina de Turismo de Mieres a través de cualquiera de los siguientes medios: \n\nTfno.: 985 45 05 33\nE-mail: turismo@ayto-mieres.es\nWhastApp: https://wa.me/message/7WTB3WTX46UYE1\n\nLas plazas son limitadas y se habilitan listas de espera para suplir posibles cancelaciones\, motivo por el cual\, en el caso de que no puedan asistir a la ruta\, rogamos nos lo comuniquen con antelación para poder asignar las plazas a las personas que se encuentran en lista de espera. \nMás información: Oficina de Turismo de Mieres\, C/Manuel Llaneza\, 8. Tfno. 985450533. E-mail turismo@ayto-mieres.es \n\n  \nRutas Turísticas 2025 \nLa Concejalía de Turismo del Ayuntamiento de Mieres pone en marcha una nueva edición del programa “Este verano\, DISFRUTA MIERES”\, una iniciativa que el pasado año obtuvo una gran respuesta por parte de la ciudadanía\, con más de 500 personas participantes –la gran mayoría de otras comunidades autónomas y también visitantes internacionales y de Asturias– en las citas organizadas\, y que este año llega con novedades: más visitas y rutas guiadas\, una ruta de la Revolución de Octubre del 34 y una visita monográfica al Santuario de los Mártires\, además de ampliar las salidas del bus turístico\, que hará su recorrido todos los domingos de julio y agosto.\nGeorrutas\, rutas etnográficas\, cicloturistas\, senderistas\, visitas guiadas… De todo y para todos los gustos y públicos en una programación que se alargará durante todo el verano.\nTodas las actividades son gratuitas y para participar\, puesto que las plazas son limitadas\, será necesario formalizar reserva previa en los formularios online ofrecidos en cada una de las citas de nuestra agenda. \nConsulta y descarga el programa completo aquí \n  \n\n  \n \nCargando… 
URL:https://www.mieres.es/evento/rutas-turisticas-2025-ruta-etnografica-por-lloreo-8ago/
LOCATION:Lloreo\, Asturias
CATEGORIES:Ruta Turística,Turismo
ATTACH;FMTTYPE=image/jpeg:https://www.mieres.es/wp-content/uploads/2025/07/CARTEL_rutasTuristicasMieres25.jpg
ORGANIZER;CN="Concejal%C3%ADa%20de%20Turismo":MAILTO:turismo@ayto-mieres.es
GEO:43.3613953;-5.8593267
END:VEVENT
END:VCALENDAR