BEGIN:VCALENDAR
VERSION:2.0
PRODID:-//Ayuntamiento de Mieres - ECPv5.16.1.1//NONSGML v1.0//EN
CALSCALE:GREGORIAN
METHOD:PUBLISH
X-WR-CALNAME:Ayuntamiento de Mieres
X-ORIGINAL-URL:https://www.mieres.es
X-WR-CALDESC:Eventos para Ayuntamiento de Mieres
BEGIN:VTIMEZONE
TZID:Europe/Madrid
BEGIN:DAYLIGHT
TZOFFSETFROM:+0100
TZOFFSETTO:+0200
TZNAME:CEST
DTSTART:20250330T010000
END:DAYLIGHT
BEGIN:STANDARD
TZOFFSETFROM:+0200
TZOFFSETTO:+0100
TZNAME:CET
DTSTART:20251026T010000
END:STANDARD
END:VTIMEZONE
BEGIN:VEVENT
DTSTART;VALUE=DATE:20250813
DTEND;VALUE=DATE:20250814
DTSTAMP:20260421T064424
CREATED:20250801T124441Z
LAST-MODIFIED:20250801T124441Z
UID:75147-1755043200-1755129599@www.mieres.es
SUMMARY:Stand #ExperienciaINCIBE (Instituto Nacional de Ciberseguridad)\, en Mieres
DESCRIPTION:  \n \n\n  \nInformática/Ciberseguridad \nStand #ExperienciaINCIBE\, en Mieres\n  \n\n📅 Fechas: 12 y 13 de agosto de 2025 \n\n\n🕘 Horario: 10:00 a 14:00 h y de 17:00 a 21:00 h \n\n\n🎓 Edad: Desde 10 años\, sin límite de edad \n\n\n📍 Lugar: Casa de Cultura Teodoro Cuesta. C. Manuel Llaneza\, 8\, 33600 Mieres\, Asturias \n\n\n⏳ Duración: 30 minutos por grupo \n\n\n🚪 Acceso gratuito \n  \n\n\n\nEn la era digital actual\, todos estamos expuestos a ciberamenazas: mensajes fraudulentos\, noticias falsas\, aplicaciones maliciosas… ¿Quieres aprender a protegerte en el mundo digital de una manera divertida y emocionante? \nEsta iniciativa te brinda la oportunidad de hacerlo de una manera divertida e interactiva. En este juego adaptado a diferentes niveles de conocimiento\, aprenderás sobre las principales amenazas digitales cotidianas\, cómo protegerte en línea y cómo utilizar Internet de manera responsable. \n\n\nAunque la visita puede ser individual dentro del horario indicado\, si quieres venir en grupo o deseas más información\, escríbenos a stand@incibe.es o llámanos al siguiente número de teléfono 919053163 indicando: \n\nNº de participantes:\nEdades:\nFecha y hora de preferencia:\nNombre y teléfono de contacto:\n\nAgendaremos los grupos por orden de llegada en función de los huecos que queden. \n\n\n \n 
URL:https://www.mieres.es/evento/stand-experienciaincibe-instituto-nacional-de-ciberseguridad-en-mieres-2/
LOCATION:Casa de Cultura Teodoro Cuesta\, Calle Manuel Llaneza\, 8\, Mieres\, Asturias\, 33600\, España
CATEGORIES:Juventud e Infancia
ATTACH;FMTTYPE=image/jpeg:https://www.mieres.es/wp-content/uploads/2025/08/Incibe-Mieres-agosto-2025.jpeg
GEO:43.2502294;-5.7729571
X-APPLE-STRUCTURED-LOCATION;VALUE=URI;X-ADDRESS=Casa de Cultura Teodoro Cuesta Calle Manuel Llaneza 8 Mieres Asturias 33600 España;X-APPLE-RADIUS=500;X-TITLE=Calle Manuel Llaneza\, 8:geo:-5.7729571,43.2502294
END:VEVENT
BEGIN:VEVENT
DTSTART;TZID=Europe/Madrid:20250813T160000
DTEND;TZID=Europe/Madrid:20250813T170000
DTSTAMP:20260421T064424
CREATED:20260115T130146Z
LAST-MODIFIED:20260115T130146Z
UID:77257-1755100800-1755104400@www.mieres.es
SUMMARY:Talleres de capacitación familiar
DESCRIPTION:Promoción de la salud \nTalleres de capacitación familiar\nImpartido por Fundación Siloé \nCasa de las Mujeres\, de 16 a 17:00 h\nLos jueves 15\, 22 y 29 de enero\, 5 y 12 de febrero \nInscripciones gratuitas online\, a través del formulario ofrecido en esta misma página \n\n\n\n\nEstos talleres se enmarcan dentro de la promoción de la salud\, trabajando a nivel de capacitación familiar sobre:\n\nEtapas evolutivas del desarrollo.\nLa crianza y estilos educativos.\nRegulación emocional y vínculo.\nHabilidades comunicativas.\nFormas de aprendizaje\, normas y límites.
URL:https://www.mieres.es/evento/talleres-de-capacitacion-familiar/2025-08-13/
LOCATION:Casa de las Mujeres\, C/ Jerónimo Ibrán 19\, Mieres\, Asturias\, 33600\, España
CATEGORIES:Salud,Taller
ATTACH;FMTTYPE=image/jpeg:https://www.mieres.es/wp-content/uploads/2026/01/Talleres-Capacitacion-Familiar-2026.jpg
GEO:43.2512334;-5.7731606
X-APPLE-STRUCTURED-LOCATION;VALUE=URI;X-ADDRESS=Casa de las Mujeres C/ Jerónimo Ibrán 19 Mieres Asturias 33600 España;X-APPLE-RADIUS=500;X-TITLE=C/ Jerónimo Ibrán 19:geo:-5.7731606,43.2512334
END:VEVENT
END:VCALENDAR